BEGIN:VCALENDAR
VERSION:2.0
PRODID:-//International Women&#039;s Association of Prague - ECPv6.15.20//NONSGML v1.0//EN
CALSCALE:GREGORIAN
METHOD:PUBLISH
X-WR-CALNAME:International Women&#039;s Association of Prague
X-ORIGINAL-URL:https://iwa-prague.com
X-WR-CALDESC:Events for International Women&#039;s Association of Prague
REFRESH-INTERVAL;VALUE=DURATION:PT1H
X-Robots-Tag:noindex
X-PUBLISHED-TTL:PT1H
BEGIN:VTIMEZONE
TZID:Europe/Prague
BEGIN:DAYLIGHT
TZOFFSETFROM:+0100
TZOFFSETTO:+0200
TZNAME:CEST
DTSTART:20230326T010000
END:DAYLIGHT
BEGIN:STANDARD
TZOFFSETFROM:+0200
TZOFFSETTO:+0100
TZNAME:CET
DTSTART:20231029T010000
END:STANDARD
BEGIN:DAYLIGHT
TZOFFSETFROM:+0100
TZOFFSETTO:+0200
TZNAME:CEST
DTSTART:20240331T010000
END:DAYLIGHT
BEGIN:STANDARD
TZOFFSETFROM:+0200
TZOFFSETTO:+0100
TZNAME:CET
DTSTART:20241027T010000
END:STANDARD
BEGIN:DAYLIGHT
TZOFFSETFROM:+0100
TZOFFSETTO:+0200
TZNAME:CEST
DTSTART:20250330T010000
END:DAYLIGHT
BEGIN:STANDARD
TZOFFSETFROM:+0200
TZOFFSETTO:+0100
TZNAME:CET
DTSTART:20251026T010000
END:STANDARD
END:VTIMEZONE
BEGIN:VEVENT
DTSTART;TZID=Europe/Prague:20241031T140000
DTEND;TZID=Europe/Prague:20241031T153000
DTSTAMP:20260424T151950
CREATED:20241007T152011Z
LAST-MODIFIED:20241016T121451Z
UID:10003401-1730383200-1730388600@iwa-prague.com
SUMMARY:Tour of Olšany Cemetery
DESCRIPTION:Join us on a special visit and tour of Olšany Cemetery\, the largest graveyard in Prague. This unique tour is called “Badass women of Olšany Cemeteries” and for an hour and a half\, our guide will help us discover emblematic women of the Czech Republic\, such as Karolina Světlá\, Eliška Krásnohorská\, Hana Podolská the “Czech Coco Chanel”\, and the entrepreneur Anna Náprstková amongst others. This beautiful cemetery dates from 1680 to bury the victims of plague outside the city limits and when the plague struck again a century later\, Emperor Joseph II enacted a series of hygiene reforms and Olšany became the city’s official cemetery.  \nThis beautifully planned public space has a large number of elaborate art nouveau grave monuments and we are sure you are going to enjoy its nostalgic paths\, while learning about women’s role in Czech history.   \nFor more information and to sign up please email culturalevents@iwa-prague.com.
URL:https://iwa-prague.com/event/discover-emblematic-women-on-a-tour-of-olsany-cemetery/
LOCATION:Olšanské hřbitovy I.\, Vinohradská 1835/153\, Prague 3\, 130 00\, Czech Republic
CATEGORIES:Cultural Events & Excursions
ATTACH;FMTTYPE=image/jpeg:https://iwa-prague.com/wp-content/uploads/2024/10/cemetery-4653166_1280.jpg
ORGANIZER;CN="Brigitte Lintner":MAILTO:culturalevents@iwa-prague.com
END:VEVENT
END:VCALENDAR