BEGIN:VCALENDAR
VERSION:2.0
PRODID:-//International Women&#039;s Association of Prague - ECPv6.15.20//NONSGML v1.0//EN
CALSCALE:GREGORIAN
METHOD:PUBLISH
X-WR-CALNAME:International Women&#039;s Association of Prague
X-ORIGINAL-URL:https://iwa-prague.com
X-WR-CALDESC:Events for International Women&#039;s Association of Prague
REFRESH-INTERVAL;VALUE=DURATION:PT1H
X-Robots-Tag:noindex
X-PUBLISHED-TTL:PT1H
BEGIN:VTIMEZONE
TZID:Europe/Prague
BEGIN:DAYLIGHT
TZOFFSETFROM:+0100
TZOFFSETTO:+0200
TZNAME:CEST
DTSTART:20240331T010000
END:DAYLIGHT
BEGIN:STANDARD
TZOFFSETFROM:+0200
TZOFFSETTO:+0100
TZNAME:CET
DTSTART:20241027T010000
END:STANDARD
BEGIN:DAYLIGHT
TZOFFSETFROM:+0100
TZOFFSETTO:+0200
TZNAME:CEST
DTSTART:20250330T010000
END:DAYLIGHT
BEGIN:STANDARD
TZOFFSETFROM:+0200
TZOFFSETTO:+0100
TZNAME:CET
DTSTART:20251026T010000
END:STANDARD
BEGIN:DAYLIGHT
TZOFFSETFROM:+0100
TZOFFSETTO:+0200
TZNAME:CEST
DTSTART:20260329T010000
END:DAYLIGHT
BEGIN:STANDARD
TZOFFSETFROM:+0200
TZOFFSETTO:+0100
TZNAME:CET
DTSTART:20261025T010000
END:STANDARD
END:VTIMEZONE
BEGIN:VEVENT
DTSTART;TZID=Europe/Prague:20250506T100000
DTEND;TZID=Europe/Prague:20250506T110000
DTSTAMP:20260424T094148
CREATED:20250411T143521Z
LAST-MODIFIED:20250411T143521Z
UID:10007004-1746525600-1746529200@iwa-prague.com
SUMMARY:Obecni Dum Tour
DESCRIPTION:Join us for this guided tour in English around the beautiful Obecni dum (Municipal House) building located in the heart of Prague next to the Powder Gate. It is a civic building that holds the Smetana Hall\, a popular venue for concerts. \nWhen: Tuesday 6 May \nTime: 10:00 – 11:00 \nWhere: Obecni dum\, náměstí Republiky 1090/5\, Prague 1 \nCost: adult 320 CZK\, seniors 60+ 270 CZK \nTour length: approximately 60 minutes \nNearest metro/tram: náměstí Republiky \nTo sign up please click here by 22 April.
URL:https://iwa-prague.com/event/obecni-dum-tour/
LOCATION:Obecni Dum
CATEGORIES:Cultural Events & Excursions
ATTACH;FMTTYPE=image/jpeg:https://iwa-prague.com/wp-content/uploads/2025/04/obecni-dum-OPT.jpg
ORGANIZER;CN="Brigitte Lintner":MAILTO:culturalevents@iwa-prague.com
END:VEVENT
END:VCALENDAR