BEGIN:VCALENDAR
VERSION:2.0
PRODID:-//International Women&#039;s Association of Prague - ECPv6.15.20//NONSGML v1.0//EN
CALSCALE:GREGORIAN
METHOD:PUBLISH
X-ORIGINAL-URL:https://iwa-prague.com
X-WR-CALDESC:Events for International Women&#039;s Association of Prague
REFRESH-INTERVAL;VALUE=DURATION:PT1H
X-Robots-Tag:noindex
X-PUBLISHED-TTL:PT1H
BEGIN:VTIMEZONE
TZID:Europe/Prague
BEGIN:DAYLIGHT
TZOFFSETFROM:+0100
TZOFFSETTO:+0200
TZNAME:CEST
DTSTART:20290325T010000
END:DAYLIGHT
BEGIN:STANDARD
TZOFFSETFROM:+0200
TZOFFSETTO:+0100
TZNAME:CET
DTSTART:20291028T010000
END:STANDARD
BEGIN:DAYLIGHT
TZOFFSETFROM:+0100
TZOFFSETTO:+0200
TZNAME:CEST
DTSTART:20300331T010000
END:DAYLIGHT
BEGIN:STANDARD
TZOFFSETFROM:+0200
TZOFFSETTO:+0100
TZNAME:CET
DTSTART:20301027T010000
END:STANDARD
BEGIN:DAYLIGHT
TZOFFSETFROM:+0100
TZOFFSETTO:+0200
TZNAME:CEST
DTSTART:20310330T010000
END:DAYLIGHT
BEGIN:STANDARD
TZOFFSETFROM:+0200
TZOFFSETTO:+0100
TZNAME:CET
DTSTART:20311026T010000
END:STANDARD
END:VTIMEZONE
BEGIN:VEVENT
DTSTART;TZID=Europe/Prague:20300510T100000
DTEND;TZID=Europe/Prague:20300510T120000
DTSTAMP:20260423T165406
CREATED:20241030T085257Z
LAST-MODIFIED:20260109T125822Z
UID:10007263-1904637600-1904644800@iwa-prague.com
SUMMARY:Friday Book Club
DESCRIPTION:
URL:https://iwa-prague.com/event/friday-book-club-2/2030-05-10/
CATEGORIES:Art & Culture
ATTACH;FMTTYPE=image/jpeg:https://iwa-prague.com/wp-content/uploads/2024/09/fribookclub-apr-2024-001-1-scaled.jpg
ORGANIZER;CN="Laurie Barnes":MAILTO:fridaybookclub@iwa-prague.com
END:VEVENT
BEGIN:VEVENT
DTSTART;TZID=Europe/Prague:20300614T100000
DTEND;TZID=Europe/Prague:20300614T120000
DTSTAMP:20260423T165406
CREATED:20241030T085257Z
LAST-MODIFIED:20260109T125822Z
UID:10008700-1907661600-1907668800@iwa-prague.com
SUMMARY:Friday Book Club
DESCRIPTION:
URL:https://iwa-prague.com/event/friday-book-club-2/2030-06-14/
CATEGORIES:Art & Culture
ATTACH;FMTTYPE=image/jpeg:https://iwa-prague.com/wp-content/uploads/2024/09/fribookclub-apr-2024-001-1-scaled.jpg
ORGANIZER;CN="Laurie Barnes":MAILTO:fridaybookclub@iwa-prague.com
END:VEVENT
BEGIN:VEVENT
DTSTART;TZID=Europe/Prague:20300712T100000
DTEND;TZID=Europe/Prague:20300712T120000
DTSTAMP:20260423T165406
CREATED:20241030T085257Z
LAST-MODIFIED:20260109T125822Z
UID:10008701-1910080800-1910088000@iwa-prague.com
SUMMARY:Friday Book Club
DESCRIPTION:
URL:https://iwa-prague.com/event/friday-book-club-2/2030-07-12/
CATEGORIES:Art & Culture
ATTACH;FMTTYPE=image/jpeg:https://iwa-prague.com/wp-content/uploads/2024/09/fribookclub-apr-2024-001-1-scaled.jpg
ORGANIZER;CN="Laurie Barnes":MAILTO:fridaybookclub@iwa-prague.com
END:VEVENT
BEGIN:VEVENT
DTSTART;TZID=Europe/Prague:20300809T100000
DTEND;TZID=Europe/Prague:20300809T120000
DTSTAMP:20260423T165406
CREATED:20241030T085257Z
LAST-MODIFIED:20260109T125822Z
UID:10008702-1912500000-1912507200@iwa-prague.com
SUMMARY:Friday Book Club
DESCRIPTION:
URL:https://iwa-prague.com/event/friday-book-club-2/2030-08-09/
CATEGORIES:Art & Culture
ATTACH;FMTTYPE=image/jpeg:https://iwa-prague.com/wp-content/uploads/2024/09/fribookclub-apr-2024-001-1-scaled.jpg
ORGANIZER;CN="Laurie Barnes":MAILTO:fridaybookclub@iwa-prague.com
END:VEVENT
BEGIN:VEVENT
DTSTART;TZID=Europe/Prague:20300913T100000
DTEND;TZID=Europe/Prague:20300913T120000
DTSTAMP:20260423T165406
CREATED:20241030T085257Z
LAST-MODIFIED:20260109T125822Z
UID:10008703-1915524000-1915531200@iwa-prague.com
SUMMARY:Friday Book Club
DESCRIPTION:
URL:https://iwa-prague.com/event/friday-book-club-2/2030-09-13/
CATEGORIES:Art & Culture
ATTACH;FMTTYPE=image/jpeg:https://iwa-prague.com/wp-content/uploads/2024/09/fribookclub-apr-2024-001-1-scaled.jpg
ORGANIZER;CN="Laurie Barnes":MAILTO:fridaybookclub@iwa-prague.com
END:VEVENT
BEGIN:VEVENT
DTSTART;TZID=Europe/Prague:20301011T100000
DTEND;TZID=Europe/Prague:20301011T120000
DTSTAMP:20260423T165406
CREATED:20241030T085257Z
LAST-MODIFIED:20260109T125822Z
UID:10008704-1917943200-1917950400@iwa-prague.com
SUMMARY:Friday Book Club
DESCRIPTION:
URL:https://iwa-prague.com/event/friday-book-club-2/2030-10-11/
CATEGORIES:Art & Culture
ATTACH;FMTTYPE=image/jpeg:https://iwa-prague.com/wp-content/uploads/2024/09/fribookclub-apr-2024-001-1-scaled.jpg
ORGANIZER;CN="Laurie Barnes":MAILTO:fridaybookclub@iwa-prague.com
END:VEVENT
BEGIN:VEVENT
DTSTART;TZID=Europe/Prague:20301108T100000
DTEND;TZID=Europe/Prague:20301108T120000
DTSTAMP:20260423T165406
CREATED:20241030T085257Z
LAST-MODIFIED:20260109T125822Z
UID:10008705-1920362400-1920369600@iwa-prague.com
SUMMARY:Friday Book Club
DESCRIPTION:
URL:https://iwa-prague.com/event/friday-book-club-2/2030-11-08/
CATEGORIES:Art & Culture
ATTACH;FMTTYPE=image/jpeg:https://iwa-prague.com/wp-content/uploads/2024/09/fribookclub-apr-2024-001-1-scaled.jpg
ORGANIZER;CN="Laurie Barnes":MAILTO:fridaybookclub@iwa-prague.com
END:VEVENT
BEGIN:VEVENT
DTSTART;TZID=Europe/Prague:20301213T100000
DTEND;TZID=Europe/Prague:20301213T120000
DTSTAMP:20260423T165406
CREATED:20241030T085257Z
LAST-MODIFIED:20260109T125822Z
UID:10008706-1923386400-1923393600@iwa-prague.com
SUMMARY:Friday Book Club
DESCRIPTION:
URL:https://iwa-prague.com/event/friday-book-club-2/2030-12-13/
CATEGORIES:Art & Culture
ATTACH;FMTTYPE=image/jpeg:https://iwa-prague.com/wp-content/uploads/2024/09/fribookclub-apr-2024-001-1-scaled.jpg
ORGANIZER;CN="Laurie Barnes":MAILTO:fridaybookclub@iwa-prague.com
END:VEVENT
END:VCALENDAR