BEGIN:VCALENDAR
VERSION:2.0
PRODID:-//International Women&#039;s Association of Prague - ECPv6.15.20//NONSGML v1.0//EN
CALSCALE:GREGORIAN
METHOD:PUBLISH
X-ORIGINAL-URL:https://iwa-prague.com
X-WR-CALDESC:Events for International Women&#039;s Association of Prague
REFRESH-INTERVAL;VALUE=DURATION:PT1H
X-Robots-Tag:noindex
X-PUBLISHED-TTL:PT1H
BEGIN:VTIMEZONE
TZID:Europe/Prague
BEGIN:DAYLIGHT
TZOFFSETFROM:+0100
TZOFFSETTO:+0200
TZNAME:CEST
DTSTART:20270328T010000
END:DAYLIGHT
BEGIN:STANDARD
TZOFFSETFROM:+0200
TZOFFSETTO:+0100
TZNAME:CET
DTSTART:20271031T010000
END:STANDARD
BEGIN:DAYLIGHT
TZOFFSETFROM:+0100
TZOFFSETTO:+0200
TZNAME:CEST
DTSTART:20280326T010000
END:DAYLIGHT
BEGIN:STANDARD
TZOFFSETFROM:+0200
TZOFFSETTO:+0100
TZNAME:CET
DTSTART:20281029T010000
END:STANDARD
BEGIN:DAYLIGHT
TZOFFSETFROM:+0100
TZOFFSETTO:+0200
TZNAME:CEST
DTSTART:20290325T010000
END:DAYLIGHT
BEGIN:STANDARD
TZOFFSETFROM:+0200
TZOFFSETTO:+0100
TZNAME:CET
DTSTART:20291028T010000
END:STANDARD
BEGIN:DAYLIGHT
TZOFFSETFROM:+0100
TZOFFSETTO:+0200
TZNAME:CEST
DTSTART:20300331T010000
END:DAYLIGHT
BEGIN:STANDARD
TZOFFSETFROM:+0200
TZOFFSETTO:+0100
TZNAME:CET
DTSTART:20301027T010000
END:STANDARD
BEGIN:DAYLIGHT
TZOFFSETFROM:+0100
TZOFFSETTO:+0200
TZNAME:CEST
DTSTART:20310330T010000
END:DAYLIGHT
BEGIN:STANDARD
TZOFFSETFROM:+0200
TZOFFSETTO:+0100
TZNAME:CET
DTSTART:20311026T010000
END:STANDARD
END:VTIMEZONE
BEGIN:VEVENT
DTSTART;TZID=Europe/Prague:20280524T190000
DTEND;TZID=Europe/Prague:20280524T220000
DTSTAMP:20260425T025417
CREATED:20250328T121338Z
LAST-MODIFIED:20250605T143738Z
UID:10006130-1842807600-1842818400@iwa-prague.com
SUMMARY:Evening Book Club
DESCRIPTION:
URL:https://iwa-prague.com/event/evening-book-club/2028-05-24/
CATEGORIES:Evening Groups
ATTACH;FMTTYPE=image/jpeg:https://iwa-prague.com/wp-content/uploads/2025/03/books-from-connie-OPT.jpg
ORGANIZER;CN="Connie Shattuck":MAILTO:interestgroups@iwa-prague.com
END:VEVENT
BEGIN:VEVENT
DTSTART;TZID=Europe/Prague:20280628T190000
DTEND;TZID=Europe/Prague:20280628T220000
DTSTAMP:20260425T025417
CREATED:20250328T121338Z
LAST-MODIFIED:20250605T143738Z
UID:10006131-1845831600-1845842400@iwa-prague.com
SUMMARY:Evening Book Club
DESCRIPTION:
URL:https://iwa-prague.com/event/evening-book-club/2028-06-28/
CATEGORIES:Evening Groups
ATTACH;FMTTYPE=image/jpeg:https://iwa-prague.com/wp-content/uploads/2025/03/books-from-connie-OPT.jpg
ORGANIZER;CN="Connie Shattuck":MAILTO:interestgroups@iwa-prague.com
END:VEVENT
BEGIN:VEVENT
DTSTART;TZID=Europe/Prague:20280726T190000
DTEND;TZID=Europe/Prague:20280726T220000
DTSTAMP:20260425T025417
CREATED:20250328T121338Z
LAST-MODIFIED:20250605T143738Z
UID:10006132-1848250800-1848261600@iwa-prague.com
SUMMARY:Evening Book Club
DESCRIPTION:
URL:https://iwa-prague.com/event/evening-book-club/2028-07-26/
CATEGORIES:Evening Groups
ATTACH;FMTTYPE=image/jpeg:https://iwa-prague.com/wp-content/uploads/2025/03/books-from-connie-OPT.jpg
ORGANIZER;CN="Connie Shattuck":MAILTO:interestgroups@iwa-prague.com
END:VEVENT
BEGIN:VEVENT
DTSTART;TZID=Europe/Prague:20280823T190000
DTEND;TZID=Europe/Prague:20280823T220000
DTSTAMP:20260425T025417
CREATED:20250328T121338Z
LAST-MODIFIED:20250605T143738Z
UID:10006133-1850670000-1850680800@iwa-prague.com
SUMMARY:Evening Book Club
DESCRIPTION:
URL:https://iwa-prague.com/event/evening-book-club/2028-08-23/
CATEGORIES:Evening Groups
ATTACH;FMTTYPE=image/jpeg:https://iwa-prague.com/wp-content/uploads/2025/03/books-from-connie-OPT.jpg
ORGANIZER;CN="Connie Shattuck":MAILTO:interestgroups@iwa-prague.com
END:VEVENT
BEGIN:VEVENT
DTSTART;TZID=Europe/Prague:20280927T190000
DTEND;TZID=Europe/Prague:20280927T220000
DTSTAMP:20260425T025417
CREATED:20250328T121338Z
LAST-MODIFIED:20250605T143738Z
UID:10006134-1853694000-1853704800@iwa-prague.com
SUMMARY:Evening Book Club
DESCRIPTION:
URL:https://iwa-prague.com/event/evening-book-club/2028-09-27/
CATEGORIES:Evening Groups
ATTACH;FMTTYPE=image/jpeg:https://iwa-prague.com/wp-content/uploads/2025/03/books-from-connie-OPT.jpg
ORGANIZER;CN="Connie Shattuck":MAILTO:interestgroups@iwa-prague.com
END:VEVENT
BEGIN:VEVENT
DTSTART;TZID=Europe/Prague:20281025T190000
DTEND;TZID=Europe/Prague:20281025T220000
DTSTAMP:20260425T025417
CREATED:20250328T121338Z
LAST-MODIFIED:20250605T143738Z
UID:10006135-1856113200-1856124000@iwa-prague.com
SUMMARY:Evening Book Club
DESCRIPTION:
URL:https://iwa-prague.com/event/evening-book-club/2028-10-25/
CATEGORIES:Evening Groups
ATTACH;FMTTYPE=image/jpeg:https://iwa-prague.com/wp-content/uploads/2025/03/books-from-connie-OPT.jpg
ORGANIZER;CN="Connie Shattuck":MAILTO:interestgroups@iwa-prague.com
END:VEVENT
BEGIN:VEVENT
DTSTART;TZID=Europe/Prague:20281122T190000
DTEND;TZID=Europe/Prague:20281122T220000
DTSTAMP:20260425T025417
CREATED:20250328T121338Z
LAST-MODIFIED:20250605T143738Z
UID:10006136-1858532400-1858543200@iwa-prague.com
SUMMARY:Evening Book Club
DESCRIPTION:
URL:https://iwa-prague.com/event/evening-book-club/2028-11-22/
CATEGORIES:Evening Groups
ATTACH;FMTTYPE=image/jpeg:https://iwa-prague.com/wp-content/uploads/2025/03/books-from-connie-OPT.jpg
ORGANIZER;CN="Connie Shattuck":MAILTO:interestgroups@iwa-prague.com
END:VEVENT
BEGIN:VEVENT
DTSTART;TZID=Europe/Prague:20281227T190000
DTEND;TZID=Europe/Prague:20281227T220000
DTSTAMP:20260425T025417
CREATED:20250328T121338Z
LAST-MODIFIED:20250605T143738Z
UID:10006137-1861556400-1861567200@iwa-prague.com
SUMMARY:Evening Book Club
DESCRIPTION:
URL:https://iwa-prague.com/event/evening-book-club/2028-12-27/
CATEGORIES:Evening Groups
ATTACH;FMTTYPE=image/jpeg:https://iwa-prague.com/wp-content/uploads/2025/03/books-from-connie-OPT.jpg
ORGANIZER;CN="Connie Shattuck":MAILTO:interestgroups@iwa-prague.com
END:VEVENT
BEGIN:VEVENT
DTSTART;TZID=Europe/Prague:20290124T190000
DTEND;TZID=Europe/Prague:20290124T220000
DTSTAMP:20260425T025417
CREATED:20250328T121338Z
LAST-MODIFIED:20250605T143738Z
UID:10006138-1863975600-1863986400@iwa-prague.com
SUMMARY:Evening Book Club
DESCRIPTION:
URL:https://iwa-prague.com/event/evening-book-club/2029-01-24/
CATEGORIES:Evening Groups
ATTACH;FMTTYPE=image/jpeg:https://iwa-prague.com/wp-content/uploads/2025/03/books-from-connie-OPT.jpg
ORGANIZER;CN="Connie Shattuck":MAILTO:interestgroups@iwa-prague.com
END:VEVENT
BEGIN:VEVENT
DTSTART;TZID=Europe/Prague:20290228T190000
DTEND;TZID=Europe/Prague:20290228T220000
DTSTAMP:20260425T025417
CREATED:20250328T121338Z
LAST-MODIFIED:20250605T143738Z
UID:10006139-1866999600-1867010400@iwa-prague.com
SUMMARY:Evening Book Club
DESCRIPTION:
URL:https://iwa-prague.com/event/evening-book-club/2029-02-28/
CATEGORIES:Evening Groups
ATTACH;FMTTYPE=image/jpeg:https://iwa-prague.com/wp-content/uploads/2025/03/books-from-connie-OPT.jpg
ORGANIZER;CN="Connie Shattuck":MAILTO:interestgroups@iwa-prague.com
END:VEVENT
BEGIN:VEVENT
DTSTART;TZID=Europe/Prague:20290328T190000
DTEND;TZID=Europe/Prague:20290328T220000
DTSTAMP:20260425T025417
CREATED:20250328T121338Z
LAST-MODIFIED:20250605T143738Z
UID:10006140-1869418800-1869429600@iwa-prague.com
SUMMARY:Evening Book Club
DESCRIPTION:
URL:https://iwa-prague.com/event/evening-book-club/2029-03-28/
CATEGORIES:Evening Groups
ATTACH;FMTTYPE=image/jpeg:https://iwa-prague.com/wp-content/uploads/2025/03/books-from-connie-OPT.jpg
ORGANIZER;CN="Connie Shattuck":MAILTO:interestgroups@iwa-prague.com
END:VEVENT
BEGIN:VEVENT
DTSTART;TZID=Europe/Prague:20290425T190000
DTEND;TZID=Europe/Prague:20290425T220000
DTSTAMP:20260425T025417
CREATED:20250328T121338Z
LAST-MODIFIED:20250605T143738Z
UID:10006141-1871838000-1871848800@iwa-prague.com
SUMMARY:Evening Book Club
DESCRIPTION:
URL:https://iwa-prague.com/event/evening-book-club/2029-04-25/
CATEGORIES:Evening Groups
ATTACH;FMTTYPE=image/jpeg:https://iwa-prague.com/wp-content/uploads/2025/03/books-from-connie-OPT.jpg
ORGANIZER;CN="Connie Shattuck":MAILTO:interestgroups@iwa-prague.com
END:VEVENT
BEGIN:VEVENT
DTSTART;TZID=Europe/Prague:20290523T190000
DTEND;TZID=Europe/Prague:20290523T220000
DTSTAMP:20260425T025417
CREATED:20250328T121338Z
LAST-MODIFIED:20250605T143738Z
UID:10006142-1874257200-1874268000@iwa-prague.com
SUMMARY:Evening Book Club
DESCRIPTION:
URL:https://iwa-prague.com/event/evening-book-club/2029-05-23/
CATEGORIES:Evening Groups
ATTACH;FMTTYPE=image/jpeg:https://iwa-prague.com/wp-content/uploads/2025/03/books-from-connie-OPT.jpg
ORGANIZER;CN="Connie Shattuck":MAILTO:interestgroups@iwa-prague.com
END:VEVENT
BEGIN:VEVENT
DTSTART;TZID=Europe/Prague:20290627T190000
DTEND;TZID=Europe/Prague:20290627T220000
DTSTAMP:20260425T025417
CREATED:20250328T121338Z
LAST-MODIFIED:20250605T143738Z
UID:10006143-1877281200-1877292000@iwa-prague.com
SUMMARY:Evening Book Club
DESCRIPTION:
URL:https://iwa-prague.com/event/evening-book-club/2029-06-27/
CATEGORIES:Evening Groups
ATTACH;FMTTYPE=image/jpeg:https://iwa-prague.com/wp-content/uploads/2025/03/books-from-connie-OPT.jpg
ORGANIZER;CN="Connie Shattuck":MAILTO:interestgroups@iwa-prague.com
END:VEVENT
BEGIN:VEVENT
DTSTART;TZID=Europe/Prague:20290725T190000
DTEND;TZID=Europe/Prague:20290725T220000
DTSTAMP:20260425T025417
CREATED:20250328T121338Z
LAST-MODIFIED:20250605T143738Z
UID:10006144-1879700400-1879711200@iwa-prague.com
SUMMARY:Evening Book Club
DESCRIPTION:
URL:https://iwa-prague.com/event/evening-book-club/2029-07-25/
CATEGORIES:Evening Groups
ATTACH;FMTTYPE=image/jpeg:https://iwa-prague.com/wp-content/uploads/2025/03/books-from-connie-OPT.jpg
ORGANIZER;CN="Connie Shattuck":MAILTO:interestgroups@iwa-prague.com
END:VEVENT
BEGIN:VEVENT
DTSTART;TZID=Europe/Prague:20290822T190000
DTEND;TZID=Europe/Prague:20290822T220000
DTSTAMP:20260425T025417
CREATED:20250328T121338Z
LAST-MODIFIED:20250605T143738Z
UID:10006145-1882119600-1882130400@iwa-prague.com
SUMMARY:Evening Book Club
DESCRIPTION:
URL:https://iwa-prague.com/event/evening-book-club/2029-08-22/
CATEGORIES:Evening Groups
ATTACH;FMTTYPE=image/jpeg:https://iwa-prague.com/wp-content/uploads/2025/03/books-from-connie-OPT.jpg
ORGANIZER;CN="Connie Shattuck":MAILTO:interestgroups@iwa-prague.com
END:VEVENT
BEGIN:VEVENT
DTSTART;TZID=Europe/Prague:20290926T190000
DTEND;TZID=Europe/Prague:20290926T220000
DTSTAMP:20260425T025417
CREATED:20250328T121338Z
LAST-MODIFIED:20250605T143738Z
UID:10006146-1885143600-1885154400@iwa-prague.com
SUMMARY:Evening Book Club
DESCRIPTION:
URL:https://iwa-prague.com/event/evening-book-club/2029-09-26/
CATEGORIES:Evening Groups
ATTACH;FMTTYPE=image/jpeg:https://iwa-prague.com/wp-content/uploads/2025/03/books-from-connie-OPT.jpg
ORGANIZER;CN="Connie Shattuck":MAILTO:interestgroups@iwa-prague.com
END:VEVENT
BEGIN:VEVENT
DTSTART;TZID=Europe/Prague:20291024T190000
DTEND;TZID=Europe/Prague:20291024T220000
DTSTAMP:20260425T025417
CREATED:20250328T121338Z
LAST-MODIFIED:20250605T143738Z
UID:10006147-1887562800-1887573600@iwa-prague.com
SUMMARY:Evening Book Club
DESCRIPTION:
URL:https://iwa-prague.com/event/evening-book-club/2029-10-24/
CATEGORIES:Evening Groups
ATTACH;FMTTYPE=image/jpeg:https://iwa-prague.com/wp-content/uploads/2025/03/books-from-connie-OPT.jpg
ORGANIZER;CN="Connie Shattuck":MAILTO:interestgroups@iwa-prague.com
END:VEVENT
BEGIN:VEVENT
DTSTART;TZID=Europe/Prague:20291128T190000
DTEND;TZID=Europe/Prague:20291128T220000
DTSTAMP:20260425T025417
CREATED:20250328T121338Z
LAST-MODIFIED:20250605T143738Z
UID:10006148-1890586800-1890597600@iwa-prague.com
SUMMARY:Evening Book Club
DESCRIPTION:
URL:https://iwa-prague.com/event/evening-book-club/2029-11-28/
CATEGORIES:Evening Groups
ATTACH;FMTTYPE=image/jpeg:https://iwa-prague.com/wp-content/uploads/2025/03/books-from-connie-OPT.jpg
ORGANIZER;CN="Connie Shattuck":MAILTO:interestgroups@iwa-prague.com
END:VEVENT
BEGIN:VEVENT
DTSTART;TZID=Europe/Prague:20291226T190000
DTEND;TZID=Europe/Prague:20291226T220000
DTSTAMP:20260425T025417
CREATED:20250328T121338Z
LAST-MODIFIED:20250605T143738Z
UID:10006149-1893006000-1893016800@iwa-prague.com
SUMMARY:Evening Book Club
DESCRIPTION:
URL:https://iwa-prague.com/event/evening-book-club/2029-12-26/
CATEGORIES:Evening Groups
ATTACH;FMTTYPE=image/jpeg:https://iwa-prague.com/wp-content/uploads/2025/03/books-from-connie-OPT.jpg
ORGANIZER;CN="Connie Shattuck":MAILTO:interestgroups@iwa-prague.com
END:VEVENT
BEGIN:VEVENT
DTSTART;TZID=Europe/Prague:20300123T190000
DTEND;TZID=Europe/Prague:20300123T220000
DTSTAMP:20260425T025417
CREATED:20250328T121338Z
LAST-MODIFIED:20250605T143738Z
UID:10006150-1895425200-1895436000@iwa-prague.com
SUMMARY:Evening Book Club
DESCRIPTION:
URL:https://iwa-prague.com/event/evening-book-club/2030-01-23/
CATEGORIES:Evening Groups
ATTACH;FMTTYPE=image/jpeg:https://iwa-prague.com/wp-content/uploads/2025/03/books-from-connie-OPT.jpg
ORGANIZER;CN="Connie Shattuck":MAILTO:interestgroups@iwa-prague.com
END:VEVENT
BEGIN:VEVENT
DTSTART;TZID=Europe/Prague:20300227T190000
DTEND;TZID=Europe/Prague:20300227T220000
DTSTAMP:20260425T025417
CREATED:20250328T121338Z
LAST-MODIFIED:20250605T143738Z
UID:10006151-1898449200-1898460000@iwa-prague.com
SUMMARY:Evening Book Club
DESCRIPTION:
URL:https://iwa-prague.com/event/evening-book-club/2030-02-27/
CATEGORIES:Evening Groups
ATTACH;FMTTYPE=image/jpeg:https://iwa-prague.com/wp-content/uploads/2025/03/books-from-connie-OPT.jpg
ORGANIZER;CN="Connie Shattuck":MAILTO:interestgroups@iwa-prague.com
END:VEVENT
BEGIN:VEVENT
DTSTART;TZID=Europe/Prague:20300327T190000
DTEND;TZID=Europe/Prague:20300327T220000
DTSTAMP:20260425T025417
CREATED:20250328T121338Z
LAST-MODIFIED:20250605T143738Z
UID:10006682-1900868400-1900879200@iwa-prague.com
SUMMARY:Evening Book Club
DESCRIPTION:
URL:https://iwa-prague.com/event/evening-book-club/2030-03-27/
CATEGORIES:Evening Groups
ATTACH;FMTTYPE=image/jpeg:https://iwa-prague.com/wp-content/uploads/2025/03/books-from-connie-OPT.jpg
ORGANIZER;CN="Connie Shattuck":MAILTO:interestgroups@iwa-prague.com
END:VEVENT
BEGIN:VEVENT
DTSTART;TZID=Europe/Prague:20300424T190000
DTEND;TZID=Europe/Prague:20300424T220000
DTSTAMP:20260425T025417
CREATED:20250328T121338Z
LAST-MODIFIED:20250605T143738Z
UID:10007260-1903287600-1903298400@iwa-prague.com
SUMMARY:Evening Book Club
DESCRIPTION:
URL:https://iwa-prague.com/event/evening-book-club/2030-04-24/
CATEGORIES:Evening Groups
ATTACH;FMTTYPE=image/jpeg:https://iwa-prague.com/wp-content/uploads/2025/03/books-from-connie-OPT.jpg
ORGANIZER;CN="Connie Shattuck":MAILTO:interestgroups@iwa-prague.com
END:VEVENT
BEGIN:VEVENT
DTSTART;TZID=Europe/Prague:20300522T190000
DTEND;TZID=Europe/Prague:20300522T220000
DTSTAMP:20260425T025417
CREATED:20250328T121338Z
LAST-MODIFIED:20250605T143738Z
UID:10007261-1905706800-1905717600@iwa-prague.com
SUMMARY:Evening Book Club
DESCRIPTION:
URL:https://iwa-prague.com/event/evening-book-club/2030-05-22/
CATEGORIES:Evening Groups
ATTACH;FMTTYPE=image/jpeg:https://iwa-prague.com/wp-content/uploads/2025/03/books-from-connie-OPT.jpg
ORGANIZER;CN="Connie Shattuck":MAILTO:interestgroups@iwa-prague.com
END:VEVENT
END:VCALENDAR