BEGIN:VCALENDAR
VERSION:2.0
PRODID:-//International Women&#039;s Association of Prague - ECPv6.15.20//NONSGML v1.0//EN
CALSCALE:GREGORIAN
METHOD:PUBLISH
X-ORIGINAL-URL:https://iwa-prague.com
X-WR-CALDESC:Events for International Women&#039;s Association of Prague
REFRESH-INTERVAL;VALUE=DURATION:PT1H
X-Robots-Tag:noindex
X-PUBLISHED-TTL:PT1H
BEGIN:VTIMEZONE
TZID:Europe/Prague
BEGIN:DAYLIGHT
TZOFFSETFROM:+0100
TZOFFSETTO:+0200
TZNAME:CEST
DTSTART:20270328T010000
END:DAYLIGHT
BEGIN:STANDARD
TZOFFSETFROM:+0200
TZOFFSETTO:+0100
TZNAME:CET
DTSTART:20271031T010000
END:STANDARD
BEGIN:DAYLIGHT
TZOFFSETFROM:+0100
TZOFFSETTO:+0200
TZNAME:CEST
DTSTART:20280326T010000
END:DAYLIGHT
BEGIN:STANDARD
TZOFFSETFROM:+0200
TZOFFSETTO:+0100
TZNAME:CET
DTSTART:20281029T010000
END:STANDARD
BEGIN:DAYLIGHT
TZOFFSETFROM:+0100
TZOFFSETTO:+0200
TZNAME:CEST
DTSTART:20290325T010000
END:DAYLIGHT
BEGIN:STANDARD
TZOFFSETFROM:+0200
TZOFFSETTO:+0100
TZNAME:CET
DTSTART:20291028T010000
END:STANDARD
BEGIN:DAYLIGHT
TZOFFSETFROM:+0100
TZOFFSETTO:+0200
TZNAME:CEST
DTSTART:20300331T010000
END:DAYLIGHT
BEGIN:STANDARD
TZOFFSETFROM:+0200
TZOFFSETTO:+0100
TZNAME:CET
DTSTART:20301027T010000
END:STANDARD
BEGIN:DAYLIGHT
TZOFFSETFROM:+0100
TZOFFSETTO:+0200
TZNAME:CEST
DTSTART:20310330T010000
END:DAYLIGHT
BEGIN:STANDARD
TZOFFSETFROM:+0200
TZOFFSETTO:+0100
TZNAME:CET
DTSTART:20311026T010000
END:STANDARD
END:VTIMEZONE
BEGIN:VEVENT
DTSTART;TZID=Europe/Prague:20280516T120000
DTEND;TZID=Europe/Prague:20280516T140000
DTSTAMP:20260423T182226
CREATED:20241007T162220Z
LAST-MODIFIED:20251212T132644Z
UID:10008270-1842091200-1842098400@iwa-prague.com
SUMMARY:Czech Conversation
DESCRIPTION:We practice communicating in the Czech language in a casual surrounding and with the help of native speakers\, topics vary each week.
URL:https://iwa-prague.com/event/czech-conversation/2028-05-16/
CATEGORIES:Languages
ATTACH;FMTTYPE=image/jpeg:https://iwa-prague.com/wp-content/uploads/2021/05/Czech-Jun-2020-OPT.jpg
ORGANIZER;CN="Iva %C4%8Cvandov%C3%A1":MAILTO:czechconversation@iwa-prague.com
END:VEVENT
BEGIN:VEVENT
DTSTART;TZID=Europe/Prague:20280620T120000
DTEND;TZID=Europe/Prague:20280620T140000
DTSTAMP:20260423T182226
CREATED:20241007T162220Z
LAST-MODIFIED:20251212T132644Z
UID:10008271-1845115200-1845122400@iwa-prague.com
SUMMARY:Czech Conversation
DESCRIPTION:We practice communicating in the Czech language in a casual surrounding and with the help of native speakers\, topics vary each week.
URL:https://iwa-prague.com/event/czech-conversation/2028-06-20/
CATEGORIES:Languages
ATTACH;FMTTYPE=image/jpeg:https://iwa-prague.com/wp-content/uploads/2021/05/Czech-Jun-2020-OPT.jpg
ORGANIZER;CN="Iva %C4%8Cvandov%C3%A1":MAILTO:czechconversation@iwa-prague.com
END:VEVENT
BEGIN:VEVENT
DTSTART;TZID=Europe/Prague:20280718T120000
DTEND;TZID=Europe/Prague:20280718T140000
DTSTAMP:20260423T182226
CREATED:20241007T162220Z
LAST-MODIFIED:20251212T132644Z
UID:10008272-1847534400-1847541600@iwa-prague.com
SUMMARY:Czech Conversation
DESCRIPTION:We practice communicating in the Czech language in a casual surrounding and with the help of native speakers\, topics vary each week.
URL:https://iwa-prague.com/event/czech-conversation/2028-07-18/
CATEGORIES:Languages
ATTACH;FMTTYPE=image/jpeg:https://iwa-prague.com/wp-content/uploads/2021/05/Czech-Jun-2020-OPT.jpg
ORGANIZER;CN="Iva %C4%8Cvandov%C3%A1":MAILTO:czechconversation@iwa-prague.com
END:VEVENT
BEGIN:VEVENT
DTSTART;TZID=Europe/Prague:20280815T120000
DTEND;TZID=Europe/Prague:20280815T140000
DTSTAMP:20260423T182226
CREATED:20241007T162220Z
LAST-MODIFIED:20251212T132644Z
UID:10008273-1849953600-1849960800@iwa-prague.com
SUMMARY:Czech Conversation
DESCRIPTION:We practice communicating in the Czech language in a casual surrounding and with the help of native speakers\, topics vary each week.
URL:https://iwa-prague.com/event/czech-conversation/2028-08-15/
CATEGORIES:Languages
ATTACH;FMTTYPE=image/jpeg:https://iwa-prague.com/wp-content/uploads/2021/05/Czech-Jun-2020-OPT.jpg
ORGANIZER;CN="Iva %C4%8Cvandov%C3%A1":MAILTO:czechconversation@iwa-prague.com
END:VEVENT
BEGIN:VEVENT
DTSTART;TZID=Europe/Prague:20280919T120000
DTEND;TZID=Europe/Prague:20280919T140000
DTSTAMP:20260423T182226
CREATED:20241007T162220Z
LAST-MODIFIED:20251212T132644Z
UID:10008274-1852977600-1852984800@iwa-prague.com
SUMMARY:Czech Conversation
DESCRIPTION:We practice communicating in the Czech language in a casual surrounding and with the help of native speakers\, topics vary each week.
URL:https://iwa-prague.com/event/czech-conversation/2028-09-19/
CATEGORIES:Languages
ATTACH;FMTTYPE=image/jpeg:https://iwa-prague.com/wp-content/uploads/2021/05/Czech-Jun-2020-OPT.jpg
ORGANIZER;CN="Iva %C4%8Cvandov%C3%A1":MAILTO:czechconversation@iwa-prague.com
END:VEVENT
BEGIN:VEVENT
DTSTART;TZID=Europe/Prague:20281017T120000
DTEND;TZID=Europe/Prague:20281017T140000
DTSTAMP:20260423T182226
CREATED:20241007T162220Z
LAST-MODIFIED:20251212T132644Z
UID:10008275-1855396800-1855404000@iwa-prague.com
SUMMARY:Czech Conversation
DESCRIPTION:We practice communicating in the Czech language in a casual surrounding and with the help of native speakers\, topics vary each week.
URL:https://iwa-prague.com/event/czech-conversation/2028-10-17/
CATEGORIES:Languages
ATTACH;FMTTYPE=image/jpeg:https://iwa-prague.com/wp-content/uploads/2021/05/Czech-Jun-2020-OPT.jpg
ORGANIZER;CN="Iva %C4%8Cvandov%C3%A1":MAILTO:czechconversation@iwa-prague.com
END:VEVENT
BEGIN:VEVENT
DTSTART;TZID=Europe/Prague:20281121T120000
DTEND;TZID=Europe/Prague:20281121T140000
DTSTAMP:20260423T182226
CREATED:20241007T162220Z
LAST-MODIFIED:20251212T132644Z
UID:10008276-1858420800-1858428000@iwa-prague.com
SUMMARY:Czech Conversation
DESCRIPTION:We practice communicating in the Czech language in a casual surrounding and with the help of native speakers\, topics vary each week.
URL:https://iwa-prague.com/event/czech-conversation/2028-11-21/
CATEGORIES:Languages
ATTACH;FMTTYPE=image/jpeg:https://iwa-prague.com/wp-content/uploads/2021/05/Czech-Jun-2020-OPT.jpg
ORGANIZER;CN="Iva %C4%8Cvandov%C3%A1":MAILTO:czechconversation@iwa-prague.com
END:VEVENT
BEGIN:VEVENT
DTSTART;TZID=Europe/Prague:20281219T120000
DTEND;TZID=Europe/Prague:20281219T140000
DTSTAMP:20260423T182226
CREATED:20241007T162220Z
LAST-MODIFIED:20251212T132644Z
UID:10008277-1860840000-1860847200@iwa-prague.com
SUMMARY:Czech Conversation
DESCRIPTION:We practice communicating in the Czech language in a casual surrounding and with the help of native speakers\, topics vary each week.
URL:https://iwa-prague.com/event/czech-conversation/2028-12-19/
CATEGORIES:Languages
ATTACH;FMTTYPE=image/jpeg:https://iwa-prague.com/wp-content/uploads/2021/05/Czech-Jun-2020-OPT.jpg
ORGANIZER;CN="Iva %C4%8Cvandov%C3%A1":MAILTO:czechconversation@iwa-prague.com
END:VEVENT
BEGIN:VEVENT
DTSTART;TZID=Europe/Prague:20290116T120000
DTEND;TZID=Europe/Prague:20290116T140000
DTSTAMP:20260423T182226
CREATED:20241007T162220Z
LAST-MODIFIED:20251212T132644Z
UID:10008278-1863259200-1863266400@iwa-prague.com
SUMMARY:Czech Conversation
DESCRIPTION:We practice communicating in the Czech language in a casual surrounding and with the help of native speakers\, topics vary each week.
URL:https://iwa-prague.com/event/czech-conversation/2029-01-16/
CATEGORIES:Languages
ATTACH;FMTTYPE=image/jpeg:https://iwa-prague.com/wp-content/uploads/2021/05/Czech-Jun-2020-OPT.jpg
ORGANIZER;CN="Iva %C4%8Cvandov%C3%A1":MAILTO:czechconversation@iwa-prague.com
END:VEVENT
BEGIN:VEVENT
DTSTART;TZID=Europe/Prague:20290220T120000
DTEND;TZID=Europe/Prague:20290220T140000
DTSTAMP:20260423T182226
CREATED:20241007T162220Z
LAST-MODIFIED:20251212T132644Z
UID:10008279-1866283200-1866290400@iwa-prague.com
SUMMARY:Czech Conversation
DESCRIPTION:We practice communicating in the Czech language in a casual surrounding and with the help of native speakers\, topics vary each week.
URL:https://iwa-prague.com/event/czech-conversation/2029-02-20/
CATEGORIES:Languages
ATTACH;FMTTYPE=image/jpeg:https://iwa-prague.com/wp-content/uploads/2021/05/Czech-Jun-2020-OPT.jpg
ORGANIZER;CN="Iva %C4%8Cvandov%C3%A1":MAILTO:czechconversation@iwa-prague.com
END:VEVENT
BEGIN:VEVENT
DTSTART;TZID=Europe/Prague:20290320T120000
DTEND;TZID=Europe/Prague:20290320T140000
DTSTAMP:20260423T182226
CREATED:20241007T162220Z
LAST-MODIFIED:20251212T132644Z
UID:10008280-1868702400-1868709600@iwa-prague.com
SUMMARY:Czech Conversation
DESCRIPTION:We practice communicating in the Czech language in a casual surrounding and with the help of native speakers\, topics vary each week.
URL:https://iwa-prague.com/event/czech-conversation/2029-03-20/
CATEGORIES:Languages
ATTACH;FMTTYPE=image/jpeg:https://iwa-prague.com/wp-content/uploads/2021/05/Czech-Jun-2020-OPT.jpg
ORGANIZER;CN="Iva %C4%8Cvandov%C3%A1":MAILTO:czechconversation@iwa-prague.com
END:VEVENT
BEGIN:VEVENT
DTSTART;TZID=Europe/Prague:20290417T120000
DTEND;TZID=Europe/Prague:20290417T140000
DTSTAMP:20260423T182226
CREATED:20241007T162220Z
LAST-MODIFIED:20251212T132644Z
UID:10008281-1871121600-1871128800@iwa-prague.com
SUMMARY:Czech Conversation
DESCRIPTION:We practice communicating in the Czech language in a casual surrounding and with the help of native speakers\, topics vary each week.
URL:https://iwa-prague.com/event/czech-conversation/2029-04-17/
CATEGORIES:Languages
ATTACH;FMTTYPE=image/jpeg:https://iwa-prague.com/wp-content/uploads/2021/05/Czech-Jun-2020-OPT.jpg
ORGANIZER;CN="Iva %C4%8Cvandov%C3%A1":MAILTO:czechconversation@iwa-prague.com
END:VEVENT
BEGIN:VEVENT
DTSTART;TZID=Europe/Prague:20290515T120000
DTEND;TZID=Europe/Prague:20290515T140000
DTSTAMP:20260423T182226
CREATED:20241007T162220Z
LAST-MODIFIED:20251212T132644Z
UID:10008282-1873540800-1873548000@iwa-prague.com
SUMMARY:Czech Conversation
DESCRIPTION:We practice communicating in the Czech language in a casual surrounding and with the help of native speakers\, topics vary each week.
URL:https://iwa-prague.com/event/czech-conversation/2029-05-15/
CATEGORIES:Languages
ATTACH;FMTTYPE=image/jpeg:https://iwa-prague.com/wp-content/uploads/2021/05/Czech-Jun-2020-OPT.jpg
ORGANIZER;CN="Iva %C4%8Cvandov%C3%A1":MAILTO:czechconversation@iwa-prague.com
END:VEVENT
BEGIN:VEVENT
DTSTART;TZID=Europe/Prague:20290619T120000
DTEND;TZID=Europe/Prague:20290619T140000
DTSTAMP:20260423T182226
CREATED:20241007T162220Z
LAST-MODIFIED:20251212T132644Z
UID:10008283-1876564800-1876572000@iwa-prague.com
SUMMARY:Czech Conversation
DESCRIPTION:We practice communicating in the Czech language in a casual surrounding and with the help of native speakers\, topics vary each week.
URL:https://iwa-prague.com/event/czech-conversation/2029-06-19/
CATEGORIES:Languages
ATTACH;FMTTYPE=image/jpeg:https://iwa-prague.com/wp-content/uploads/2021/05/Czech-Jun-2020-OPT.jpg
ORGANIZER;CN="Iva %C4%8Cvandov%C3%A1":MAILTO:czechconversation@iwa-prague.com
END:VEVENT
BEGIN:VEVENT
DTSTART;TZID=Europe/Prague:20290717T120000
DTEND;TZID=Europe/Prague:20290717T140000
DTSTAMP:20260423T182226
CREATED:20241007T162220Z
LAST-MODIFIED:20251212T132644Z
UID:10008284-1878984000-1878991200@iwa-prague.com
SUMMARY:Czech Conversation
DESCRIPTION:We practice communicating in the Czech language in a casual surrounding and with the help of native speakers\, topics vary each week.
URL:https://iwa-prague.com/event/czech-conversation/2029-07-17/
CATEGORIES:Languages
ATTACH;FMTTYPE=image/jpeg:https://iwa-prague.com/wp-content/uploads/2021/05/Czech-Jun-2020-OPT.jpg
ORGANIZER;CN="Iva %C4%8Cvandov%C3%A1":MAILTO:czechconversation@iwa-prague.com
END:VEVENT
BEGIN:VEVENT
DTSTART;TZID=Europe/Prague:20290821T120000
DTEND;TZID=Europe/Prague:20290821T140000
DTSTAMP:20260423T182226
CREATED:20241007T162220Z
LAST-MODIFIED:20251212T132644Z
UID:10008285-1882008000-1882015200@iwa-prague.com
SUMMARY:Czech Conversation
DESCRIPTION:We practice communicating in the Czech language in a casual surrounding and with the help of native speakers\, topics vary each week.
URL:https://iwa-prague.com/event/czech-conversation/2029-08-21/
CATEGORIES:Languages
ATTACH;FMTTYPE=image/jpeg:https://iwa-prague.com/wp-content/uploads/2021/05/Czech-Jun-2020-OPT.jpg
ORGANIZER;CN="Iva %C4%8Cvandov%C3%A1":MAILTO:czechconversation@iwa-prague.com
END:VEVENT
BEGIN:VEVENT
DTSTART;TZID=Europe/Prague:20290918T120000
DTEND;TZID=Europe/Prague:20290918T140000
DTSTAMP:20260423T182226
CREATED:20241007T162220Z
LAST-MODIFIED:20251212T132644Z
UID:10008286-1884427200-1884434400@iwa-prague.com
SUMMARY:Czech Conversation
DESCRIPTION:We practice communicating in the Czech language in a casual surrounding and with the help of native speakers\, topics vary each week.
URL:https://iwa-prague.com/event/czech-conversation/2029-09-18/
CATEGORIES:Languages
ATTACH;FMTTYPE=image/jpeg:https://iwa-prague.com/wp-content/uploads/2021/05/Czech-Jun-2020-OPT.jpg
ORGANIZER;CN="Iva %C4%8Cvandov%C3%A1":MAILTO:czechconversation@iwa-prague.com
END:VEVENT
BEGIN:VEVENT
DTSTART;TZID=Europe/Prague:20291016T120000
DTEND;TZID=Europe/Prague:20291016T140000
DTSTAMP:20260423T182226
CREATED:20241007T162220Z
LAST-MODIFIED:20251212T132644Z
UID:10008287-1886846400-1886853600@iwa-prague.com
SUMMARY:Czech Conversation
DESCRIPTION:We practice communicating in the Czech language in a casual surrounding and with the help of native speakers\, topics vary each week.
URL:https://iwa-prague.com/event/czech-conversation/2029-10-16/
CATEGORIES:Languages
ATTACH;FMTTYPE=image/jpeg:https://iwa-prague.com/wp-content/uploads/2021/05/Czech-Jun-2020-OPT.jpg
ORGANIZER;CN="Iva %C4%8Cvandov%C3%A1":MAILTO:czechconversation@iwa-prague.com
END:VEVENT
BEGIN:VEVENT
DTSTART;TZID=Europe/Prague:20291120T120000
DTEND;TZID=Europe/Prague:20291120T140000
DTSTAMP:20260423T182226
CREATED:20241007T162220Z
LAST-MODIFIED:20251212T132644Z
UID:10008288-1889870400-1889877600@iwa-prague.com
SUMMARY:Czech Conversation
DESCRIPTION:We practice communicating in the Czech language in a casual surrounding and with the help of native speakers\, topics vary each week.
URL:https://iwa-prague.com/event/czech-conversation/2029-11-20/
CATEGORIES:Languages
ATTACH;FMTTYPE=image/jpeg:https://iwa-prague.com/wp-content/uploads/2021/05/Czech-Jun-2020-OPT.jpg
ORGANIZER;CN="Iva %C4%8Cvandov%C3%A1":MAILTO:czechconversation@iwa-prague.com
END:VEVENT
BEGIN:VEVENT
DTSTART;TZID=Europe/Prague:20291218T120000
DTEND;TZID=Europe/Prague:20291218T140000
DTSTAMP:20260423T182226
CREATED:20241007T162220Z
LAST-MODIFIED:20251212T132644Z
UID:10008289-1892289600-1892296800@iwa-prague.com
SUMMARY:Czech Conversation
DESCRIPTION:We practice communicating in the Czech language in a casual surrounding and with the help of native speakers\, topics vary each week.
URL:https://iwa-prague.com/event/czech-conversation/2029-12-18/
CATEGORIES:Languages
ATTACH;FMTTYPE=image/jpeg:https://iwa-prague.com/wp-content/uploads/2021/05/Czech-Jun-2020-OPT.jpg
ORGANIZER;CN="Iva %C4%8Cvandov%C3%A1":MAILTO:czechconversation@iwa-prague.com
END:VEVENT
BEGIN:VEVENT
DTSTART;TZID=Europe/Prague:20300115T120000
DTEND;TZID=Europe/Prague:20300115T140000
DTSTAMP:20260423T182226
CREATED:20241007T162220Z
LAST-MODIFIED:20251212T132644Z
UID:10008290-1894708800-1894716000@iwa-prague.com
SUMMARY:Czech Conversation
DESCRIPTION:We practice communicating in the Czech language in a casual surrounding and with the help of native speakers\, topics vary each week.
URL:https://iwa-prague.com/event/czech-conversation/2030-01-15/
CATEGORIES:Languages
ATTACH;FMTTYPE=image/jpeg:https://iwa-prague.com/wp-content/uploads/2021/05/Czech-Jun-2020-OPT.jpg
ORGANIZER;CN="Iva %C4%8Cvandov%C3%A1":MAILTO:czechconversation@iwa-prague.com
END:VEVENT
BEGIN:VEVENT
DTSTART;TZID=Europe/Prague:20300219T120000
DTEND;TZID=Europe/Prague:20300219T140000
DTSTAMP:20260423T182226
CREATED:20241007T162220Z
LAST-MODIFIED:20251212T132644Z
UID:10008291-1897732800-1897740000@iwa-prague.com
SUMMARY:Czech Conversation
DESCRIPTION:We practice communicating in the Czech language in a casual surrounding and with the help of native speakers\, topics vary each week.
URL:https://iwa-prague.com/event/czech-conversation/2030-02-19/
CATEGORIES:Languages
ATTACH;FMTTYPE=image/jpeg:https://iwa-prague.com/wp-content/uploads/2021/05/Czech-Jun-2020-OPT.jpg
ORGANIZER;CN="Iva %C4%8Cvandov%C3%A1":MAILTO:czechconversation@iwa-prague.com
END:VEVENT
BEGIN:VEVENT
DTSTART;TZID=Europe/Prague:20300319T120000
DTEND;TZID=Europe/Prague:20300319T140000
DTSTAMP:20260423T182226
CREATED:20241007T162220Z
LAST-MODIFIED:20251212T132644Z
UID:10008292-1900152000-1900159200@iwa-prague.com
SUMMARY:Czech Conversation
DESCRIPTION:We practice communicating in the Czech language in a casual surrounding and with the help of native speakers\, topics vary each week.
URL:https://iwa-prague.com/event/czech-conversation/2030-03-19/
CATEGORIES:Languages
ATTACH;FMTTYPE=image/jpeg:https://iwa-prague.com/wp-content/uploads/2021/05/Czech-Jun-2020-OPT.jpg
ORGANIZER;CN="Iva %C4%8Cvandov%C3%A1":MAILTO:czechconversation@iwa-prague.com
END:VEVENT
BEGIN:VEVENT
DTSTART;TZID=Europe/Prague:20300416T120000
DTEND;TZID=Europe/Prague:20300416T140000
DTSTAMP:20260423T182226
CREATED:20241007T162220Z
LAST-MODIFIED:20251212T132644Z
UID:10008293-1902571200-1902578400@iwa-prague.com
SUMMARY:Czech Conversation
DESCRIPTION:We practice communicating in the Czech language in a casual surrounding and with the help of native speakers\, topics vary each week.
URL:https://iwa-prague.com/event/czech-conversation/2030-04-16/
CATEGORIES:Languages
ATTACH;FMTTYPE=image/jpeg:https://iwa-prague.com/wp-content/uploads/2021/05/Czech-Jun-2020-OPT.jpg
ORGANIZER;CN="Iva %C4%8Cvandov%C3%A1":MAILTO:czechconversation@iwa-prague.com
END:VEVENT
BEGIN:VEVENT
DTSTART;TZID=Europe/Prague:20300521T120000
DTEND;TZID=Europe/Prague:20300521T140000
DTSTAMP:20260423T182226
CREATED:20241007T162220Z
LAST-MODIFIED:20251212T132644Z
UID:10008294-1905595200-1905602400@iwa-prague.com
SUMMARY:Czech Conversation
DESCRIPTION:We practice communicating in the Czech language in a casual surrounding and with the help of native speakers\, topics vary each week.
URL:https://iwa-prague.com/event/czech-conversation/2030-05-21/
CATEGORIES:Languages
ATTACH;FMTTYPE=image/jpeg:https://iwa-prague.com/wp-content/uploads/2021/05/Czech-Jun-2020-OPT.jpg
ORGANIZER;CN="Iva %C4%8Cvandov%C3%A1":MAILTO:czechconversation@iwa-prague.com
END:VEVENT
BEGIN:VEVENT
DTSTART;TZID=Europe/Prague:20300618T120000
DTEND;TZID=Europe/Prague:20300618T140000
DTSTAMP:20260423T182226
CREATED:20241007T162220Z
LAST-MODIFIED:20251212T132644Z
UID:10008295-1908014400-1908021600@iwa-prague.com
SUMMARY:Czech Conversation
DESCRIPTION:We practice communicating in the Czech language in a casual surrounding and with the help of native speakers\, topics vary each week.
URL:https://iwa-prague.com/event/czech-conversation/2030-06-18/
CATEGORIES:Languages
ATTACH;FMTTYPE=image/jpeg:https://iwa-prague.com/wp-content/uploads/2021/05/Czech-Jun-2020-OPT.jpg
ORGANIZER;CN="Iva %C4%8Cvandov%C3%A1":MAILTO:czechconversation@iwa-prague.com
END:VEVENT
BEGIN:VEVENT
DTSTART;TZID=Europe/Prague:20300716T120000
DTEND;TZID=Europe/Prague:20300716T140000
DTSTAMP:20260423T182226
CREATED:20241007T162220Z
LAST-MODIFIED:20251212T132644Z
UID:10008296-1910433600-1910440800@iwa-prague.com
SUMMARY:Czech Conversation
DESCRIPTION:We practice communicating in the Czech language in a casual surrounding and with the help of native speakers\, topics vary each week.
URL:https://iwa-prague.com/event/czech-conversation/2030-07-16/
CATEGORIES:Languages
ATTACH;FMTTYPE=image/jpeg:https://iwa-prague.com/wp-content/uploads/2021/05/Czech-Jun-2020-OPT.jpg
ORGANIZER;CN="Iva %C4%8Cvandov%C3%A1":MAILTO:czechconversation@iwa-prague.com
END:VEVENT
BEGIN:VEVENT
DTSTART;TZID=Europe/Prague:20300820T120000
DTEND;TZID=Europe/Prague:20300820T140000
DTSTAMP:20260423T182226
CREATED:20241007T162220Z
LAST-MODIFIED:20251212T132644Z
UID:10008297-1913457600-1913464800@iwa-prague.com
SUMMARY:Czech Conversation
DESCRIPTION:We practice communicating in the Czech language in a casual surrounding and with the help of native speakers\, topics vary each week.
URL:https://iwa-prague.com/event/czech-conversation/2030-08-20/
CATEGORIES:Languages
ATTACH;FMTTYPE=image/jpeg:https://iwa-prague.com/wp-content/uploads/2021/05/Czech-Jun-2020-OPT.jpg
ORGANIZER;CN="Iva %C4%8Cvandov%C3%A1":MAILTO:czechconversation@iwa-prague.com
END:VEVENT
BEGIN:VEVENT
DTSTART;TZID=Europe/Prague:20300917T120000
DTEND;TZID=Europe/Prague:20300917T140000
DTSTAMP:20260423T182226
CREATED:20241007T162220Z
LAST-MODIFIED:20251212T132644Z
UID:10008298-1915876800-1915884000@iwa-prague.com
SUMMARY:Czech Conversation
DESCRIPTION:We practice communicating in the Czech language in a casual surrounding and with the help of native speakers\, topics vary each week.
URL:https://iwa-prague.com/event/czech-conversation/2030-09-17/
CATEGORIES:Languages
ATTACH;FMTTYPE=image/jpeg:https://iwa-prague.com/wp-content/uploads/2021/05/Czech-Jun-2020-OPT.jpg
ORGANIZER;CN="Iva %C4%8Cvandov%C3%A1":MAILTO:czechconversation@iwa-prague.com
END:VEVENT
BEGIN:VEVENT
DTSTART;TZID=Europe/Prague:20301015T120000
DTEND;TZID=Europe/Prague:20301015T140000
DTSTAMP:20260423T182226
CREATED:20241007T162220Z
LAST-MODIFIED:20251212T132644Z
UID:10008299-1918296000-1918303200@iwa-prague.com
SUMMARY:Czech Conversation
DESCRIPTION:We practice communicating in the Czech language in a casual surrounding and with the help of native speakers\, topics vary each week.
URL:https://iwa-prague.com/event/czech-conversation/2030-10-15/
CATEGORIES:Languages
ATTACH;FMTTYPE=image/jpeg:https://iwa-prague.com/wp-content/uploads/2021/05/Czech-Jun-2020-OPT.jpg
ORGANIZER;CN="Iva %C4%8Cvandov%C3%A1":MAILTO:czechconversation@iwa-prague.com
END:VEVENT
END:VCALENDAR