BEGIN:VCALENDAR
VERSION:2.0
PRODID:-//International Women&#039;s Association of Prague - ECPv6.15.20//NONSGML v1.0//EN
CALSCALE:GREGORIAN
METHOD:PUBLISH
X-WR-CALNAME:International Women&#039;s Association of Prague
X-ORIGINAL-URL:https://iwa-prague.com
X-WR-CALDESC:Events for International Women&#039;s Association of Prague
REFRESH-INTERVAL;VALUE=DURATION:PT1H
X-Robots-Tag:noindex
X-PUBLISHED-TTL:PT1H
BEGIN:VTIMEZONE
TZID:Europe/Prague
BEGIN:DAYLIGHT
TZOFFSETFROM:+0100
TZOFFSETTO:+0200
TZNAME:CEST
DTSTART:20270328T010000
END:DAYLIGHT
BEGIN:STANDARD
TZOFFSETFROM:+0200
TZOFFSETTO:+0100
TZNAME:CET
DTSTART:20271031T010000
END:STANDARD
BEGIN:DAYLIGHT
TZOFFSETFROM:+0100
TZOFFSETTO:+0200
TZNAME:CEST
DTSTART:20280326T010000
END:DAYLIGHT
BEGIN:STANDARD
TZOFFSETFROM:+0200
TZOFFSETTO:+0100
TZNAME:CET
DTSTART:20281029T010000
END:STANDARD
BEGIN:DAYLIGHT
TZOFFSETFROM:+0100
TZOFFSETTO:+0200
TZNAME:CEST
DTSTART:20290325T010000
END:DAYLIGHT
BEGIN:STANDARD
TZOFFSETFROM:+0200
TZOFFSETTO:+0100
TZNAME:CET
DTSTART:20291028T010000
END:STANDARD
BEGIN:DAYLIGHT
TZOFFSETFROM:+0100
TZOFFSETTO:+0200
TZNAME:CEST
DTSTART:20300331T010000
END:DAYLIGHT
BEGIN:STANDARD
TZOFFSETFROM:+0200
TZOFFSETTO:+0100
TZNAME:CET
DTSTART:20301027T010000
END:STANDARD
BEGIN:DAYLIGHT
TZOFFSETFROM:+0100
TZOFFSETTO:+0200
TZNAME:CEST
DTSTART:20310330T010000
END:DAYLIGHT
BEGIN:STANDARD
TZOFFSETFROM:+0200
TZOFFSETTO:+0100
TZNAME:CET
DTSTART:20311026T010000
END:STANDARD
END:VTIMEZONE
BEGIN:VEVENT
DTSTART;TZID=Europe/Prague:20280524T183000
DTEND;TZID=Europe/Prague:20280524T203000
DTSTAMP:20260424T151946
CREATED:20260205T132756Z
LAST-MODIFIED:20260205T132830Z
UID:10008831-1842805800-1842813000@iwa-prague.com
SUMMARY:Choir
DESCRIPTION:
URL:https://iwa-prague.com/event/choir-2/2028-05-24/
CATEGORIES:Evening Groups
ATTACH;FMTTYPE=image/jpeg:https://iwa-prague.com/wp-content/uploads/2026/02/choir-OPT.jpg
ORGANIZER;CN="Leslie Nicholson":MAILTO:choir@iwa-prague.com
END:VEVENT
BEGIN:VEVENT
DTSTART;TZID=Europe/Prague:20280628T183000
DTEND;TZID=Europe/Prague:20280628T203000
DTSTAMP:20260424T151946
CREATED:20260205T132756Z
LAST-MODIFIED:20260205T132830Z
UID:10008832-1845829800-1845837000@iwa-prague.com
SUMMARY:Choir
DESCRIPTION:
URL:https://iwa-prague.com/event/choir-2/2028-06-28/
CATEGORIES:Evening Groups
ATTACH;FMTTYPE=image/jpeg:https://iwa-prague.com/wp-content/uploads/2026/02/choir-OPT.jpg
ORGANIZER;CN="Leslie Nicholson":MAILTO:choir@iwa-prague.com
END:VEVENT
BEGIN:VEVENT
DTSTART;TZID=Europe/Prague:20280726T183000
DTEND;TZID=Europe/Prague:20280726T203000
DTSTAMP:20260424T151946
CREATED:20260205T132756Z
LAST-MODIFIED:20260205T132830Z
UID:10008833-1848249000-1848256200@iwa-prague.com
SUMMARY:Choir
DESCRIPTION:
URL:https://iwa-prague.com/event/choir-2/2028-07-26/
CATEGORIES:Evening Groups
ATTACH;FMTTYPE=image/jpeg:https://iwa-prague.com/wp-content/uploads/2026/02/choir-OPT.jpg
ORGANIZER;CN="Leslie Nicholson":MAILTO:choir@iwa-prague.com
END:VEVENT
BEGIN:VEVENT
DTSTART;TZID=Europe/Prague:20280823T183000
DTEND;TZID=Europe/Prague:20280823T203000
DTSTAMP:20260424T151946
CREATED:20260205T132756Z
LAST-MODIFIED:20260205T132830Z
UID:10008834-1850668200-1850675400@iwa-prague.com
SUMMARY:Choir
DESCRIPTION:
URL:https://iwa-prague.com/event/choir-2/2028-08-23/
CATEGORIES:Evening Groups
ATTACH;FMTTYPE=image/jpeg:https://iwa-prague.com/wp-content/uploads/2026/02/choir-OPT.jpg
ORGANIZER;CN="Leslie Nicholson":MAILTO:choir@iwa-prague.com
END:VEVENT
BEGIN:VEVENT
DTSTART;TZID=Europe/Prague:20280927T183000
DTEND;TZID=Europe/Prague:20280927T203000
DTSTAMP:20260424T151946
CREATED:20260205T132756Z
LAST-MODIFIED:20260205T132830Z
UID:10008835-1853692200-1853699400@iwa-prague.com
SUMMARY:Choir
DESCRIPTION:
URL:https://iwa-prague.com/event/choir-2/2028-09-27/
CATEGORIES:Evening Groups
ATTACH;FMTTYPE=image/jpeg:https://iwa-prague.com/wp-content/uploads/2026/02/choir-OPT.jpg
ORGANIZER;CN="Leslie Nicholson":MAILTO:choir@iwa-prague.com
END:VEVENT
BEGIN:VEVENT
DTSTART;TZID=Europe/Prague:20281025T183000
DTEND;TZID=Europe/Prague:20281025T203000
DTSTAMP:20260424T151946
CREATED:20260205T132756Z
LAST-MODIFIED:20260205T132830Z
UID:10008836-1856111400-1856118600@iwa-prague.com
SUMMARY:Choir
DESCRIPTION:
URL:https://iwa-prague.com/event/choir-2/2028-10-25/
CATEGORIES:Evening Groups
ATTACH;FMTTYPE=image/jpeg:https://iwa-prague.com/wp-content/uploads/2026/02/choir-OPT.jpg
ORGANIZER;CN="Leslie Nicholson":MAILTO:choir@iwa-prague.com
END:VEVENT
BEGIN:VEVENT
DTSTART;TZID=Europe/Prague:20281122T183000
DTEND;TZID=Europe/Prague:20281122T203000
DTSTAMP:20260424T151946
CREATED:20260205T132756Z
LAST-MODIFIED:20260205T132830Z
UID:10008837-1858530600-1858537800@iwa-prague.com
SUMMARY:Choir
DESCRIPTION:
URL:https://iwa-prague.com/event/choir-2/2028-11-22/
CATEGORIES:Evening Groups
ATTACH;FMTTYPE=image/jpeg:https://iwa-prague.com/wp-content/uploads/2026/02/choir-OPT.jpg
ORGANIZER;CN="Leslie Nicholson":MAILTO:choir@iwa-prague.com
END:VEVENT
BEGIN:VEVENT
DTSTART;TZID=Europe/Prague:20281227T183000
DTEND;TZID=Europe/Prague:20281227T203000
DTSTAMP:20260424T151946
CREATED:20260205T132756Z
LAST-MODIFIED:20260205T132830Z
UID:10008838-1861554600-1861561800@iwa-prague.com
SUMMARY:Choir
DESCRIPTION:
URL:https://iwa-prague.com/event/choir-2/2028-12-27/
CATEGORIES:Evening Groups
ATTACH;FMTTYPE=image/jpeg:https://iwa-prague.com/wp-content/uploads/2026/02/choir-OPT.jpg
ORGANIZER;CN="Leslie Nicholson":MAILTO:choir@iwa-prague.com
END:VEVENT
BEGIN:VEVENT
DTSTART;TZID=Europe/Prague:20290124T183000
DTEND;TZID=Europe/Prague:20290124T203000
DTSTAMP:20260424T151946
CREATED:20260205T132756Z
LAST-MODIFIED:20260205T132830Z
UID:10008839-1863973800-1863981000@iwa-prague.com
SUMMARY:Choir
DESCRIPTION:
URL:https://iwa-prague.com/event/choir-2/2029-01-24/
CATEGORIES:Evening Groups
ATTACH;FMTTYPE=image/jpeg:https://iwa-prague.com/wp-content/uploads/2026/02/choir-OPT.jpg
ORGANIZER;CN="Leslie Nicholson":MAILTO:choir@iwa-prague.com
END:VEVENT
BEGIN:VEVENT
DTSTART;TZID=Europe/Prague:20290228T183000
DTEND;TZID=Europe/Prague:20290228T203000
DTSTAMP:20260424T151946
CREATED:20260205T132756Z
LAST-MODIFIED:20260205T132830Z
UID:10008840-1866997800-1867005000@iwa-prague.com
SUMMARY:Choir
DESCRIPTION:
URL:https://iwa-prague.com/event/choir-2/2029-02-28/
CATEGORIES:Evening Groups
ATTACH;FMTTYPE=image/jpeg:https://iwa-prague.com/wp-content/uploads/2026/02/choir-OPT.jpg
ORGANIZER;CN="Leslie Nicholson":MAILTO:choir@iwa-prague.com
END:VEVENT
BEGIN:VEVENT
DTSTART;TZID=Europe/Prague:20290328T183000
DTEND;TZID=Europe/Prague:20290328T203000
DTSTAMP:20260424T151946
CREATED:20260205T132756Z
LAST-MODIFIED:20260205T132830Z
UID:10008841-1869417000-1869424200@iwa-prague.com
SUMMARY:Choir
DESCRIPTION:
URL:https://iwa-prague.com/event/choir-2/2029-03-28/
CATEGORIES:Evening Groups
ATTACH;FMTTYPE=image/jpeg:https://iwa-prague.com/wp-content/uploads/2026/02/choir-OPT.jpg
ORGANIZER;CN="Leslie Nicholson":MAILTO:choir@iwa-prague.com
END:VEVENT
BEGIN:VEVENT
DTSTART;TZID=Europe/Prague:20290425T183000
DTEND;TZID=Europe/Prague:20290425T203000
DTSTAMP:20260424T151946
CREATED:20260205T132756Z
LAST-MODIFIED:20260205T132830Z
UID:10008842-1871836200-1871843400@iwa-prague.com
SUMMARY:Choir
DESCRIPTION:
URL:https://iwa-prague.com/event/choir-2/2029-04-25/
CATEGORIES:Evening Groups
ATTACH;FMTTYPE=image/jpeg:https://iwa-prague.com/wp-content/uploads/2026/02/choir-OPT.jpg
ORGANIZER;CN="Leslie Nicholson":MAILTO:choir@iwa-prague.com
END:VEVENT
BEGIN:VEVENT
DTSTART;TZID=Europe/Prague:20290523T183000
DTEND;TZID=Europe/Prague:20290523T203000
DTSTAMP:20260424T151946
CREATED:20260205T132756Z
LAST-MODIFIED:20260205T132830Z
UID:10008843-1874255400-1874262600@iwa-prague.com
SUMMARY:Choir
DESCRIPTION:
URL:https://iwa-prague.com/event/choir-2/2029-05-23/
CATEGORIES:Evening Groups
ATTACH;FMTTYPE=image/jpeg:https://iwa-prague.com/wp-content/uploads/2026/02/choir-OPT.jpg
ORGANIZER;CN="Leslie Nicholson":MAILTO:choir@iwa-prague.com
END:VEVENT
BEGIN:VEVENT
DTSTART;TZID=Europe/Prague:20290627T183000
DTEND;TZID=Europe/Prague:20290627T203000
DTSTAMP:20260424T151946
CREATED:20260205T132756Z
LAST-MODIFIED:20260205T132830Z
UID:10008844-1877279400-1877286600@iwa-prague.com
SUMMARY:Choir
DESCRIPTION:
URL:https://iwa-prague.com/event/choir-2/2029-06-27/
CATEGORIES:Evening Groups
ATTACH;FMTTYPE=image/jpeg:https://iwa-prague.com/wp-content/uploads/2026/02/choir-OPT.jpg
ORGANIZER;CN="Leslie Nicholson":MAILTO:choir@iwa-prague.com
END:VEVENT
BEGIN:VEVENT
DTSTART;TZID=Europe/Prague:20290725T183000
DTEND;TZID=Europe/Prague:20290725T203000
DTSTAMP:20260424T151946
CREATED:20260205T132756Z
LAST-MODIFIED:20260205T132830Z
UID:10008845-1879698600-1879705800@iwa-prague.com
SUMMARY:Choir
DESCRIPTION:
URL:https://iwa-prague.com/event/choir-2/2029-07-25/
CATEGORIES:Evening Groups
ATTACH;FMTTYPE=image/jpeg:https://iwa-prague.com/wp-content/uploads/2026/02/choir-OPT.jpg
ORGANIZER;CN="Leslie Nicholson":MAILTO:choir@iwa-prague.com
END:VEVENT
BEGIN:VEVENT
DTSTART;TZID=Europe/Prague:20290822T183000
DTEND;TZID=Europe/Prague:20290822T203000
DTSTAMP:20260424T151946
CREATED:20260205T132756Z
LAST-MODIFIED:20260205T132830Z
UID:10008846-1882117800-1882125000@iwa-prague.com
SUMMARY:Choir
DESCRIPTION:
URL:https://iwa-prague.com/event/choir-2/2029-08-22/
CATEGORIES:Evening Groups
ATTACH;FMTTYPE=image/jpeg:https://iwa-prague.com/wp-content/uploads/2026/02/choir-OPT.jpg
ORGANIZER;CN="Leslie Nicholson":MAILTO:choir@iwa-prague.com
END:VEVENT
BEGIN:VEVENT
DTSTART;TZID=Europe/Prague:20290926T183000
DTEND;TZID=Europe/Prague:20290926T203000
DTSTAMP:20260424T151946
CREATED:20260205T132756Z
LAST-MODIFIED:20260205T132830Z
UID:10008847-1885141800-1885149000@iwa-prague.com
SUMMARY:Choir
DESCRIPTION:
URL:https://iwa-prague.com/event/choir-2/2029-09-26/
CATEGORIES:Evening Groups
ATTACH;FMTTYPE=image/jpeg:https://iwa-prague.com/wp-content/uploads/2026/02/choir-OPT.jpg
ORGANIZER;CN="Leslie Nicholson":MAILTO:choir@iwa-prague.com
END:VEVENT
BEGIN:VEVENT
DTSTART;TZID=Europe/Prague:20291024T183000
DTEND;TZID=Europe/Prague:20291024T203000
DTSTAMP:20260424T151946
CREATED:20260205T132756Z
LAST-MODIFIED:20260205T132830Z
UID:10008848-1887561000-1887568200@iwa-prague.com
SUMMARY:Choir
DESCRIPTION:
URL:https://iwa-prague.com/event/choir-2/2029-10-24/
CATEGORIES:Evening Groups
ATTACH;FMTTYPE=image/jpeg:https://iwa-prague.com/wp-content/uploads/2026/02/choir-OPT.jpg
ORGANIZER;CN="Leslie Nicholson":MAILTO:choir@iwa-prague.com
END:VEVENT
BEGIN:VEVENT
DTSTART;TZID=Europe/Prague:20291128T183000
DTEND;TZID=Europe/Prague:20291128T203000
DTSTAMP:20260424T151946
CREATED:20260205T132756Z
LAST-MODIFIED:20260205T132830Z
UID:10008849-1890585000-1890592200@iwa-prague.com
SUMMARY:Choir
DESCRIPTION:
URL:https://iwa-prague.com/event/choir-2/2029-11-28/
CATEGORIES:Evening Groups
ATTACH;FMTTYPE=image/jpeg:https://iwa-prague.com/wp-content/uploads/2026/02/choir-OPT.jpg
ORGANIZER;CN="Leslie Nicholson":MAILTO:choir@iwa-prague.com
END:VEVENT
BEGIN:VEVENT
DTSTART;TZID=Europe/Prague:20291226T183000
DTEND;TZID=Europe/Prague:20291226T203000
DTSTAMP:20260424T151946
CREATED:20260205T132756Z
LAST-MODIFIED:20260205T132830Z
UID:10008850-1893004200-1893011400@iwa-prague.com
SUMMARY:Choir
DESCRIPTION:
URL:https://iwa-prague.com/event/choir-2/2029-12-26/
CATEGORIES:Evening Groups
ATTACH;FMTTYPE=image/jpeg:https://iwa-prague.com/wp-content/uploads/2026/02/choir-OPT.jpg
ORGANIZER;CN="Leslie Nicholson":MAILTO:choir@iwa-prague.com
END:VEVENT
BEGIN:VEVENT
DTSTART;TZID=Europe/Prague:20300123T183000
DTEND;TZID=Europe/Prague:20300123T203000
DTSTAMP:20260424T151946
CREATED:20260205T132756Z
LAST-MODIFIED:20260205T132830Z
UID:10008851-1895423400-1895430600@iwa-prague.com
SUMMARY:Choir
DESCRIPTION:
URL:https://iwa-prague.com/event/choir-2/2030-01-23/
CATEGORIES:Evening Groups
ATTACH;FMTTYPE=image/jpeg:https://iwa-prague.com/wp-content/uploads/2026/02/choir-OPT.jpg
ORGANIZER;CN="Leslie Nicholson":MAILTO:choir@iwa-prague.com
END:VEVENT
BEGIN:VEVENT
DTSTART;TZID=Europe/Prague:20300227T183000
DTEND;TZID=Europe/Prague:20300227T203000
DTSTAMP:20260424T151946
CREATED:20260205T132756Z
LAST-MODIFIED:20260205T132830Z
UID:10008852-1898447400-1898454600@iwa-prague.com
SUMMARY:Choir
DESCRIPTION:
URL:https://iwa-prague.com/event/choir-2/2030-02-27/
CATEGORIES:Evening Groups
ATTACH;FMTTYPE=image/jpeg:https://iwa-prague.com/wp-content/uploads/2026/02/choir-OPT.jpg
ORGANIZER;CN="Leslie Nicholson":MAILTO:choir@iwa-prague.com
END:VEVENT
BEGIN:VEVENT
DTSTART;TZID=Europe/Prague:20300327T183000
DTEND;TZID=Europe/Prague:20300327T203000
DTSTAMP:20260424T151946
CREATED:20260205T132756Z
LAST-MODIFIED:20260205T132830Z
UID:10008853-1900866600-1900873800@iwa-prague.com
SUMMARY:Choir
DESCRIPTION:
URL:https://iwa-prague.com/event/choir-2/2030-03-27/
CATEGORIES:Evening Groups
ATTACH;FMTTYPE=image/jpeg:https://iwa-prague.com/wp-content/uploads/2026/02/choir-OPT.jpg
ORGANIZER;CN="Leslie Nicholson":MAILTO:choir@iwa-prague.com
END:VEVENT
BEGIN:VEVENT
DTSTART;TZID=Europe/Prague:20300424T183000
DTEND;TZID=Europe/Prague:20300424T203000
DTSTAMP:20260424T151946
CREATED:20260205T132756Z
LAST-MODIFIED:20260205T132830Z
UID:10008854-1903285800-1903293000@iwa-prague.com
SUMMARY:Choir
DESCRIPTION:
URL:https://iwa-prague.com/event/choir-2/2030-04-24/
CATEGORIES:Evening Groups
ATTACH;FMTTYPE=image/jpeg:https://iwa-prague.com/wp-content/uploads/2026/02/choir-OPT.jpg
ORGANIZER;CN="Leslie Nicholson":MAILTO:choir@iwa-prague.com
END:VEVENT
BEGIN:VEVENT
DTSTART;TZID=Europe/Prague:20300522T183000
DTEND;TZID=Europe/Prague:20300522T203000
DTSTAMP:20260424T151946
CREATED:20260205T132756Z
LAST-MODIFIED:20260205T132830Z
UID:10008855-1905705000-1905712200@iwa-prague.com
SUMMARY:Choir
DESCRIPTION:
URL:https://iwa-prague.com/event/choir-2/2030-05-22/
CATEGORIES:Evening Groups
ATTACH;FMTTYPE=image/jpeg:https://iwa-prague.com/wp-content/uploads/2026/02/choir-OPT.jpg
ORGANIZER;CN="Leslie Nicholson":MAILTO:choir@iwa-prague.com
END:VEVENT
BEGIN:VEVENT
DTSTART;TZID=Europe/Prague:20300626T183000
DTEND;TZID=Europe/Prague:20300626T203000
DTSTAMP:20260424T151946
CREATED:20260205T132756Z
LAST-MODIFIED:20260205T132830Z
UID:10008856-1908729000-1908736200@iwa-prague.com
SUMMARY:Choir
DESCRIPTION:
URL:https://iwa-prague.com/event/choir-2/2030-06-26/
CATEGORIES:Evening Groups
ATTACH;FMTTYPE=image/jpeg:https://iwa-prague.com/wp-content/uploads/2026/02/choir-OPT.jpg
ORGANIZER;CN="Leslie Nicholson":MAILTO:choir@iwa-prague.com
END:VEVENT
BEGIN:VEVENT
DTSTART;TZID=Europe/Prague:20300724T183000
DTEND;TZID=Europe/Prague:20300724T203000
DTSTAMP:20260424T151946
CREATED:20260205T132756Z
LAST-MODIFIED:20260205T132830Z
UID:10008857-1911148200-1911155400@iwa-prague.com
SUMMARY:Choir
DESCRIPTION:
URL:https://iwa-prague.com/event/choir-2/2030-07-24/
CATEGORIES:Evening Groups
ATTACH;FMTTYPE=image/jpeg:https://iwa-prague.com/wp-content/uploads/2026/02/choir-OPT.jpg
ORGANIZER;CN="Leslie Nicholson":MAILTO:choir@iwa-prague.com
END:VEVENT
BEGIN:VEVENT
DTSTART;TZID=Europe/Prague:20300828T183000
DTEND;TZID=Europe/Prague:20300828T203000
DTSTAMP:20260424T151946
CREATED:20260205T132756Z
LAST-MODIFIED:20260205T132830Z
UID:10008858-1914172200-1914179400@iwa-prague.com
SUMMARY:Choir
DESCRIPTION:
URL:https://iwa-prague.com/event/choir-2/2030-08-28/
CATEGORIES:Evening Groups
ATTACH;FMTTYPE=image/jpeg:https://iwa-prague.com/wp-content/uploads/2026/02/choir-OPT.jpg
ORGANIZER;CN="Leslie Nicholson":MAILTO:choir@iwa-prague.com
END:VEVENT
BEGIN:VEVENT
DTSTART;TZID=Europe/Prague:20300925T183000
DTEND;TZID=Europe/Prague:20300925T203000
DTSTAMP:20260424T151946
CREATED:20260205T132756Z
LAST-MODIFIED:20260205T132830Z
UID:10008859-1916591400-1916598600@iwa-prague.com
SUMMARY:Choir
DESCRIPTION:
URL:https://iwa-prague.com/event/choir-2/2030-09-25/
CATEGORIES:Evening Groups
ATTACH;FMTTYPE=image/jpeg:https://iwa-prague.com/wp-content/uploads/2026/02/choir-OPT.jpg
ORGANIZER;CN="Leslie Nicholson":MAILTO:choir@iwa-prague.com
END:VEVENT
BEGIN:VEVENT
DTSTART;TZID=Europe/Prague:20301023T183000
DTEND;TZID=Europe/Prague:20301023T203000
DTSTAMP:20260424T151946
CREATED:20260205T132756Z
LAST-MODIFIED:20260205T132830Z
UID:10008860-1919010600-1919017800@iwa-prague.com
SUMMARY:Choir
DESCRIPTION:
URL:https://iwa-prague.com/event/choir-2/2030-10-23/
CATEGORIES:Evening Groups
ATTACH;FMTTYPE=image/jpeg:https://iwa-prague.com/wp-content/uploads/2026/02/choir-OPT.jpg
ORGANIZER;CN="Leslie Nicholson":MAILTO:choir@iwa-prague.com
END:VEVENT
END:VCALENDAR