BEGIN:VCALENDAR
VERSION:2.0
PRODID:-//International Women&#039;s Association of Prague - ECPv6.15.20//NONSGML v1.0//EN
CALSCALE:GREGORIAN
METHOD:PUBLISH
X-ORIGINAL-URL:https://iwa-prague.com
X-WR-CALDESC:Events for International Women&#039;s Association of Prague
REFRESH-INTERVAL;VALUE=DURATION:PT1H
X-Robots-Tag:noindex
X-PUBLISHED-TTL:PT1H
BEGIN:VTIMEZONE
TZID:Europe/Prague
BEGIN:DAYLIGHT
TZOFFSETFROM:+0100
TZOFFSETTO:+0200
TZNAME:CEST
DTSTART:20260329T010000
END:DAYLIGHT
BEGIN:STANDARD
TZOFFSETFROM:+0200
TZOFFSETTO:+0100
TZNAME:CET
DTSTART:20261025T010000
END:STANDARD
BEGIN:DAYLIGHT
TZOFFSETFROM:+0100
TZOFFSETTO:+0200
TZNAME:CEST
DTSTART:20270328T010000
END:DAYLIGHT
BEGIN:STANDARD
TZOFFSETFROM:+0200
TZOFFSETTO:+0100
TZNAME:CET
DTSTART:20271031T010000
END:STANDARD
BEGIN:DAYLIGHT
TZOFFSETFROM:+0100
TZOFFSETTO:+0200
TZNAME:CEST
DTSTART:20280326T010000
END:DAYLIGHT
BEGIN:STANDARD
TZOFFSETFROM:+0200
TZOFFSETTO:+0100
TZNAME:CET
DTSTART:20281029T010000
END:STANDARD
BEGIN:DAYLIGHT
TZOFFSETFROM:+0100
TZOFFSETTO:+0200
TZNAME:CEST
DTSTART:20290325T010000
END:DAYLIGHT
BEGIN:STANDARD
TZOFFSETFROM:+0200
TZOFFSETTO:+0100
TZNAME:CET
DTSTART:20291028T010000
END:STANDARD
BEGIN:DAYLIGHT
TZOFFSETFROM:+0100
TZOFFSETTO:+0200
TZNAME:CEST
DTSTART:20300331T010000
END:DAYLIGHT
BEGIN:STANDARD
TZOFFSETFROM:+0200
TZOFFSETTO:+0100
TZNAME:CET
DTSTART:20301027T010000
END:STANDARD
END:VTIMEZONE
BEGIN:VEVENT
DTSTART;TZID=Europe/Prague:20270526T103000
DTEND;TZID=Europe/Prague:20270526T123000
DTSTAMP:20260425T025405
CREATED:20240925T095420Z
LAST-MODIFIED:20260311T163935Z
UID:10007126-1811327400-1811334600@iwa-prague.com
SUMMARY:Photography
DESCRIPTION:Photography as the visual art offers us the unique way to treasure our memories and to tell the stories from the place we live. Everybody who feels the same way can join our Photography Group. We focus on learning and sharing techniques\, knowledge and friendship among our members. We meet once a month at different locations and follow various themes. All levels welcome.
URL:https://iwa-prague.com/event/photography-group/2027-05-26/
CATEGORIES:Creative Pursuits & Gourmet
ATTACH;FMTTYPE=image/jpeg:https://iwa-prague.com/wp-content/uploads/2018/02/photography-OPT.jpg
ORGANIZER;CN="Sandra Hill":MAILTO:eveningcinema@iwa-prague.com
END:VEVENT
BEGIN:VEVENT
DTSTART;TZID=Europe/Prague:20270623T103000
DTEND;TZID=Europe/Prague:20270623T123000
DTSTAMP:20260425T025405
CREATED:20240925T095420Z
LAST-MODIFIED:20260311T163935Z
UID:10007127-1813746600-1813753800@iwa-prague.com
SUMMARY:Photography
DESCRIPTION:Photography as the visual art offers us the unique way to treasure our memories and to tell the stories from the place we live. Everybody who feels the same way can join our Photography Group. We focus on learning and sharing techniques\, knowledge and friendship among our members. We meet once a month at different locations and follow various themes. All levels welcome.
URL:https://iwa-prague.com/event/photography-group/2027-06-23/
CATEGORIES:Creative Pursuits & Gourmet
ATTACH;FMTTYPE=image/jpeg:https://iwa-prague.com/wp-content/uploads/2018/02/photography-OPT.jpg
ORGANIZER;CN="Sandra Hill":MAILTO:eveningcinema@iwa-prague.com
END:VEVENT
BEGIN:VEVENT
DTSTART;TZID=Europe/Prague:20270728T103000
DTEND;TZID=Europe/Prague:20270728T123000
DTSTAMP:20260425T025405
CREATED:20240925T095420Z
LAST-MODIFIED:20260311T163935Z
UID:10007128-1816770600-1816777800@iwa-prague.com
SUMMARY:Photography
DESCRIPTION:Photography as the visual art offers us the unique way to treasure our memories and to tell the stories from the place we live. Everybody who feels the same way can join our Photography Group. We focus on learning and sharing techniques\, knowledge and friendship among our members. We meet once a month at different locations and follow various themes. All levels welcome.
URL:https://iwa-prague.com/event/photography-group/2027-07-28/
CATEGORIES:Creative Pursuits & Gourmet
ATTACH;FMTTYPE=image/jpeg:https://iwa-prague.com/wp-content/uploads/2018/02/photography-OPT.jpg
ORGANIZER;CN="Sandra Hill":MAILTO:eveningcinema@iwa-prague.com
END:VEVENT
BEGIN:VEVENT
DTSTART;TZID=Europe/Prague:20270825T103000
DTEND;TZID=Europe/Prague:20270825T123000
DTSTAMP:20260425T025405
CREATED:20240925T095420Z
LAST-MODIFIED:20260311T163935Z
UID:10007129-1819189800-1819197000@iwa-prague.com
SUMMARY:Photography
DESCRIPTION:Photography as the visual art offers us the unique way to treasure our memories and to tell the stories from the place we live. Everybody who feels the same way can join our Photography Group. We focus on learning and sharing techniques\, knowledge and friendship among our members. We meet once a month at different locations and follow various themes. All levels welcome.
URL:https://iwa-prague.com/event/photography-group/2027-08-25/
CATEGORIES:Creative Pursuits & Gourmet
ATTACH;FMTTYPE=image/jpeg:https://iwa-prague.com/wp-content/uploads/2018/02/photography-OPT.jpg
ORGANIZER;CN="Sandra Hill":MAILTO:eveningcinema@iwa-prague.com
END:VEVENT
BEGIN:VEVENT
DTSTART;TZID=Europe/Prague:20270922T103000
DTEND;TZID=Europe/Prague:20270922T123000
DTSTAMP:20260425T025405
CREATED:20240925T095420Z
LAST-MODIFIED:20260311T163935Z
UID:10007130-1821609000-1821616200@iwa-prague.com
SUMMARY:Photography
DESCRIPTION:Photography as the visual art offers us the unique way to treasure our memories and to tell the stories from the place we live. Everybody who feels the same way can join our Photography Group. We focus on learning and sharing techniques\, knowledge and friendship among our members. We meet once a month at different locations and follow various themes. All levels welcome.
URL:https://iwa-prague.com/event/photography-group/2027-09-22/
CATEGORIES:Creative Pursuits & Gourmet
ATTACH;FMTTYPE=image/jpeg:https://iwa-prague.com/wp-content/uploads/2018/02/photography-OPT.jpg
ORGANIZER;CN="Sandra Hill":MAILTO:eveningcinema@iwa-prague.com
END:VEVENT
BEGIN:VEVENT
DTSTART;TZID=Europe/Prague:20271027T103000
DTEND;TZID=Europe/Prague:20271027T123000
DTSTAMP:20260425T025405
CREATED:20240925T095420Z
LAST-MODIFIED:20260311T163935Z
UID:10007131-1824633000-1824640200@iwa-prague.com
SUMMARY:Photography
DESCRIPTION:Photography as the visual art offers us the unique way to treasure our memories and to tell the stories from the place we live. Everybody who feels the same way can join our Photography Group. We focus on learning and sharing techniques\, knowledge and friendship among our members. We meet once a month at different locations and follow various themes. All levels welcome.
URL:https://iwa-prague.com/event/photography-group/2027-10-27/
CATEGORIES:Creative Pursuits & Gourmet
ATTACH;FMTTYPE=image/jpeg:https://iwa-prague.com/wp-content/uploads/2018/02/photography-OPT.jpg
ORGANIZER;CN="Sandra Hill":MAILTO:eveningcinema@iwa-prague.com
END:VEVENT
BEGIN:VEVENT
DTSTART;TZID=Europe/Prague:20271124T103000
DTEND;TZID=Europe/Prague:20271124T123000
DTSTAMP:20260425T025405
CREATED:20240925T095420Z
LAST-MODIFIED:20260311T163935Z
UID:10007132-1827052200-1827059400@iwa-prague.com
SUMMARY:Photography
DESCRIPTION:Photography as the visual art offers us the unique way to treasure our memories and to tell the stories from the place we live. Everybody who feels the same way can join our Photography Group. We focus on learning and sharing techniques\, knowledge and friendship among our members. We meet once a month at different locations and follow various themes. All levels welcome.
URL:https://iwa-prague.com/event/photography-group/2027-11-24/
CATEGORIES:Creative Pursuits & Gourmet
ATTACH;FMTTYPE=image/jpeg:https://iwa-prague.com/wp-content/uploads/2018/02/photography-OPT.jpg
ORGANIZER;CN="Sandra Hill":MAILTO:eveningcinema@iwa-prague.com
END:VEVENT
BEGIN:VEVENT
DTSTART;TZID=Europe/Prague:20271222T103000
DTEND;TZID=Europe/Prague:20271222T123000
DTSTAMP:20260425T025405
CREATED:20240925T095420Z
LAST-MODIFIED:20260311T163935Z
UID:10007133-1829471400-1829478600@iwa-prague.com
SUMMARY:Photography
DESCRIPTION:Photography as the visual art offers us the unique way to treasure our memories and to tell the stories from the place we live. Everybody who feels the same way can join our Photography Group. We focus on learning and sharing techniques\, knowledge and friendship among our members. We meet once a month at different locations and follow various themes. All levels welcome.
URL:https://iwa-prague.com/event/photography-group/2027-12-22/
CATEGORIES:Creative Pursuits & Gourmet
ATTACH;FMTTYPE=image/jpeg:https://iwa-prague.com/wp-content/uploads/2018/02/photography-OPT.jpg
ORGANIZER;CN="Sandra Hill":MAILTO:eveningcinema@iwa-prague.com
END:VEVENT
BEGIN:VEVENT
DTSTART;TZID=Europe/Prague:20280126T103000
DTEND;TZID=Europe/Prague:20280126T123000
DTSTAMP:20260425T025405
CREATED:20240925T095420Z
LAST-MODIFIED:20260311T163935Z
UID:10007134-1832495400-1832502600@iwa-prague.com
SUMMARY:Photography
DESCRIPTION:Photography as the visual art offers us the unique way to treasure our memories and to tell the stories from the place we live. Everybody who feels the same way can join our Photography Group. We focus on learning and sharing techniques\, knowledge and friendship among our members. We meet once a month at different locations and follow various themes. All levels welcome.
URL:https://iwa-prague.com/event/photography-group/2028-01-26/
CATEGORIES:Creative Pursuits & Gourmet
ATTACH;FMTTYPE=image/jpeg:https://iwa-prague.com/wp-content/uploads/2018/02/photography-OPT.jpg
ORGANIZER;CN="Sandra Hill":MAILTO:eveningcinema@iwa-prague.com
END:VEVENT
BEGIN:VEVENT
DTSTART;TZID=Europe/Prague:20280223T103000
DTEND;TZID=Europe/Prague:20280223T123000
DTSTAMP:20260425T025405
CREATED:20240925T095420Z
LAST-MODIFIED:20260311T163935Z
UID:10007135-1834914600-1834921800@iwa-prague.com
SUMMARY:Photography
DESCRIPTION:Photography as the visual art offers us the unique way to treasure our memories and to tell the stories from the place we live. Everybody who feels the same way can join our Photography Group. We focus on learning and sharing techniques\, knowledge and friendship among our members. We meet once a month at different locations and follow various themes. All levels welcome.
URL:https://iwa-prague.com/event/photography-group/2028-02-23/
CATEGORIES:Creative Pursuits & Gourmet
ATTACH;FMTTYPE=image/jpeg:https://iwa-prague.com/wp-content/uploads/2018/02/photography-OPT.jpg
ORGANIZER;CN="Sandra Hill":MAILTO:eveningcinema@iwa-prague.com
END:VEVENT
BEGIN:VEVENT
DTSTART;TZID=Europe/Prague:20280322T103000
DTEND;TZID=Europe/Prague:20280322T123000
DTSTAMP:20260425T025405
CREATED:20240925T095420Z
LAST-MODIFIED:20260311T163935Z
UID:10007136-1837333800-1837341000@iwa-prague.com
SUMMARY:Photography
DESCRIPTION:Photography as the visual art offers us the unique way to treasure our memories and to tell the stories from the place we live. Everybody who feels the same way can join our Photography Group. We focus on learning and sharing techniques\, knowledge and friendship among our members. We meet once a month at different locations and follow various themes. All levels welcome.
URL:https://iwa-prague.com/event/photography-group/2028-03-22/
CATEGORIES:Creative Pursuits & Gourmet
ATTACH;FMTTYPE=image/jpeg:https://iwa-prague.com/wp-content/uploads/2018/02/photography-OPT.jpg
ORGANIZER;CN="Sandra Hill":MAILTO:eveningcinema@iwa-prague.com
END:VEVENT
BEGIN:VEVENT
DTSTART;TZID=Europe/Prague:20280426T103000
DTEND;TZID=Europe/Prague:20280426T123000
DTSTAMP:20260425T025405
CREATED:20240925T095420Z
LAST-MODIFIED:20260311T163935Z
UID:10007137-1840357800-1840365000@iwa-prague.com
SUMMARY:Photography
DESCRIPTION:Photography as the visual art offers us the unique way to treasure our memories and to tell the stories from the place we live. Everybody who feels the same way can join our Photography Group. We focus on learning and sharing techniques\, knowledge and friendship among our members. We meet once a month at different locations and follow various themes. All levels welcome.
URL:https://iwa-prague.com/event/photography-group/2028-04-26/
CATEGORIES:Creative Pursuits & Gourmet
ATTACH;FMTTYPE=image/jpeg:https://iwa-prague.com/wp-content/uploads/2018/02/photography-OPT.jpg
ORGANIZER;CN="Sandra Hill":MAILTO:eveningcinema@iwa-prague.com
END:VEVENT
BEGIN:VEVENT
DTSTART;TZID=Europe/Prague:20280524T103000
DTEND;TZID=Europe/Prague:20280524T123000
DTSTAMP:20260425T025405
CREATED:20240925T095420Z
LAST-MODIFIED:20260311T163935Z
UID:10007138-1842777000-1842784200@iwa-prague.com
SUMMARY:Photography
DESCRIPTION:Photography as the visual art offers us the unique way to treasure our memories and to tell the stories from the place we live. Everybody who feels the same way can join our Photography Group. We focus on learning and sharing techniques\, knowledge and friendship among our members. We meet once a month at different locations and follow various themes. All levels welcome.
URL:https://iwa-prague.com/event/photography-group/2028-05-24/
CATEGORIES:Creative Pursuits & Gourmet
ATTACH;FMTTYPE=image/jpeg:https://iwa-prague.com/wp-content/uploads/2018/02/photography-OPT.jpg
ORGANIZER;CN="Sandra Hill":MAILTO:eveningcinema@iwa-prague.com
END:VEVENT
BEGIN:VEVENT
DTSTART;TZID=Europe/Prague:20280628T103000
DTEND;TZID=Europe/Prague:20280628T123000
DTSTAMP:20260425T025405
CREATED:20240925T095420Z
LAST-MODIFIED:20260311T163935Z
UID:10007139-1845801000-1845808200@iwa-prague.com
SUMMARY:Photography
DESCRIPTION:Photography as the visual art offers us the unique way to treasure our memories and to tell the stories from the place we live. Everybody who feels the same way can join our Photography Group. We focus on learning and sharing techniques\, knowledge and friendship among our members. We meet once a month at different locations and follow various themes. All levels welcome.
URL:https://iwa-prague.com/event/photography-group/2028-06-28/
CATEGORIES:Creative Pursuits & Gourmet
ATTACH;FMTTYPE=image/jpeg:https://iwa-prague.com/wp-content/uploads/2018/02/photography-OPT.jpg
ORGANIZER;CN="Sandra Hill":MAILTO:eveningcinema@iwa-prague.com
END:VEVENT
BEGIN:VEVENT
DTSTART;TZID=Europe/Prague:20280726T103000
DTEND;TZID=Europe/Prague:20280726T123000
DTSTAMP:20260425T025405
CREATED:20240925T095420Z
LAST-MODIFIED:20260311T163935Z
UID:10007140-1848220200-1848227400@iwa-prague.com
SUMMARY:Photography
DESCRIPTION:Photography as the visual art offers us the unique way to treasure our memories and to tell the stories from the place we live. Everybody who feels the same way can join our Photography Group. We focus on learning and sharing techniques\, knowledge and friendship among our members. We meet once a month at different locations and follow various themes. All levels welcome.
URL:https://iwa-prague.com/event/photography-group/2028-07-26/
CATEGORIES:Creative Pursuits & Gourmet
ATTACH;FMTTYPE=image/jpeg:https://iwa-prague.com/wp-content/uploads/2018/02/photography-OPT.jpg
ORGANIZER;CN="Sandra Hill":MAILTO:eveningcinema@iwa-prague.com
END:VEVENT
BEGIN:VEVENT
DTSTART;TZID=Europe/Prague:20280823T103000
DTEND;TZID=Europe/Prague:20280823T123000
DTSTAMP:20260425T025405
CREATED:20240925T095420Z
LAST-MODIFIED:20260311T163935Z
UID:10007141-1850639400-1850646600@iwa-prague.com
SUMMARY:Photography
DESCRIPTION:Photography as the visual art offers us the unique way to treasure our memories and to tell the stories from the place we live. Everybody who feels the same way can join our Photography Group. We focus on learning and sharing techniques\, knowledge and friendship among our members. We meet once a month at different locations and follow various themes. All levels welcome.
URL:https://iwa-prague.com/event/photography-group/2028-08-23/
CATEGORIES:Creative Pursuits & Gourmet
ATTACH;FMTTYPE=image/jpeg:https://iwa-prague.com/wp-content/uploads/2018/02/photography-OPT.jpg
ORGANIZER;CN="Sandra Hill":MAILTO:eveningcinema@iwa-prague.com
END:VEVENT
BEGIN:VEVENT
DTSTART;TZID=Europe/Prague:20280927T103000
DTEND;TZID=Europe/Prague:20280927T123000
DTSTAMP:20260425T025405
CREATED:20240925T095420Z
LAST-MODIFIED:20260311T163935Z
UID:10007142-1853663400-1853670600@iwa-prague.com
SUMMARY:Photography
DESCRIPTION:Photography as the visual art offers us the unique way to treasure our memories and to tell the stories from the place we live. Everybody who feels the same way can join our Photography Group. We focus on learning and sharing techniques\, knowledge and friendship among our members. We meet once a month at different locations and follow various themes. All levels welcome.
URL:https://iwa-prague.com/event/photography-group/2028-09-27/
CATEGORIES:Creative Pursuits & Gourmet
ATTACH;FMTTYPE=image/jpeg:https://iwa-prague.com/wp-content/uploads/2018/02/photography-OPT.jpg
ORGANIZER;CN="Sandra Hill":MAILTO:eveningcinema@iwa-prague.com
END:VEVENT
BEGIN:VEVENT
DTSTART;TZID=Europe/Prague:20281025T103000
DTEND;TZID=Europe/Prague:20281025T123000
DTSTAMP:20260425T025405
CREATED:20240925T095420Z
LAST-MODIFIED:20260311T163935Z
UID:10007143-1856082600-1856089800@iwa-prague.com
SUMMARY:Photography
DESCRIPTION:Photography as the visual art offers us the unique way to treasure our memories and to tell the stories from the place we live. Everybody who feels the same way can join our Photography Group. We focus on learning and sharing techniques\, knowledge and friendship among our members. We meet once a month at different locations and follow various themes. All levels welcome.
URL:https://iwa-prague.com/event/photography-group/2028-10-25/
CATEGORIES:Creative Pursuits & Gourmet
ATTACH;FMTTYPE=image/jpeg:https://iwa-prague.com/wp-content/uploads/2018/02/photography-OPT.jpg
ORGANIZER;CN="Sandra Hill":MAILTO:eveningcinema@iwa-prague.com
END:VEVENT
BEGIN:VEVENT
DTSTART;TZID=Europe/Prague:20281122T103000
DTEND;TZID=Europe/Prague:20281122T123000
DTSTAMP:20260425T025405
CREATED:20240925T095420Z
LAST-MODIFIED:20260311T163935Z
UID:10007144-1858501800-1858509000@iwa-prague.com
SUMMARY:Photography
DESCRIPTION:Photography as the visual art offers us the unique way to treasure our memories and to tell the stories from the place we live. Everybody who feels the same way can join our Photography Group. We focus on learning and sharing techniques\, knowledge and friendship among our members. We meet once a month at different locations and follow various themes. All levels welcome.
URL:https://iwa-prague.com/event/photography-group/2028-11-22/
CATEGORIES:Creative Pursuits & Gourmet
ATTACH;FMTTYPE=image/jpeg:https://iwa-prague.com/wp-content/uploads/2018/02/photography-OPT.jpg
ORGANIZER;CN="Sandra Hill":MAILTO:eveningcinema@iwa-prague.com
END:VEVENT
BEGIN:VEVENT
DTSTART;TZID=Europe/Prague:20281227T103000
DTEND;TZID=Europe/Prague:20281227T123000
DTSTAMP:20260425T025405
CREATED:20240925T095420Z
LAST-MODIFIED:20260311T163935Z
UID:10007145-1861525800-1861533000@iwa-prague.com
SUMMARY:Photography
DESCRIPTION:Photography as the visual art offers us the unique way to treasure our memories and to tell the stories from the place we live. Everybody who feels the same way can join our Photography Group. We focus on learning and sharing techniques\, knowledge and friendship among our members. We meet once a month at different locations and follow various themes. All levels welcome.
URL:https://iwa-prague.com/event/photography-group/2028-12-27/
CATEGORIES:Creative Pursuits & Gourmet
ATTACH;FMTTYPE=image/jpeg:https://iwa-prague.com/wp-content/uploads/2018/02/photography-OPT.jpg
ORGANIZER;CN="Sandra Hill":MAILTO:eveningcinema@iwa-prague.com
END:VEVENT
BEGIN:VEVENT
DTSTART;TZID=Europe/Prague:20290124T103000
DTEND;TZID=Europe/Prague:20290124T123000
DTSTAMP:20260425T025405
CREATED:20240925T095420Z
LAST-MODIFIED:20260311T163935Z
UID:10007146-1863945000-1863952200@iwa-prague.com
SUMMARY:Photography
DESCRIPTION:Photography as the visual art offers us the unique way to treasure our memories and to tell the stories from the place we live. Everybody who feels the same way can join our Photography Group. We focus on learning and sharing techniques\, knowledge and friendship among our members. We meet once a month at different locations and follow various themes. All levels welcome.
URL:https://iwa-prague.com/event/photography-group/2029-01-24/
CATEGORIES:Creative Pursuits & Gourmet
ATTACH;FMTTYPE=image/jpeg:https://iwa-prague.com/wp-content/uploads/2018/02/photography-OPT.jpg
ORGANIZER;CN="Sandra Hill":MAILTO:eveningcinema@iwa-prague.com
END:VEVENT
BEGIN:VEVENT
DTSTART;TZID=Europe/Prague:20290228T103000
DTEND;TZID=Europe/Prague:20290228T123000
DTSTAMP:20260425T025405
CREATED:20240925T095420Z
LAST-MODIFIED:20260311T163935Z
UID:10007147-1866969000-1866976200@iwa-prague.com
SUMMARY:Photography
DESCRIPTION:Photography as the visual art offers us the unique way to treasure our memories and to tell the stories from the place we live. Everybody who feels the same way can join our Photography Group. We focus on learning and sharing techniques\, knowledge and friendship among our members. We meet once a month at different locations and follow various themes. All levels welcome.
URL:https://iwa-prague.com/event/photography-group/2029-02-28/
CATEGORIES:Creative Pursuits & Gourmet
ATTACH;FMTTYPE=image/jpeg:https://iwa-prague.com/wp-content/uploads/2018/02/photography-OPT.jpg
ORGANIZER;CN="Sandra Hill":MAILTO:eveningcinema@iwa-prague.com
END:VEVENT
BEGIN:VEVENT
DTSTART;TZID=Europe/Prague:20290328T103000
DTEND;TZID=Europe/Prague:20290328T123000
DTSTAMP:20260425T025405
CREATED:20240925T095420Z
LAST-MODIFIED:20260311T163935Z
UID:10007148-1869388200-1869395400@iwa-prague.com
SUMMARY:Photography
DESCRIPTION:Photography as the visual art offers us the unique way to treasure our memories and to tell the stories from the place we live. Everybody who feels the same way can join our Photography Group. We focus on learning and sharing techniques\, knowledge and friendship among our members. We meet once a month at different locations and follow various themes. All levels welcome.
URL:https://iwa-prague.com/event/photography-group/2029-03-28/
CATEGORIES:Creative Pursuits & Gourmet
ATTACH;FMTTYPE=image/jpeg:https://iwa-prague.com/wp-content/uploads/2018/02/photography-OPT.jpg
ORGANIZER;CN="Sandra Hill":MAILTO:eveningcinema@iwa-prague.com
END:VEVENT
BEGIN:VEVENT
DTSTART;TZID=Europe/Prague:20290425T103000
DTEND;TZID=Europe/Prague:20290425T123000
DTSTAMP:20260425T025405
CREATED:20240925T095420Z
LAST-MODIFIED:20260311T163935Z
UID:10007149-1871807400-1871814600@iwa-prague.com
SUMMARY:Photography
DESCRIPTION:Photography as the visual art offers us the unique way to treasure our memories and to tell the stories from the place we live. Everybody who feels the same way can join our Photography Group. We focus on learning and sharing techniques\, knowledge and friendship among our members. We meet once a month at different locations and follow various themes. All levels welcome.
URL:https://iwa-prague.com/event/photography-group/2029-04-25/
CATEGORIES:Creative Pursuits & Gourmet
ATTACH;FMTTYPE=image/jpeg:https://iwa-prague.com/wp-content/uploads/2018/02/photography-OPT.jpg
ORGANIZER;CN="Sandra Hill":MAILTO:eveningcinema@iwa-prague.com
END:VEVENT
BEGIN:VEVENT
DTSTART;TZID=Europe/Prague:20290523T103000
DTEND;TZID=Europe/Prague:20290523T123000
DTSTAMP:20260425T025405
CREATED:20240925T095420Z
LAST-MODIFIED:20260311T163935Z
UID:10007150-1874226600-1874233800@iwa-prague.com
SUMMARY:Photography
DESCRIPTION:Photography as the visual art offers us the unique way to treasure our memories and to tell the stories from the place we live. Everybody who feels the same way can join our Photography Group. We focus on learning and sharing techniques\, knowledge and friendship among our members. We meet once a month at different locations and follow various themes. All levels welcome.
URL:https://iwa-prague.com/event/photography-group/2029-05-23/
CATEGORIES:Creative Pursuits & Gourmet
ATTACH;FMTTYPE=image/jpeg:https://iwa-prague.com/wp-content/uploads/2018/02/photography-OPT.jpg
ORGANIZER;CN="Sandra Hill":MAILTO:eveningcinema@iwa-prague.com
END:VEVENT
BEGIN:VEVENT
DTSTART;TZID=Europe/Prague:20290627T103000
DTEND;TZID=Europe/Prague:20290627T123000
DTSTAMP:20260425T025405
CREATED:20240925T095420Z
LAST-MODIFIED:20260311T163935Z
UID:10007151-1877250600-1877257800@iwa-prague.com
SUMMARY:Photography
DESCRIPTION:Photography as the visual art offers us the unique way to treasure our memories and to tell the stories from the place we live. Everybody who feels the same way can join our Photography Group. We focus on learning and sharing techniques\, knowledge and friendship among our members. We meet once a month at different locations and follow various themes. All levels welcome.
URL:https://iwa-prague.com/event/photography-group/2029-06-27/
CATEGORIES:Creative Pursuits & Gourmet
ATTACH;FMTTYPE=image/jpeg:https://iwa-prague.com/wp-content/uploads/2018/02/photography-OPT.jpg
ORGANIZER;CN="Sandra Hill":MAILTO:eveningcinema@iwa-prague.com
END:VEVENT
BEGIN:VEVENT
DTSTART;TZID=Europe/Prague:20290725T103000
DTEND;TZID=Europe/Prague:20290725T123000
DTSTAMP:20260425T025405
CREATED:20240925T095420Z
LAST-MODIFIED:20260311T163935Z
UID:10007152-1879669800-1879677000@iwa-prague.com
SUMMARY:Photography
DESCRIPTION:Photography as the visual art offers us the unique way to treasure our memories and to tell the stories from the place we live. Everybody who feels the same way can join our Photography Group. We focus on learning and sharing techniques\, knowledge and friendship among our members. We meet once a month at different locations and follow various themes. All levels welcome.
URL:https://iwa-prague.com/event/photography-group/2029-07-25/
CATEGORIES:Creative Pursuits & Gourmet
ATTACH;FMTTYPE=image/jpeg:https://iwa-prague.com/wp-content/uploads/2018/02/photography-OPT.jpg
ORGANIZER;CN="Sandra Hill":MAILTO:eveningcinema@iwa-prague.com
END:VEVENT
BEGIN:VEVENT
DTSTART;TZID=Europe/Prague:20290822T103000
DTEND;TZID=Europe/Prague:20290822T123000
DTSTAMP:20260425T025405
CREATED:20240925T095420Z
LAST-MODIFIED:20260311T163935Z
UID:10007153-1882089000-1882096200@iwa-prague.com
SUMMARY:Photography
DESCRIPTION:Photography as the visual art offers us the unique way to treasure our memories and to tell the stories from the place we live. Everybody who feels the same way can join our Photography Group. We focus on learning and sharing techniques\, knowledge and friendship among our members. We meet once a month at different locations and follow various themes. All levels welcome.
URL:https://iwa-prague.com/event/photography-group/2029-08-22/
CATEGORIES:Creative Pursuits & Gourmet
ATTACH;FMTTYPE=image/jpeg:https://iwa-prague.com/wp-content/uploads/2018/02/photography-OPT.jpg
ORGANIZER;CN="Sandra Hill":MAILTO:eveningcinema@iwa-prague.com
END:VEVENT
BEGIN:VEVENT
DTSTART;TZID=Europe/Prague:20290926T103000
DTEND;TZID=Europe/Prague:20290926T123000
DTSTAMP:20260425T025405
CREATED:20240925T095420Z
LAST-MODIFIED:20260311T163935Z
UID:10007154-1885113000-1885120200@iwa-prague.com
SUMMARY:Photography
DESCRIPTION:Photography as the visual art offers us the unique way to treasure our memories and to tell the stories from the place we live. Everybody who feels the same way can join our Photography Group. We focus on learning and sharing techniques\, knowledge and friendship among our members. We meet once a month at different locations and follow various themes. All levels welcome.
URL:https://iwa-prague.com/event/photography-group/2029-09-26/
CATEGORIES:Creative Pursuits & Gourmet
ATTACH;FMTTYPE=image/jpeg:https://iwa-prague.com/wp-content/uploads/2018/02/photography-OPT.jpg
ORGANIZER;CN="Sandra Hill":MAILTO:eveningcinema@iwa-prague.com
END:VEVENT
BEGIN:VEVENT
DTSTART;TZID=Europe/Prague:20291024T103000
DTEND;TZID=Europe/Prague:20291024T123000
DTSTAMP:20260425T025405
CREATED:20240925T095420Z
LAST-MODIFIED:20260311T163935Z
UID:10007155-1887532200-1887539400@iwa-prague.com
SUMMARY:Photography
DESCRIPTION:Photography as the visual art offers us the unique way to treasure our memories and to tell the stories from the place we live. Everybody who feels the same way can join our Photography Group. We focus on learning and sharing techniques\, knowledge and friendship among our members. We meet once a month at different locations and follow various themes. All levels welcome.
URL:https://iwa-prague.com/event/photography-group/2029-10-24/
CATEGORIES:Creative Pursuits & Gourmet
ATTACH;FMTTYPE=image/jpeg:https://iwa-prague.com/wp-content/uploads/2018/02/photography-OPT.jpg
ORGANIZER;CN="Sandra Hill":MAILTO:eveningcinema@iwa-prague.com
END:VEVENT
END:VCALENDAR