BEGIN:VCALENDAR
VERSION:2.0
PRODID:-//International Women&#039;s Association of Prague - ECPv6.15.20//NONSGML v1.0//EN
CALSCALE:GREGORIAN
METHOD:PUBLISH
X-ORIGINAL-URL:https://iwa-prague.com
X-WR-CALDESC:Events for International Women&#039;s Association of Prague
REFRESH-INTERVAL;VALUE=DURATION:PT1H
X-Robots-Tag:noindex
X-PUBLISHED-TTL:PT1H
BEGIN:VTIMEZONE
TZID:Europe/Prague
BEGIN:DAYLIGHT
TZOFFSETFROM:+0100
TZOFFSETTO:+0200
TZNAME:CEST
DTSTART:20250330T010000
END:DAYLIGHT
BEGIN:STANDARD
TZOFFSETFROM:+0200
TZOFFSETTO:+0100
TZNAME:CET
DTSTART:20251026T010000
END:STANDARD
BEGIN:DAYLIGHT
TZOFFSETFROM:+0100
TZOFFSETTO:+0200
TZNAME:CEST
DTSTART:20260329T010000
END:DAYLIGHT
BEGIN:STANDARD
TZOFFSETFROM:+0200
TZOFFSETTO:+0100
TZNAME:CET
DTSTART:20261025T010000
END:STANDARD
BEGIN:DAYLIGHT
TZOFFSETFROM:+0100
TZOFFSETTO:+0200
TZNAME:CEST
DTSTART:20270328T010000
END:DAYLIGHT
BEGIN:STANDARD
TZOFFSETFROM:+0200
TZOFFSETTO:+0100
TZNAME:CET
DTSTART:20271031T010000
END:STANDARD
END:VTIMEZONE
BEGIN:VEVENT
DTSTART;TZID=Europe/Prague:20260706T140000
DTEND;TZID=Europe/Prague:20260706T153000
DTSTAMP:20260424T130153
CREATED:20240926T135507Z
LAST-MODIFIED:20260311T103100Z
UID:10001819-1783346400-1783351800@iwa-prague.com
SUMMARY:Kavarna Hopping
DESCRIPTION:
URL:https://iwa-prague.com/event/kavarna-hopping/2026-07-06/
CATEGORIES:Social Groups
ATTACH;FMTTYPE=image/jpeg:https://iwa-prague.com/wp-content/uploads/2024/09/kavarna-hopping-mar-2023-003-scaled.jpg
ORGANIZER;CN="Kim Strebel / Cathy Meils":MAILTO:kavarna@iwa-prague.com
END:VEVENT
BEGIN:VEVENT
DTSTART;TZID=Europe/Prague:20260707T090000
DTEND;TZID=Europe/Prague:20260707T100000
DTSTAMP:20260424T130153
CREATED:20240926T140857Z
LAST-MODIFIED:20241102T101214Z
UID:10002732-1783414800-1783418400@iwa-prague.com
SUMMARY:Tai Chi Chih
DESCRIPTION:
URL:https://iwa-prague.com/event/tai-chi-chih/2026-07-07/
CATEGORIES:Health & Wellness
ATTACH;FMTTYPE=image/jpeg:https://iwa-prague.com/wp-content/uploads/2022/10/TaiChi_Lebl_CMYK300.jpg
ORGANIZER;CN="Cheryl Caspe":MAILTO:taichi@iwa-prague.com
END:VEVENT
BEGIN:VEVENT
DTSTART;TZID=Europe/Prague:20260707T140000
DTEND;TZID=Europe/Prague:20260707T160000
DTSTAMP:20260424T130153
CREATED:20240926T140013Z
LAST-MODIFIED:20250605T154628Z
UID:10006808-1783432800-1783440000@iwa-prague.com
SUMMARY:Knit & Crochet
DESCRIPTION:
URL:https://iwa-prague.com/event/knitting-crochet-and-small-needlework/2026-07-07/
CATEGORIES:Creative Pursuits & Gourmet
ATTACH;FMTTYPE=image/jpeg:https://iwa-prague.com/wp-content/uploads/2017/02/Knitting-Jul-2021-OPT.jpg
ORGANIZER;CN="Charlotte Sommer":MAILTO:knitting@iwa-prague.com
END:VEVENT
BEGIN:VEVENT
DTSTART;TZID=Europe/Prague:20260707T140000
DTEND;TZID=Europe/Prague:20260707T160000
DTSTAMP:20260424T130153
CREATED:20241007T162706Z
LAST-MODIFIED:20260224T161337Z
UID:10005083-1783432800-1783440000@iwa-prague.com
SUMMARY:Czech Conversation
DESCRIPTION:We practice communicating in the Czech language in a casual surrounding and with the help of native speakers\, topics vary each week.
URL:https://iwa-prague.com/event/czech-conversation-2/2026-07-07/
CATEGORIES:Languages
ATTACH;FMTTYPE=image/jpeg:https://iwa-prague.com/wp-content/uploads/2021/05/Czech-Jun-2020-OPT.jpg
ORGANIZER;CN="Iva %C4%8Cvandov%C3%A1":MAILTO:czechconversation@iwa-prague.com
END:VEVENT
BEGIN:VEVENT
DTSTART;TZID=Europe/Prague:20260708T100000
DTEND;TZID=Europe/Prague:20260708T120000
DTSTAMP:20260424T130153
CREATED:20251212T150704Z
LAST-MODIFIED:20251218T074754Z
UID:10008673-1783504800-1783512000@iwa-prague.com
SUMMARY:Walking
DESCRIPTION:
URL:https://iwa-prague.com/event/walking1/2026-07-08/
CATEGORIES:Health & Wellness
ATTACH;FMTTYPE=image/jpeg:https://iwa-prague.com/wp-content/uploads/2019/05/WALKING-GROUP-009-OPT-FI.jpg
ORGANIZER;CN="Carmen Trankovsky":MAILTO:gallery@iwa-prague.com
END:VEVENT
BEGIN:VEVENT
DTSTART;TZID=Europe/Prague:20260708T183000
DTEND;TZID=Europe/Prague:20260708T203000
DTSTAMP:20260424T130153
CREATED:20260205T132538Z
LAST-MODIFIED:20260205T132949Z
UID:10008749-1783535400-1783542600@iwa-prague.com
SUMMARY:Choir
DESCRIPTION:
URL:https://iwa-prague.com/event/choir/2026-07-08/
CATEGORIES:Evening Groups
ATTACH;FMTTYPE=image/jpeg:https://iwa-prague.com/wp-content/uploads/2026/02/choir-OPT.jpg
ORGANIZER;CN="Leslie Nicholson":MAILTO:choir@iwa-prague.com
END:VEVENT
BEGIN:VEVENT
DTSTART;TZID=Europe/Prague:20260709T093000
DTEND;TZID=Europe/Prague:20260709T103000
DTSTAMP:20260424T130153
CREATED:20250107T113134Z
LAST-MODIFIED:20251209T160617Z
UID:10000549-1783589400-1783593000@iwa-prague.com
SUMMARY:Dance For Fun
DESCRIPTION:
URL:https://iwa-prague.com/event/dance-for-fun-2/2026-07-09/
CATEGORIES:Health & Wellness
ATTACH;FMTTYPE=image/jpeg:https://iwa-prague.com/wp-content/uploads/2024/09/dance-group.jpg
ORGANIZER;CN="Valerie Stulikova":MAILTO:dance@iwa-prague.com
END:VEVENT
BEGIN:VEVENT
DTSTART;TZID=Europe/Prague:20260709T103000
DTEND;TZID=Europe/Prague:20260709T123000
DTSTAMP:20260424T130153
CREATED:20250103T080648Z
LAST-MODIFIED:20260311T102915Z
UID:10008899-1783593000-1783600200@iwa-prague.com
SUMMARY:Coffee At My Place
DESCRIPTION:
URL:https://iwa-prague.com/event/coffee-at-my-place-2/2026-07-09/
CATEGORIES:Social Groups
ATTACH;FMTTYPE=image/jpeg:https://iwa-prague.com/wp-content/uploads/2024/09/CAMP-Oct-2022-scaled.jpg
ORGANIZER;CN="Caroline Davies":MAILTO:coffee@iwa-prague.com
END:VEVENT
BEGIN:VEVENT
DTSTART;TZID=Europe/Prague:20260709T120000
DTEND;TZID=Europe/Prague:20260709T133000
DTSTAMP:20260424T130153
CREATED:20251002T155607Z
LAST-MODIFIED:20251209T155038Z
UID:10007565-1783598400-1783603800@iwa-prague.com
SUMMARY:Ping Pong
DESCRIPTION:
URL:https://iwa-prague.com/event/ping-pong-2/2026-07-09/
CATEGORIES:Health & Wellness
ATTACH;FMTTYPE=image/jpeg:https://iwa-prague.com/wp-content/uploads/2025/09/table-tennis-4046307_1280-OPT.jpg
ORGANIZER;CN="Pamela Starobin":MAILTO:pingpong@iwa-prague.com
END:VEVENT
BEGIN:VEVENT
DTSTART;TZID=Europe/Prague:20260710T100000
DTEND;TZID=Europe/Prague:20260710T120000
DTSTAMP:20260424T130153
CREATED:20240926T141157Z
LAST-MODIFIED:20240926T141157Z
UID:10002993-1783677600-1783684800@iwa-prague.com
SUMMARY:Tennis
DESCRIPTION:
URL:https://iwa-prague.com/event/tennis/2026-07-10/
CATEGORIES:Health & Wellness
ATTACH;FMTTYPE=image/jpeg:https://iwa-prague.com/wp-content/uploads/2024/09/tennis-group-sep-2024.jpg
ORGANIZER;CN="Renata Van%C4%9B%C4%8Dkov%C3%A1":MAILTO:tennis@iwa-prague.com
END:VEVENT
BEGIN:VEVENT
DTSTART;TZID=Europe/Prague:20260710T100000
DTEND;TZID=Europe/Prague:20260710T120000
DTSTAMP:20260424T130153
CREATED:20241030T085257Z
LAST-MODIFIED:20260109T125822Z
UID:10005297-1783677600-1783684800@iwa-prague.com
SUMMARY:Friday Book Club
DESCRIPTION:
URL:https://iwa-prague.com/event/friday-book-club-2/2026-07-10/
CATEGORIES:Art & Culture
ATTACH;FMTTYPE=image/jpeg:https://iwa-prague.com/wp-content/uploads/2024/09/fribookclub-apr-2024-001-1-scaled.jpg
ORGANIZER;CN="Laurie Barnes":MAILTO:fridaybookclub@iwa-prague.com
END:VEVENT
BEGIN:VEVENT
DTSTART;TZID=Europe/Prague:20260713T080000
DTEND;TZID=Europe/Prague:20260713T130000
DTSTAMP:20260424T130153
CREATED:20240926T134840Z
LAST-MODIFIED:20240926T134840Z
UID:10001570-1783929600-1783947600@iwa-prague.com
SUMMARY:Golf
DESCRIPTION:
URL:https://iwa-prague.com/event/golf/2026-07-13/
CATEGORIES:Health & Wellness
ATTACH;FMTTYPE=image/jpeg:https://iwa-prague.com/wp-content/uploads/2021/03/Golf-May-2016-OPT.jpg
ORGANIZER;CN="Isolde Meinken":MAILTO:golf@iwa-prague.com
END:VEVENT
BEGIN:VEVENT
DTSTART;TZID=Europe/Prague:20260713T103000
DTEND;TZID=Europe/Prague:20260713T120000
DTSTAMP:20260424T130153
CREATED:20240926T134257Z
LAST-MODIFIED:20251209T154753Z
UID:10005738-1783938600-1783944000@iwa-prague.com
SUMMARY:French Conversation
DESCRIPTION:
URL:https://iwa-prague.com/event/french-conversation/2026-07-13/
CATEGORIES:Languages
ATTACH;FMTTYPE=image/jpeg:https://iwa-prague.com/wp-content/uploads/2021/05/French-Group-reading-2016-OPT3.jpg
ORGANIZER;CN="Dominic Kopecky":MAILTO:french@iwa-prague.com
END:VEVENT
BEGIN:VEVENT
DTSTART;TZID=Europe/Prague:20260713T123000
DTEND;TZID=Europe/Prague:20260713T143000
DTSTAMP:20260424T130153
CREATED:20240926T142010Z
LAST-MODIFIED:20251125T135042Z
UID:10003182-1783945800-1783953000@iwa-prague.com
SUMMARY:Friends at the Table
DESCRIPTION:
URL:https://iwa-prague.com/event/newcomers-lunch-3/2026-07-13/
LOCATION:Manes Restaurant\, Masarykovo nábř. 250/1\, Czech Republic
CATEGORIES:Newcomers Lunch
ATTACH;FMTTYPE=image/jpeg:https://iwa-prague.com/wp-content/uploads/2024/09/newcomers-OPT.jpg
ORGANIZER;CN="Shirley Lanzieri":MAILTO:membership@iwa-prague.com
END:VEVENT
BEGIN:VEVENT
DTSTART;TZID=Europe/Prague:20260714T090000
DTEND;TZID=Europe/Prague:20260714T100000
DTSTAMP:20260424T130153
CREATED:20240926T140857Z
LAST-MODIFIED:20241102T101214Z
UID:10002733-1784019600-1784023200@iwa-prague.com
SUMMARY:Tai Chi Chih
DESCRIPTION:
URL:https://iwa-prague.com/event/tai-chi-chih/2026-07-14/
CATEGORIES:Health & Wellness
ATTACH;FMTTYPE=image/jpeg:https://iwa-prague.com/wp-content/uploads/2022/10/TaiChi_Lebl_CMYK300.jpg
ORGANIZER;CN="Cheryl Caspe":MAILTO:taichi@iwa-prague.com
END:VEVENT
BEGIN:VEVENT
DTSTART;TZID=Europe/Prague:20260714T140000
DTEND;TZID=Europe/Prague:20260714T160000
DTSTAMP:20260424T130153
CREATED:20240926T140013Z
LAST-MODIFIED:20250605T154628Z
UID:10006809-1784037600-1784044800@iwa-prague.com
SUMMARY:Knit & Crochet
DESCRIPTION:
URL:https://iwa-prague.com/event/knitting-crochet-and-small-needlework/2026-07-14/
CATEGORIES:Creative Pursuits & Gourmet
ATTACH;FMTTYPE=image/jpeg:https://iwa-prague.com/wp-content/uploads/2017/02/Knitting-Jul-2021-OPT.jpg
ORGANIZER;CN="Charlotte Sommer":MAILTO:knitting@iwa-prague.com
END:VEVENT
BEGIN:VEVENT
DTSTART;TZID=Europe/Prague:20260714T160000
DTEND;TZID=Europe/Prague:20260714T180000
DTSTAMP:20260424T130153
CREATED:20241113T134936Z
LAST-MODIFIED:20251024T135205Z
UID:10003362-1784044800-1784052000@iwa-prague.com
SUMMARY:Board of Directors Meeting
DESCRIPTION:
URL:https://iwa-prague.com/event/executive-board-meeting-2/2026-07-14/
CATEGORIES:Executive Board Meeting
ORGANIZER;CN="Jenny Rassaby Ryan":MAILTO:president@iwa-prague.com
END:VEVENT
BEGIN:VEVENT
DTSTART;TZID=Europe/Prague:20260714T180000
DTEND;TZID=Europe/Prague:20260714T193000
DTSTAMP:20260424T130153
CREATED:20241025T165737Z
LAST-MODIFIED:20260413T153119Z
UID:10009042-1784052000-1784057400@iwa-prague.com
SUMMARY:Spanish Conversation
DESCRIPTION:
URL:https://iwa-prague.com/event/spanish-conversation/2026-07-14/
CATEGORIES:Languages
ATTACH;FMTTYPE=image/jpeg:https://iwa-prague.com/wp-content/uploads/2024/10/spanish-group-OPT.jpg
ORGANIZER;CN="Sue Urbanicova":MAILTO:spanish@iwa-prague.com
END:VEVENT
BEGIN:VEVENT
DTSTART;TZID=Europe/Prague:20260716T093000
DTEND;TZID=Europe/Prague:20260716T103000
DTSTAMP:20260424T130153
CREATED:20250107T113134Z
LAST-MODIFIED:20251209T160617Z
UID:10000550-1784194200-1784197800@iwa-prague.com
SUMMARY:Dance For Fun
DESCRIPTION:
URL:https://iwa-prague.com/event/dance-for-fun-2/2026-07-16/
CATEGORIES:Health & Wellness
ATTACH;FMTTYPE=image/jpeg:https://iwa-prague.com/wp-content/uploads/2024/09/dance-group.jpg
ORGANIZER;CN="Valerie Stulikova":MAILTO:dance@iwa-prague.com
END:VEVENT
BEGIN:VEVENT
DTSTART;TZID=Europe/Prague:20260716T103000
DTEND;TZID=Europe/Prague:20260716T120000
DTSTAMP:20260424T130153
CREATED:20251120T144736Z
LAST-MODIFIED:20251120T144736Z
UID:10008323-1784197800-1784203200@iwa-prague.com
SUMMARY:German Language
DESCRIPTION:
URL:https://iwa-prague.com/event/german-language/2026-07-16/
CATEGORIES:Languages
END:VEVENT
BEGIN:VEVENT
DTSTART;TZID=Europe/Prague:20260716T120000
DTEND;TZID=Europe/Prague:20260716T133000
DTSTAMP:20260424T130153
CREATED:20251002T155607Z
LAST-MODIFIED:20251209T155038Z
UID:10007566-1784203200-1784208600@iwa-prague.com
SUMMARY:Ping Pong
DESCRIPTION:
URL:https://iwa-prague.com/event/ping-pong-2/2026-07-16/
CATEGORIES:Health & Wellness
ATTACH;FMTTYPE=image/jpeg:https://iwa-prague.com/wp-content/uploads/2025/09/table-tennis-4046307_1280-OPT.jpg
ORGANIZER;CN="Pamela Starobin":MAILTO:pingpong@iwa-prague.com
END:VEVENT
BEGIN:VEVENT
DTSTART;TZID=Europe/Prague:20260716T180000
DTEND;TZID=Europe/Prague:20260716T200000
DTSTAMP:20260424T130153
CREATED:20240926T131356Z
LAST-MODIFIED:20260323T125606Z
UID:10000724-1784224800-1784232000@iwa-prague.com
SUMMARY:Dining Divas
DESCRIPTION:
URL:https://iwa-prague.com/event/dinner-divas-group/2026-07-16/
CATEGORIES:Evening Groups
ATTACH;FMTTYPE=image/png:https://iwa-prague.com/wp-content/uploads/2023/08/dinner-divas-01.png
ORGANIZER;CN="Lorna Phillipson":MAILTO:dinnerdivas@iwa-prague.com
END:VEVENT
BEGIN:VEVENT
DTSTART;TZID=Europe/Prague:20260717T100000
DTEND;TZID=Europe/Prague:20260717T120000
DTSTAMP:20260424T130153
CREATED:20240926T141157Z
LAST-MODIFIED:20240926T141157Z
UID:10002994-1784282400-1784289600@iwa-prague.com
SUMMARY:Tennis
DESCRIPTION:
URL:https://iwa-prague.com/event/tennis/2026-07-17/
CATEGORIES:Health & Wellness
ATTACH;FMTTYPE=image/jpeg:https://iwa-prague.com/wp-content/uploads/2024/09/tennis-group-sep-2024.jpg
ORGANIZER;CN="Renata Van%C4%9B%C4%8Dkov%C3%A1":MAILTO:tennis@iwa-prague.com
END:VEVENT
BEGIN:VEVENT
DTSTART;TZID=Europe/Prague:20260717T100000
DTEND;TZID=Europe/Prague:20260717T120000
DTSTAMP:20260424T130153
CREATED:20251212T150704Z
LAST-MODIFIED:20251218T074754Z
UID:10008674-1784282400-1784289600@iwa-prague.com
SUMMARY:Walking
DESCRIPTION:
URL:https://iwa-prague.com/event/walking1/2026-07-17/
CATEGORIES:Health & Wellness
ATTACH;FMTTYPE=image/jpeg:https://iwa-prague.com/wp-content/uploads/2019/05/WALKING-GROUP-009-OPT-FI.jpg
ORGANIZER;CN="Carmen Trankovsky":MAILTO:gallery@iwa-prague.com
END:VEVENT
BEGIN:VEVENT
DTSTART;TZID=Europe/Prague:20260720T000000
DTEND;TZID=Europe/Prague:20260720T000000
DTSTAMP:20260424T130153
CREATED:20250911T151004Z
LAST-MODIFIED:20260421T151841Z
UID:10009104-1784505600-1784505600@iwa-prague.com
SUMMARY:Holky On Holiday 20-23 July
DESCRIPTION:
URL:https://iwa-prague.com/event/holky-on-holiday/2026-07-20/
CATEGORIES:Art & Culture
ATTACH;FMTTYPE=image/jpeg:https://iwa-prague.com/wp-content/uploads/2025/09/suitcase-OPT.jpg
ORGANIZER;CN="Helen Wanamaker":MAILTO:holkyonholiday@iwa-prague.com
END:VEVENT
BEGIN:VEVENT
DTSTART;TZID=Europe/Prague:20260720T080000
DTEND;TZID=Europe/Prague:20260720T130000
DTSTAMP:20260424T130153
CREATED:20240926T134840Z
LAST-MODIFIED:20240926T134840Z
UID:10001571-1784534400-1784552400@iwa-prague.com
SUMMARY:Golf
DESCRIPTION:
URL:https://iwa-prague.com/event/golf/2026-07-20/
CATEGORIES:Health & Wellness
ATTACH;FMTTYPE=image/jpeg:https://iwa-prague.com/wp-content/uploads/2021/03/Golf-May-2016-OPT.jpg
ORGANIZER;CN="Isolde Meinken":MAILTO:golf@iwa-prague.com
END:VEVENT
BEGIN:VEVENT
DTSTART;TZID=Europe/Prague:20260720T103000
DTEND;TZID=Europe/Prague:20260720T120000
DTSTAMP:20260424T130153
CREATED:20240926T134257Z
LAST-MODIFIED:20251209T154753Z
UID:10005739-1784543400-1784548800@iwa-prague.com
SUMMARY:French Conversation
DESCRIPTION:
URL:https://iwa-prague.com/event/french-conversation/2026-07-20/
CATEGORIES:Languages
ATTACH;FMTTYPE=image/jpeg:https://iwa-prague.com/wp-content/uploads/2021/05/French-Group-reading-2016-OPT3.jpg
ORGANIZER;CN="Dominic Kopecky":MAILTO:french@iwa-prague.com
END:VEVENT
BEGIN:VEVENT
DTSTART;TZID=Europe/Prague:20260721T000000
DTEND;TZID=Europe/Prague:20260721T000000
DTSTAMP:20260424T130153
CREATED:20250911T151004Z
LAST-MODIFIED:20260421T151841Z
UID:10009105-1784592000-1784592000@iwa-prague.com
SUMMARY:Holky On Holiday 20-23 July
DESCRIPTION:
URL:https://iwa-prague.com/event/holky-on-holiday/2026-07-21/
CATEGORIES:Art & Culture
ATTACH;FMTTYPE=image/jpeg:https://iwa-prague.com/wp-content/uploads/2025/09/suitcase-OPT.jpg
ORGANIZER;CN="Helen Wanamaker":MAILTO:holkyonholiday@iwa-prague.com
END:VEVENT
BEGIN:VEVENT
DTSTART;TZID=Europe/Prague:20260721T090000
DTEND;TZID=Europe/Prague:20260721T100000
DTSTAMP:20260424T130153
CREATED:20240926T140857Z
LAST-MODIFIED:20241102T101214Z
UID:10002734-1784624400-1784628000@iwa-prague.com
SUMMARY:Tai Chi Chih
DESCRIPTION:
URL:https://iwa-prague.com/event/tai-chi-chih/2026-07-21/
CATEGORIES:Health & Wellness
ATTACH;FMTTYPE=image/jpeg:https://iwa-prague.com/wp-content/uploads/2022/10/TaiChi_Lebl_CMYK300.jpg
ORGANIZER;CN="Cheryl Caspe":MAILTO:taichi@iwa-prague.com
END:VEVENT
BEGIN:VEVENT
DTSTART;TZID=Europe/Prague:20260721T093000
DTEND;TZID=Europe/Prague:20260721T113000
DTSTAMP:20260424T130153
CREATED:20251108T103811Z
LAST-MODIFIED:20251110T125832Z
UID:10008178-1784626200-1784633400@iwa-prague.com
SUMMARY:Monthly Meeting
DESCRIPTION:
URL:https://iwa-prague.com/event/monthly-meeting-4/2026-07-21/
LOCATION:Anglo American University\, Letenská 120/5\, Prague 1\, Czech Republic
CATEGORIES:Monthly Meeting
ATTACH;FMTTYPE=image/jpeg:https://iwa-prague.com/wp-content/uploads/2024/09/Monthly-Meeting-feature-image-OPT.jpg
ORGANIZER;CN="Leslie Nicholson":MAILTO:president@iwa-prague.com
END:VEVENT
END:VCALENDAR