BEGIN:VCALENDAR
VERSION:2.0
PRODID:-//International Women&#039;s Association of Prague - ECPv6.15.20//NONSGML v1.0//EN
CALSCALE:GREGORIAN
METHOD:PUBLISH
X-ORIGINAL-URL:https://iwa-prague.com
X-WR-CALDESC:Events for International Women&#039;s Association of Prague
REFRESH-INTERVAL;VALUE=DURATION:PT1H
X-Robots-Tag:noindex
X-PUBLISHED-TTL:PT1H
BEGIN:VTIMEZONE
TZID:Europe/Prague
BEGIN:DAYLIGHT
TZOFFSETFROM:+0100
TZOFFSETTO:+0200
TZNAME:CEST
DTSTART:20250330T010000
END:DAYLIGHT
BEGIN:STANDARD
TZOFFSETFROM:+0200
TZOFFSETTO:+0100
TZNAME:CET
DTSTART:20251026T010000
END:STANDARD
BEGIN:DAYLIGHT
TZOFFSETFROM:+0100
TZOFFSETTO:+0200
TZNAME:CEST
DTSTART:20260329T010000
END:DAYLIGHT
BEGIN:STANDARD
TZOFFSETFROM:+0200
TZOFFSETTO:+0100
TZNAME:CET
DTSTART:20261025T010000
END:STANDARD
BEGIN:DAYLIGHT
TZOFFSETFROM:+0100
TZOFFSETTO:+0200
TZNAME:CEST
DTSTART:20270328T010000
END:DAYLIGHT
BEGIN:STANDARD
TZOFFSETFROM:+0200
TZOFFSETTO:+0100
TZNAME:CET
DTSTART:20271031T010000
END:STANDARD
BEGIN:DAYLIGHT
TZOFFSETFROM:+0100
TZOFFSETTO:+0200
TZNAME:CEST
DTSTART:20280326T010000
END:DAYLIGHT
BEGIN:STANDARD
TZOFFSETFROM:+0200
TZOFFSETTO:+0100
TZNAME:CET
DTSTART:20281029T010000
END:STANDARD
BEGIN:DAYLIGHT
TZOFFSETFROM:+0100
TZOFFSETTO:+0200
TZNAME:CEST
DTSTART:20290325T010000
END:DAYLIGHT
BEGIN:STANDARD
TZOFFSETFROM:+0200
TZOFFSETTO:+0100
TZNAME:CET
DTSTART:20291028T010000
END:STANDARD
END:VTIMEZONE
BEGIN:VEVENT
DTSTART;TZID=Europe/Prague:20260504T140000
DTEND;TZID=Europe/Prague:20260504T153000
DTSTAMP:20260422T044249
CREATED:20240926T135507Z
LAST-MODIFIED:20260311T103100Z
UID:10001817-1777903200-1777908600@iwa-prague.com
SUMMARY:Kavarna Hopping
DESCRIPTION:
URL:https://iwa-prague.com/event/kavarna-hopping/2026-05-04/
CATEGORIES:Social Groups
ATTACH;FMTTYPE=image/jpeg:https://iwa-prague.com/wp-content/uploads/2024/09/kavarna-hopping-mar-2023-003-scaled.jpg
ORGANIZER;CN="Kim Strebel / Cathy Meils":MAILTO:kavarna@iwa-prague.com
END:VEVENT
BEGIN:VEVENT
DTSTART;TZID=Europe/Prague:20260601T140000
DTEND;TZID=Europe/Prague:20260601T153000
DTSTAMP:20260422T044249
CREATED:20240926T135507Z
LAST-MODIFIED:20260311T103100Z
UID:10001818-1780322400-1780327800@iwa-prague.com
SUMMARY:Kavarna Hopping
DESCRIPTION:
URL:https://iwa-prague.com/event/kavarna-hopping/2026-06-01/
CATEGORIES:Social Groups
ATTACH;FMTTYPE=image/jpeg:https://iwa-prague.com/wp-content/uploads/2024/09/kavarna-hopping-mar-2023-003-scaled.jpg
ORGANIZER;CN="Kim Strebel / Cathy Meils":MAILTO:kavarna@iwa-prague.com
END:VEVENT
BEGIN:VEVENT
DTSTART;TZID=Europe/Prague:20260706T140000
DTEND;TZID=Europe/Prague:20260706T153000
DTSTAMP:20260422T044249
CREATED:20240926T135507Z
LAST-MODIFIED:20260311T103100Z
UID:10001819-1783346400-1783351800@iwa-prague.com
SUMMARY:Kavarna Hopping
DESCRIPTION:
URL:https://iwa-prague.com/event/kavarna-hopping/2026-07-06/
CATEGORIES:Social Groups
ATTACH;FMTTYPE=image/jpeg:https://iwa-prague.com/wp-content/uploads/2024/09/kavarna-hopping-mar-2023-003-scaled.jpg
ORGANIZER;CN="Kim Strebel / Cathy Meils":MAILTO:kavarna@iwa-prague.com
END:VEVENT
BEGIN:VEVENT
DTSTART;TZID=Europe/Prague:20260803T140000
DTEND;TZID=Europe/Prague:20260803T153000
DTSTAMP:20260422T044249
CREATED:20240926T135507Z
LAST-MODIFIED:20260311T103100Z
UID:10001820-1785765600-1785771000@iwa-prague.com
SUMMARY:Kavarna Hopping
DESCRIPTION:
URL:https://iwa-prague.com/event/kavarna-hopping/2026-08-03/
CATEGORIES:Social Groups
ATTACH;FMTTYPE=image/jpeg:https://iwa-prague.com/wp-content/uploads/2024/09/kavarna-hopping-mar-2023-003-scaled.jpg
ORGANIZER;CN="Kim Strebel / Cathy Meils":MAILTO:kavarna@iwa-prague.com
END:VEVENT
BEGIN:VEVENT
DTSTART;TZID=Europe/Prague:20260907T140000
DTEND;TZID=Europe/Prague:20260907T153000
DTSTAMP:20260422T044249
CREATED:20240926T135507Z
LAST-MODIFIED:20260311T103100Z
UID:10001821-1788789600-1788795000@iwa-prague.com
SUMMARY:Kavarna Hopping
DESCRIPTION:
URL:https://iwa-prague.com/event/kavarna-hopping/2026-09-07/
CATEGORIES:Social Groups
ATTACH;FMTTYPE=image/jpeg:https://iwa-prague.com/wp-content/uploads/2024/09/kavarna-hopping-mar-2023-003-scaled.jpg
ORGANIZER;CN="Kim Strebel / Cathy Meils":MAILTO:kavarna@iwa-prague.com
END:VEVENT
BEGIN:VEVENT
DTSTART;TZID=Europe/Prague:20261005T140000
DTEND;TZID=Europe/Prague:20261005T153000
DTSTAMP:20260422T044249
CREATED:20240926T135507Z
LAST-MODIFIED:20260311T103100Z
UID:10001822-1791208800-1791214200@iwa-prague.com
SUMMARY:Kavarna Hopping
DESCRIPTION:
URL:https://iwa-prague.com/event/kavarna-hopping/2026-10-05/
CATEGORIES:Social Groups
ATTACH;FMTTYPE=image/jpeg:https://iwa-prague.com/wp-content/uploads/2024/09/kavarna-hopping-mar-2023-003-scaled.jpg
ORGANIZER;CN="Kim Strebel / Cathy Meils":MAILTO:kavarna@iwa-prague.com
END:VEVENT
BEGIN:VEVENT
DTSTART;TZID=Europe/Prague:20261102T140000
DTEND;TZID=Europe/Prague:20261102T153000
DTSTAMP:20260422T044249
CREATED:20240926T135507Z
LAST-MODIFIED:20260311T103100Z
UID:10001823-1793628000-1793633400@iwa-prague.com
SUMMARY:Kavarna Hopping
DESCRIPTION:
URL:https://iwa-prague.com/event/kavarna-hopping/2026-11-02/
CATEGORIES:Social Groups
ATTACH;FMTTYPE=image/jpeg:https://iwa-prague.com/wp-content/uploads/2024/09/kavarna-hopping-mar-2023-003-scaled.jpg
ORGANIZER;CN="Kim Strebel / Cathy Meils":MAILTO:kavarna@iwa-prague.com
END:VEVENT
BEGIN:VEVENT
DTSTART;TZID=Europe/Prague:20261207T140000
DTEND;TZID=Europe/Prague:20261207T153000
DTSTAMP:20260422T044249
CREATED:20240926T135507Z
LAST-MODIFIED:20260311T103100Z
UID:10001824-1796652000-1796657400@iwa-prague.com
SUMMARY:Kavarna Hopping
DESCRIPTION:
URL:https://iwa-prague.com/event/kavarna-hopping/2026-12-07/
CATEGORIES:Social Groups
ATTACH;FMTTYPE=image/jpeg:https://iwa-prague.com/wp-content/uploads/2024/09/kavarna-hopping-mar-2023-003-scaled.jpg
ORGANIZER;CN="Kim Strebel / Cathy Meils":MAILTO:kavarna@iwa-prague.com
END:VEVENT
BEGIN:VEVENT
DTSTART;TZID=Europe/Prague:20270104T140000
DTEND;TZID=Europe/Prague:20270104T153000
DTSTAMP:20260422T044249
CREATED:20240926T135507Z
LAST-MODIFIED:20260311T103100Z
UID:10001825-1799071200-1799076600@iwa-prague.com
SUMMARY:Kavarna Hopping
DESCRIPTION:
URL:https://iwa-prague.com/event/kavarna-hopping/2027-01-04/
CATEGORIES:Social Groups
ATTACH;FMTTYPE=image/jpeg:https://iwa-prague.com/wp-content/uploads/2024/09/kavarna-hopping-mar-2023-003-scaled.jpg
ORGANIZER;CN="Kim Strebel / Cathy Meils":MAILTO:kavarna@iwa-prague.com
END:VEVENT
BEGIN:VEVENT
DTSTART;TZID=Europe/Prague:20270201T140000
DTEND;TZID=Europe/Prague:20270201T153000
DTSTAMP:20260422T044249
CREATED:20240926T135507Z
LAST-MODIFIED:20260311T103100Z
UID:10001826-1801490400-1801495800@iwa-prague.com
SUMMARY:Kavarna Hopping
DESCRIPTION:
URL:https://iwa-prague.com/event/kavarna-hopping/2027-02-01/
CATEGORIES:Social Groups
ATTACH;FMTTYPE=image/jpeg:https://iwa-prague.com/wp-content/uploads/2024/09/kavarna-hopping-mar-2023-003-scaled.jpg
ORGANIZER;CN="Kim Strebel / Cathy Meils":MAILTO:kavarna@iwa-prague.com
END:VEVENT
BEGIN:VEVENT
DTSTART;TZID=Europe/Prague:20270301T140000
DTEND;TZID=Europe/Prague:20270301T153000
DTSTAMP:20260422T044249
CREATED:20240926T135507Z
LAST-MODIFIED:20260311T103100Z
UID:10001827-1803909600-1803915000@iwa-prague.com
SUMMARY:Kavarna Hopping
DESCRIPTION:
URL:https://iwa-prague.com/event/kavarna-hopping/2027-03-01/
CATEGORIES:Social Groups
ATTACH;FMTTYPE=image/jpeg:https://iwa-prague.com/wp-content/uploads/2024/09/kavarna-hopping-mar-2023-003-scaled.jpg
ORGANIZER;CN="Kim Strebel / Cathy Meils":MAILTO:kavarna@iwa-prague.com
END:VEVENT
BEGIN:VEVENT
DTSTART;TZID=Europe/Prague:20270405T140000
DTEND;TZID=Europe/Prague:20270405T153000
DTSTAMP:20260422T044249
CREATED:20240926T135507Z
LAST-MODIFIED:20260311T103100Z
UID:10001828-1806933600-1806939000@iwa-prague.com
SUMMARY:Kavarna Hopping
DESCRIPTION:
URL:https://iwa-prague.com/event/kavarna-hopping/2027-04-05/
CATEGORIES:Social Groups
ATTACH;FMTTYPE=image/jpeg:https://iwa-prague.com/wp-content/uploads/2024/09/kavarna-hopping-mar-2023-003-scaled.jpg
ORGANIZER;CN="Kim Strebel / Cathy Meils":MAILTO:kavarna@iwa-prague.com
END:VEVENT
BEGIN:VEVENT
DTSTART;TZID=Europe/Prague:20270503T140000
DTEND;TZID=Europe/Prague:20270503T153000
DTSTAMP:20260422T044249
CREATED:20240926T135507Z
LAST-MODIFIED:20260311T103100Z
UID:10001829-1809352800-1809358200@iwa-prague.com
SUMMARY:Kavarna Hopping
DESCRIPTION:
URL:https://iwa-prague.com/event/kavarna-hopping/2027-05-03/
CATEGORIES:Social Groups
ATTACH;FMTTYPE=image/jpeg:https://iwa-prague.com/wp-content/uploads/2024/09/kavarna-hopping-mar-2023-003-scaled.jpg
ORGANIZER;CN="Kim Strebel / Cathy Meils":MAILTO:kavarna@iwa-prague.com
END:VEVENT
BEGIN:VEVENT
DTSTART;TZID=Europe/Prague:20270607T140000
DTEND;TZID=Europe/Prague:20270607T153000
DTSTAMP:20260422T044249
CREATED:20240926T135507Z
LAST-MODIFIED:20260311T103100Z
UID:10001830-1812376800-1812382200@iwa-prague.com
SUMMARY:Kavarna Hopping
DESCRIPTION:
URL:https://iwa-prague.com/event/kavarna-hopping/2027-06-07/
CATEGORIES:Social Groups
ATTACH;FMTTYPE=image/jpeg:https://iwa-prague.com/wp-content/uploads/2024/09/kavarna-hopping-mar-2023-003-scaled.jpg
ORGANIZER;CN="Kim Strebel / Cathy Meils":MAILTO:kavarna@iwa-prague.com
END:VEVENT
BEGIN:VEVENT
DTSTART;TZID=Europe/Prague:20270705T140000
DTEND;TZID=Europe/Prague:20270705T153000
DTSTAMP:20260422T044249
CREATED:20240926T135507Z
LAST-MODIFIED:20260311T103100Z
UID:10001831-1814796000-1814801400@iwa-prague.com
SUMMARY:Kavarna Hopping
DESCRIPTION:
URL:https://iwa-prague.com/event/kavarna-hopping/2027-07-05/
CATEGORIES:Social Groups
ATTACH;FMTTYPE=image/jpeg:https://iwa-prague.com/wp-content/uploads/2024/09/kavarna-hopping-mar-2023-003-scaled.jpg
ORGANIZER;CN="Kim Strebel / Cathy Meils":MAILTO:kavarna@iwa-prague.com
END:VEVENT
BEGIN:VEVENT
DTSTART;TZID=Europe/Prague:20270802T140000
DTEND;TZID=Europe/Prague:20270802T153000
DTSTAMP:20260422T044249
CREATED:20240926T135507Z
LAST-MODIFIED:20260311T103100Z
UID:10001832-1817215200-1817220600@iwa-prague.com
SUMMARY:Kavarna Hopping
DESCRIPTION:
URL:https://iwa-prague.com/event/kavarna-hopping/2027-08-02/
CATEGORIES:Social Groups
ATTACH;FMTTYPE=image/jpeg:https://iwa-prague.com/wp-content/uploads/2024/09/kavarna-hopping-mar-2023-003-scaled.jpg
ORGANIZER;CN="Kim Strebel / Cathy Meils":MAILTO:kavarna@iwa-prague.com
END:VEVENT
BEGIN:VEVENT
DTSTART;TZID=Europe/Prague:20270906T140000
DTEND;TZID=Europe/Prague:20270906T153000
DTSTAMP:20260422T044249
CREATED:20240926T135507Z
LAST-MODIFIED:20260311T103100Z
UID:10001833-1820239200-1820244600@iwa-prague.com
SUMMARY:Kavarna Hopping
DESCRIPTION:
URL:https://iwa-prague.com/event/kavarna-hopping/2027-09-06/
CATEGORIES:Social Groups
ATTACH;FMTTYPE=image/jpeg:https://iwa-prague.com/wp-content/uploads/2024/09/kavarna-hopping-mar-2023-003-scaled.jpg
ORGANIZER;CN="Kim Strebel / Cathy Meils":MAILTO:kavarna@iwa-prague.com
END:VEVENT
BEGIN:VEVENT
DTSTART;TZID=Europe/Prague:20271004T140000
DTEND;TZID=Europe/Prague:20271004T153000
DTSTAMP:20260422T044249
CREATED:20240926T135507Z
LAST-MODIFIED:20260311T103100Z
UID:10001834-1822658400-1822663800@iwa-prague.com
SUMMARY:Kavarna Hopping
DESCRIPTION:
URL:https://iwa-prague.com/event/kavarna-hopping/2027-10-04/
CATEGORIES:Social Groups
ATTACH;FMTTYPE=image/jpeg:https://iwa-prague.com/wp-content/uploads/2024/09/kavarna-hopping-mar-2023-003-scaled.jpg
ORGANIZER;CN="Kim Strebel / Cathy Meils":MAILTO:kavarna@iwa-prague.com
END:VEVENT
BEGIN:VEVENT
DTSTART;TZID=Europe/Prague:20271101T140000
DTEND;TZID=Europe/Prague:20271101T153000
DTSTAMP:20260422T044249
CREATED:20240926T135507Z
LAST-MODIFIED:20260311T103100Z
UID:10001835-1825077600-1825083000@iwa-prague.com
SUMMARY:Kavarna Hopping
DESCRIPTION:
URL:https://iwa-prague.com/event/kavarna-hopping/2027-11-01/
CATEGORIES:Social Groups
ATTACH;FMTTYPE=image/jpeg:https://iwa-prague.com/wp-content/uploads/2024/09/kavarna-hopping-mar-2023-003-scaled.jpg
ORGANIZER;CN="Kim Strebel / Cathy Meils":MAILTO:kavarna@iwa-prague.com
END:VEVENT
BEGIN:VEVENT
DTSTART;TZID=Europe/Prague:20271206T140000
DTEND;TZID=Europe/Prague:20271206T153000
DTSTAMP:20260422T044249
CREATED:20240926T135507Z
LAST-MODIFIED:20260311T103100Z
UID:10001836-1828101600-1828107000@iwa-prague.com
SUMMARY:Kavarna Hopping
DESCRIPTION:
URL:https://iwa-prague.com/event/kavarna-hopping/2027-12-06/
CATEGORIES:Social Groups
ATTACH;FMTTYPE=image/jpeg:https://iwa-prague.com/wp-content/uploads/2024/09/kavarna-hopping-mar-2023-003-scaled.jpg
ORGANIZER;CN="Kim Strebel / Cathy Meils":MAILTO:kavarna@iwa-prague.com
END:VEVENT
BEGIN:VEVENT
DTSTART;TZID=Europe/Prague:20280103T140000
DTEND;TZID=Europe/Prague:20280103T153000
DTSTAMP:20260422T044249
CREATED:20240926T135507Z
LAST-MODIFIED:20260311T103100Z
UID:10001837-1830520800-1830526200@iwa-prague.com
SUMMARY:Kavarna Hopping
DESCRIPTION:
URL:https://iwa-prague.com/event/kavarna-hopping/2028-01-03/
CATEGORIES:Social Groups
ATTACH;FMTTYPE=image/jpeg:https://iwa-prague.com/wp-content/uploads/2024/09/kavarna-hopping-mar-2023-003-scaled.jpg
ORGANIZER;CN="Kim Strebel / Cathy Meils":MAILTO:kavarna@iwa-prague.com
END:VEVENT
BEGIN:VEVENT
DTSTART;TZID=Europe/Prague:20280207T140000
DTEND;TZID=Europe/Prague:20280207T153000
DTSTAMP:20260422T044249
CREATED:20240926T135507Z
LAST-MODIFIED:20260311T103100Z
UID:10001838-1833544800-1833550200@iwa-prague.com
SUMMARY:Kavarna Hopping
DESCRIPTION:
URL:https://iwa-prague.com/event/kavarna-hopping/2028-02-07/
CATEGORIES:Social Groups
ATTACH;FMTTYPE=image/jpeg:https://iwa-prague.com/wp-content/uploads/2024/09/kavarna-hopping-mar-2023-003-scaled.jpg
ORGANIZER;CN="Kim Strebel / Cathy Meils":MAILTO:kavarna@iwa-prague.com
END:VEVENT
BEGIN:VEVENT
DTSTART;TZID=Europe/Prague:20280306T140000
DTEND;TZID=Europe/Prague:20280306T153000
DTSTAMP:20260422T044249
CREATED:20240926T135507Z
LAST-MODIFIED:20260311T103100Z
UID:10001839-1835964000-1835969400@iwa-prague.com
SUMMARY:Kavarna Hopping
DESCRIPTION:
URL:https://iwa-prague.com/event/kavarna-hopping/2028-03-06/
CATEGORIES:Social Groups
ATTACH;FMTTYPE=image/jpeg:https://iwa-prague.com/wp-content/uploads/2024/09/kavarna-hopping-mar-2023-003-scaled.jpg
ORGANIZER;CN="Kim Strebel / Cathy Meils":MAILTO:kavarna@iwa-prague.com
END:VEVENT
BEGIN:VEVENT
DTSTART;TZID=Europe/Prague:20280403T140000
DTEND;TZID=Europe/Prague:20280403T153000
DTSTAMP:20260422T044249
CREATED:20240926T135507Z
LAST-MODIFIED:20260311T103100Z
UID:10001840-1838383200-1838388600@iwa-prague.com
SUMMARY:Kavarna Hopping
DESCRIPTION:
URL:https://iwa-prague.com/event/kavarna-hopping/2028-04-03/
CATEGORIES:Social Groups
ATTACH;FMTTYPE=image/jpeg:https://iwa-prague.com/wp-content/uploads/2024/09/kavarna-hopping-mar-2023-003-scaled.jpg
ORGANIZER;CN="Kim Strebel / Cathy Meils":MAILTO:kavarna@iwa-prague.com
END:VEVENT
BEGIN:VEVENT
DTSTART;TZID=Europe/Prague:20280501T140000
DTEND;TZID=Europe/Prague:20280501T153000
DTSTAMP:20260422T044249
CREATED:20240926T135507Z
LAST-MODIFIED:20260311T103100Z
UID:10001841-1840802400-1840807800@iwa-prague.com
SUMMARY:Kavarna Hopping
DESCRIPTION:
URL:https://iwa-prague.com/event/kavarna-hopping/2028-05-01/
CATEGORIES:Social Groups
ATTACH;FMTTYPE=image/jpeg:https://iwa-prague.com/wp-content/uploads/2024/09/kavarna-hopping-mar-2023-003-scaled.jpg
ORGANIZER;CN="Kim Strebel / Cathy Meils":MAILTO:kavarna@iwa-prague.com
END:VEVENT
BEGIN:VEVENT
DTSTART;TZID=Europe/Prague:20280605T140000
DTEND;TZID=Europe/Prague:20280605T153000
DTSTAMP:20260422T044249
CREATED:20240926T135507Z
LAST-MODIFIED:20260311T103100Z
UID:10001842-1843826400-1843831800@iwa-prague.com
SUMMARY:Kavarna Hopping
DESCRIPTION:
URL:https://iwa-prague.com/event/kavarna-hopping/2028-06-05/
CATEGORIES:Social Groups
ATTACH;FMTTYPE=image/jpeg:https://iwa-prague.com/wp-content/uploads/2024/09/kavarna-hopping-mar-2023-003-scaled.jpg
ORGANIZER;CN="Kim Strebel / Cathy Meils":MAILTO:kavarna@iwa-prague.com
END:VEVENT
BEGIN:VEVENT
DTSTART;TZID=Europe/Prague:20280703T140000
DTEND;TZID=Europe/Prague:20280703T153000
DTSTAMP:20260422T044249
CREATED:20240926T135507Z
LAST-MODIFIED:20260311T103100Z
UID:10001843-1846245600-1846251000@iwa-prague.com
SUMMARY:Kavarna Hopping
DESCRIPTION:
URL:https://iwa-prague.com/event/kavarna-hopping/2028-07-03/
CATEGORIES:Social Groups
ATTACH;FMTTYPE=image/jpeg:https://iwa-prague.com/wp-content/uploads/2024/09/kavarna-hopping-mar-2023-003-scaled.jpg
ORGANIZER;CN="Kim Strebel / Cathy Meils":MAILTO:kavarna@iwa-prague.com
END:VEVENT
BEGIN:VEVENT
DTSTART;TZID=Europe/Prague:20280807T140000
DTEND;TZID=Europe/Prague:20280807T153000
DTSTAMP:20260422T044249
CREATED:20240926T135507Z
LAST-MODIFIED:20260311T103100Z
UID:10001844-1849269600-1849275000@iwa-prague.com
SUMMARY:Kavarna Hopping
DESCRIPTION:
URL:https://iwa-prague.com/event/kavarna-hopping/2028-08-07/
CATEGORIES:Social Groups
ATTACH;FMTTYPE=image/jpeg:https://iwa-prague.com/wp-content/uploads/2024/09/kavarna-hopping-mar-2023-003-scaled.jpg
ORGANIZER;CN="Kim Strebel / Cathy Meils":MAILTO:kavarna@iwa-prague.com
END:VEVENT
BEGIN:VEVENT
DTSTART;TZID=Europe/Prague:20280904T140000
DTEND;TZID=Europe/Prague:20280904T153000
DTSTAMP:20260422T044249
CREATED:20240926T135507Z
LAST-MODIFIED:20260311T103100Z
UID:10001845-1851688800-1851694200@iwa-prague.com
SUMMARY:Kavarna Hopping
DESCRIPTION:
URL:https://iwa-prague.com/event/kavarna-hopping/2028-09-04/
CATEGORIES:Social Groups
ATTACH;FMTTYPE=image/jpeg:https://iwa-prague.com/wp-content/uploads/2024/09/kavarna-hopping-mar-2023-003-scaled.jpg
ORGANIZER;CN="Kim Strebel / Cathy Meils":MAILTO:kavarna@iwa-prague.com
END:VEVENT
BEGIN:VEVENT
DTSTART;TZID=Europe/Prague:20281002T140000
DTEND;TZID=Europe/Prague:20281002T153000
DTSTAMP:20260422T044249
CREATED:20240926T135507Z
LAST-MODIFIED:20260311T103100Z
UID:10001846-1854108000-1854113400@iwa-prague.com
SUMMARY:Kavarna Hopping
DESCRIPTION:
URL:https://iwa-prague.com/event/kavarna-hopping/2028-10-02/
CATEGORIES:Social Groups
ATTACH;FMTTYPE=image/jpeg:https://iwa-prague.com/wp-content/uploads/2024/09/kavarna-hopping-mar-2023-003-scaled.jpg
ORGANIZER;CN="Kim Strebel / Cathy Meils":MAILTO:kavarna@iwa-prague.com
END:VEVENT
END:VCALENDAR