BEGIN:VCALENDAR
VERSION:2.0
PRODID:-//International Women&#039;s Association of Prague - ECPv6.15.20//NONSGML v1.0//EN
CALSCALE:GREGORIAN
METHOD:PUBLISH
X-ORIGINAL-URL:https://iwa-prague.com
X-WR-CALDESC:Events for International Women&#039;s Association of Prague
REFRESH-INTERVAL;VALUE=DURATION:PT1H
X-Robots-Tag:noindex
X-PUBLISHED-TTL:PT1H
BEGIN:VTIMEZONE
TZID:Europe/Prague
BEGIN:DAYLIGHT
TZOFFSETFROM:+0100
TZOFFSETTO:+0200
TZNAME:CEST
DTSTART:20250330T010000
END:DAYLIGHT
BEGIN:STANDARD
TZOFFSETFROM:+0200
TZOFFSETTO:+0100
TZNAME:CET
DTSTART:20251026T010000
END:STANDARD
BEGIN:DAYLIGHT
TZOFFSETFROM:+0100
TZOFFSETTO:+0200
TZNAME:CEST
DTSTART:20260329T010000
END:DAYLIGHT
BEGIN:STANDARD
TZOFFSETFROM:+0200
TZOFFSETTO:+0100
TZNAME:CET
DTSTART:20261025T010000
END:STANDARD
BEGIN:DAYLIGHT
TZOFFSETFROM:+0100
TZOFFSETTO:+0200
TZNAME:CEST
DTSTART:20270328T010000
END:DAYLIGHT
BEGIN:STANDARD
TZOFFSETFROM:+0200
TZOFFSETTO:+0100
TZNAME:CET
DTSTART:20271031T010000
END:STANDARD
BEGIN:DAYLIGHT
TZOFFSETFROM:+0100
TZOFFSETTO:+0200
TZNAME:CEST
DTSTART:20280326T010000
END:DAYLIGHT
BEGIN:STANDARD
TZOFFSETFROM:+0200
TZOFFSETTO:+0100
TZNAME:CET
DTSTART:20281029T010000
END:STANDARD
BEGIN:DAYLIGHT
TZOFFSETFROM:+0100
TZOFFSETTO:+0200
TZNAME:CEST
DTSTART:20290325T010000
END:DAYLIGHT
BEGIN:STANDARD
TZOFFSETFROM:+0200
TZOFFSETTO:+0100
TZNAME:CET
DTSTART:20291028T010000
END:STANDARD
END:VTIMEZONE
BEGIN:VEVENT
DTSTART;TZID=Europe/Prague:20260501T173000
DTEND;TZID=Europe/Prague:20260501T190000
DTSTAMP:20260424T155122
CREATED:20240926T135133Z
LAST-MODIFIED:20260320T111626Z
UID:10001757-1777656600-1777662000@iwa-prague.com
SUMMARY:Happy Hour
DESCRIPTION:
URL:https://iwa-prague.com/event/happy-hour/2026-05-01/
CATEGORIES:Evening Groups
ATTACH;FMTTYPE=image/jpeg:https://iwa-prague.com/wp-content/uploads/2021/05/HH-Aug-2017-OPT.jpg
ORGANIZER;CN="Leslie Nicholson":MAILTO:happyhour@iwa-prague.com
END:VEVENT
BEGIN:VEVENT
DTSTART;TZID=Europe/Prague:20260605T173000
DTEND;TZID=Europe/Prague:20260605T190000
DTSTAMP:20260424T155122
CREATED:20240926T135133Z
LAST-MODIFIED:20260320T111626Z
UID:10001758-1780680600-1780686000@iwa-prague.com
SUMMARY:Happy Hour
DESCRIPTION:
URL:https://iwa-prague.com/event/happy-hour/2026-06-05/
CATEGORIES:Evening Groups
ATTACH;FMTTYPE=image/jpeg:https://iwa-prague.com/wp-content/uploads/2021/05/HH-Aug-2017-OPT.jpg
ORGANIZER;CN="Leslie Nicholson":MAILTO:happyhour@iwa-prague.com
END:VEVENT
BEGIN:VEVENT
DTSTART;TZID=Europe/Prague:20260703T173000
DTEND;TZID=Europe/Prague:20260703T190000
DTSTAMP:20260424T155122
CREATED:20240926T135133Z
LAST-MODIFIED:20260320T111626Z
UID:10001759-1783099800-1783105200@iwa-prague.com
SUMMARY:Happy Hour
DESCRIPTION:
URL:https://iwa-prague.com/event/happy-hour/2026-07-03/
CATEGORIES:Evening Groups
ATTACH;FMTTYPE=image/jpeg:https://iwa-prague.com/wp-content/uploads/2021/05/HH-Aug-2017-OPT.jpg
ORGANIZER;CN="Leslie Nicholson":MAILTO:happyhour@iwa-prague.com
END:VEVENT
BEGIN:VEVENT
DTSTART;TZID=Europe/Prague:20260807T173000
DTEND;TZID=Europe/Prague:20260807T190000
DTSTAMP:20260424T155122
CREATED:20240926T135133Z
LAST-MODIFIED:20260320T111626Z
UID:10001760-1786123800-1786129200@iwa-prague.com
SUMMARY:Happy Hour
DESCRIPTION:
URL:https://iwa-prague.com/event/happy-hour/2026-08-07/
CATEGORIES:Evening Groups
ATTACH;FMTTYPE=image/jpeg:https://iwa-prague.com/wp-content/uploads/2021/05/HH-Aug-2017-OPT.jpg
ORGANIZER;CN="Leslie Nicholson":MAILTO:happyhour@iwa-prague.com
END:VEVENT
BEGIN:VEVENT
DTSTART;TZID=Europe/Prague:20260904T173000
DTEND;TZID=Europe/Prague:20260904T190000
DTSTAMP:20260424T155122
CREATED:20240926T135133Z
LAST-MODIFIED:20260320T111626Z
UID:10001761-1788543000-1788548400@iwa-prague.com
SUMMARY:Happy Hour
DESCRIPTION:
URL:https://iwa-prague.com/event/happy-hour/2026-09-04/
CATEGORIES:Evening Groups
ATTACH;FMTTYPE=image/jpeg:https://iwa-prague.com/wp-content/uploads/2021/05/HH-Aug-2017-OPT.jpg
ORGANIZER;CN="Leslie Nicholson":MAILTO:happyhour@iwa-prague.com
END:VEVENT
BEGIN:VEVENT
DTSTART;TZID=Europe/Prague:20261002T173000
DTEND;TZID=Europe/Prague:20261002T190000
DTSTAMP:20260424T155122
CREATED:20240926T135133Z
LAST-MODIFIED:20260320T111626Z
UID:10001762-1790962200-1790967600@iwa-prague.com
SUMMARY:Happy Hour
DESCRIPTION:
URL:https://iwa-prague.com/event/happy-hour/2026-10-02/
CATEGORIES:Evening Groups
ATTACH;FMTTYPE=image/jpeg:https://iwa-prague.com/wp-content/uploads/2021/05/HH-Aug-2017-OPT.jpg
ORGANIZER;CN="Leslie Nicholson":MAILTO:happyhour@iwa-prague.com
END:VEVENT
BEGIN:VEVENT
DTSTART;TZID=Europe/Prague:20261106T173000
DTEND;TZID=Europe/Prague:20261106T190000
DTSTAMP:20260424T155122
CREATED:20240926T135133Z
LAST-MODIFIED:20260320T111626Z
UID:10001763-1793986200-1793991600@iwa-prague.com
SUMMARY:Happy Hour
DESCRIPTION:
URL:https://iwa-prague.com/event/happy-hour/2026-11-06/
CATEGORIES:Evening Groups
ATTACH;FMTTYPE=image/jpeg:https://iwa-prague.com/wp-content/uploads/2021/05/HH-Aug-2017-OPT.jpg
ORGANIZER;CN="Leslie Nicholson":MAILTO:happyhour@iwa-prague.com
END:VEVENT
BEGIN:VEVENT
DTSTART;TZID=Europe/Prague:20261204T173000
DTEND;TZID=Europe/Prague:20261204T190000
DTSTAMP:20260424T155122
CREATED:20240926T135133Z
LAST-MODIFIED:20260320T111626Z
UID:10001764-1796405400-1796410800@iwa-prague.com
SUMMARY:Happy Hour
DESCRIPTION:
URL:https://iwa-prague.com/event/happy-hour/2026-12-04/
CATEGORIES:Evening Groups
ATTACH;FMTTYPE=image/jpeg:https://iwa-prague.com/wp-content/uploads/2021/05/HH-Aug-2017-OPT.jpg
ORGANIZER;CN="Leslie Nicholson":MAILTO:happyhour@iwa-prague.com
END:VEVENT
BEGIN:VEVENT
DTSTART;TZID=Europe/Prague:20270101T173000
DTEND;TZID=Europe/Prague:20270101T190000
DTSTAMP:20260424T155122
CREATED:20240926T135133Z
LAST-MODIFIED:20260320T111626Z
UID:10001765-1798824600-1798830000@iwa-prague.com
SUMMARY:Happy Hour
DESCRIPTION:
URL:https://iwa-prague.com/event/happy-hour/2027-01-01/
CATEGORIES:Evening Groups
ATTACH;FMTTYPE=image/jpeg:https://iwa-prague.com/wp-content/uploads/2021/05/HH-Aug-2017-OPT.jpg
ORGANIZER;CN="Leslie Nicholson":MAILTO:happyhour@iwa-prague.com
END:VEVENT
BEGIN:VEVENT
DTSTART;TZID=Europe/Prague:20270205T173000
DTEND;TZID=Europe/Prague:20270205T190000
DTSTAMP:20260424T155122
CREATED:20240926T135133Z
LAST-MODIFIED:20260320T111626Z
UID:10001766-1801848600-1801854000@iwa-prague.com
SUMMARY:Happy Hour
DESCRIPTION:
URL:https://iwa-prague.com/event/happy-hour/2027-02-05/
CATEGORIES:Evening Groups
ATTACH;FMTTYPE=image/jpeg:https://iwa-prague.com/wp-content/uploads/2021/05/HH-Aug-2017-OPT.jpg
ORGANIZER;CN="Leslie Nicholson":MAILTO:happyhour@iwa-prague.com
END:VEVENT
BEGIN:VEVENT
DTSTART;TZID=Europe/Prague:20270305T173000
DTEND;TZID=Europe/Prague:20270305T190000
DTSTAMP:20260424T155122
CREATED:20240926T135133Z
LAST-MODIFIED:20260320T111626Z
UID:10001767-1804267800-1804273200@iwa-prague.com
SUMMARY:Happy Hour
DESCRIPTION:
URL:https://iwa-prague.com/event/happy-hour/2027-03-05/
CATEGORIES:Evening Groups
ATTACH;FMTTYPE=image/jpeg:https://iwa-prague.com/wp-content/uploads/2021/05/HH-Aug-2017-OPT.jpg
ORGANIZER;CN="Leslie Nicholson":MAILTO:happyhour@iwa-prague.com
END:VEVENT
BEGIN:VEVENT
DTSTART;TZID=Europe/Prague:20270402T173000
DTEND;TZID=Europe/Prague:20270402T190000
DTSTAMP:20260424T155122
CREATED:20240926T135133Z
LAST-MODIFIED:20260320T111626Z
UID:10001768-1806687000-1806692400@iwa-prague.com
SUMMARY:Happy Hour
DESCRIPTION:
URL:https://iwa-prague.com/event/happy-hour/2027-04-02/
CATEGORIES:Evening Groups
ATTACH;FMTTYPE=image/jpeg:https://iwa-prague.com/wp-content/uploads/2021/05/HH-Aug-2017-OPT.jpg
ORGANIZER;CN="Leslie Nicholson":MAILTO:happyhour@iwa-prague.com
END:VEVENT
BEGIN:VEVENT
DTSTART;TZID=Europe/Prague:20270507T173000
DTEND;TZID=Europe/Prague:20270507T190000
DTSTAMP:20260424T155122
CREATED:20240926T135133Z
LAST-MODIFIED:20260320T111626Z
UID:10001769-1809711000-1809716400@iwa-prague.com
SUMMARY:Happy Hour
DESCRIPTION:
URL:https://iwa-prague.com/event/happy-hour/2027-05-07/
CATEGORIES:Evening Groups
ATTACH;FMTTYPE=image/jpeg:https://iwa-prague.com/wp-content/uploads/2021/05/HH-Aug-2017-OPT.jpg
ORGANIZER;CN="Leslie Nicholson":MAILTO:happyhour@iwa-prague.com
END:VEVENT
BEGIN:VEVENT
DTSTART;TZID=Europe/Prague:20270604T173000
DTEND;TZID=Europe/Prague:20270604T190000
DTSTAMP:20260424T155122
CREATED:20240926T135133Z
LAST-MODIFIED:20260320T111626Z
UID:10001770-1812130200-1812135600@iwa-prague.com
SUMMARY:Happy Hour
DESCRIPTION:
URL:https://iwa-prague.com/event/happy-hour/2027-06-04/
CATEGORIES:Evening Groups
ATTACH;FMTTYPE=image/jpeg:https://iwa-prague.com/wp-content/uploads/2021/05/HH-Aug-2017-OPT.jpg
ORGANIZER;CN="Leslie Nicholson":MAILTO:happyhour@iwa-prague.com
END:VEVENT
BEGIN:VEVENT
DTSTART;TZID=Europe/Prague:20270702T173000
DTEND;TZID=Europe/Prague:20270702T190000
DTSTAMP:20260424T155122
CREATED:20240926T135133Z
LAST-MODIFIED:20260320T111626Z
UID:10001771-1814549400-1814554800@iwa-prague.com
SUMMARY:Happy Hour
DESCRIPTION:
URL:https://iwa-prague.com/event/happy-hour/2027-07-02/
CATEGORIES:Evening Groups
ATTACH;FMTTYPE=image/jpeg:https://iwa-prague.com/wp-content/uploads/2021/05/HH-Aug-2017-OPT.jpg
ORGANIZER;CN="Leslie Nicholson":MAILTO:happyhour@iwa-prague.com
END:VEVENT
BEGIN:VEVENT
DTSTART;TZID=Europe/Prague:20270806T173000
DTEND;TZID=Europe/Prague:20270806T190000
DTSTAMP:20260424T155122
CREATED:20240926T135133Z
LAST-MODIFIED:20260320T111626Z
UID:10001772-1817573400-1817578800@iwa-prague.com
SUMMARY:Happy Hour
DESCRIPTION:
URL:https://iwa-prague.com/event/happy-hour/2027-08-06/
CATEGORIES:Evening Groups
ATTACH;FMTTYPE=image/jpeg:https://iwa-prague.com/wp-content/uploads/2021/05/HH-Aug-2017-OPT.jpg
ORGANIZER;CN="Leslie Nicholson":MAILTO:happyhour@iwa-prague.com
END:VEVENT
BEGIN:VEVENT
DTSTART;TZID=Europe/Prague:20270903T173000
DTEND;TZID=Europe/Prague:20270903T190000
DTSTAMP:20260424T155122
CREATED:20240926T135133Z
LAST-MODIFIED:20260320T111626Z
UID:10001773-1819992600-1819998000@iwa-prague.com
SUMMARY:Happy Hour
DESCRIPTION:
URL:https://iwa-prague.com/event/happy-hour/2027-09-03/
CATEGORIES:Evening Groups
ATTACH;FMTTYPE=image/jpeg:https://iwa-prague.com/wp-content/uploads/2021/05/HH-Aug-2017-OPT.jpg
ORGANIZER;CN="Leslie Nicholson":MAILTO:happyhour@iwa-prague.com
END:VEVENT
BEGIN:VEVENT
DTSTART;TZID=Europe/Prague:20271001T173000
DTEND;TZID=Europe/Prague:20271001T190000
DTSTAMP:20260424T155122
CREATED:20240926T135133Z
LAST-MODIFIED:20260320T111626Z
UID:10001774-1822411800-1822417200@iwa-prague.com
SUMMARY:Happy Hour
DESCRIPTION:
URL:https://iwa-prague.com/event/happy-hour/2027-10-01/
CATEGORIES:Evening Groups
ATTACH;FMTTYPE=image/jpeg:https://iwa-prague.com/wp-content/uploads/2021/05/HH-Aug-2017-OPT.jpg
ORGANIZER;CN="Leslie Nicholson":MAILTO:happyhour@iwa-prague.com
END:VEVENT
BEGIN:VEVENT
DTSTART;TZID=Europe/Prague:20271105T173000
DTEND;TZID=Europe/Prague:20271105T190000
DTSTAMP:20260424T155122
CREATED:20240926T135133Z
LAST-MODIFIED:20260320T111626Z
UID:10001775-1825435800-1825441200@iwa-prague.com
SUMMARY:Happy Hour
DESCRIPTION:
URL:https://iwa-prague.com/event/happy-hour/2027-11-05/
CATEGORIES:Evening Groups
ATTACH;FMTTYPE=image/jpeg:https://iwa-prague.com/wp-content/uploads/2021/05/HH-Aug-2017-OPT.jpg
ORGANIZER;CN="Leslie Nicholson":MAILTO:happyhour@iwa-prague.com
END:VEVENT
BEGIN:VEVENT
DTSTART;TZID=Europe/Prague:20271203T173000
DTEND;TZID=Europe/Prague:20271203T190000
DTSTAMP:20260424T155122
CREATED:20240926T135133Z
LAST-MODIFIED:20260320T111626Z
UID:10001776-1827855000-1827860400@iwa-prague.com
SUMMARY:Happy Hour
DESCRIPTION:
URL:https://iwa-prague.com/event/happy-hour/2027-12-03/
CATEGORIES:Evening Groups
ATTACH;FMTTYPE=image/jpeg:https://iwa-prague.com/wp-content/uploads/2021/05/HH-Aug-2017-OPT.jpg
ORGANIZER;CN="Leslie Nicholson":MAILTO:happyhour@iwa-prague.com
END:VEVENT
BEGIN:VEVENT
DTSTART;TZID=Europe/Prague:20280107T173000
DTEND;TZID=Europe/Prague:20280107T190000
DTSTAMP:20260424T155122
CREATED:20240926T135133Z
LAST-MODIFIED:20260320T111626Z
UID:10001777-1830879000-1830884400@iwa-prague.com
SUMMARY:Happy Hour
DESCRIPTION:
URL:https://iwa-prague.com/event/happy-hour/2028-01-07/
CATEGORIES:Evening Groups
ATTACH;FMTTYPE=image/jpeg:https://iwa-prague.com/wp-content/uploads/2021/05/HH-Aug-2017-OPT.jpg
ORGANIZER;CN="Leslie Nicholson":MAILTO:happyhour@iwa-prague.com
END:VEVENT
BEGIN:VEVENT
DTSTART;TZID=Europe/Prague:20280204T173000
DTEND;TZID=Europe/Prague:20280204T190000
DTSTAMP:20260424T155122
CREATED:20240926T135133Z
LAST-MODIFIED:20260320T111626Z
UID:10001778-1833298200-1833303600@iwa-prague.com
SUMMARY:Happy Hour
DESCRIPTION:
URL:https://iwa-prague.com/event/happy-hour/2028-02-04/
CATEGORIES:Evening Groups
ATTACH;FMTTYPE=image/jpeg:https://iwa-prague.com/wp-content/uploads/2021/05/HH-Aug-2017-OPT.jpg
ORGANIZER;CN="Leslie Nicholson":MAILTO:happyhour@iwa-prague.com
END:VEVENT
BEGIN:VEVENT
DTSTART;TZID=Europe/Prague:20280303T173000
DTEND;TZID=Europe/Prague:20280303T190000
DTSTAMP:20260424T155122
CREATED:20240926T135133Z
LAST-MODIFIED:20260320T111626Z
UID:10001779-1835717400-1835722800@iwa-prague.com
SUMMARY:Happy Hour
DESCRIPTION:
URL:https://iwa-prague.com/event/happy-hour/2028-03-03/
CATEGORIES:Evening Groups
ATTACH;FMTTYPE=image/jpeg:https://iwa-prague.com/wp-content/uploads/2021/05/HH-Aug-2017-OPT.jpg
ORGANIZER;CN="Leslie Nicholson":MAILTO:happyhour@iwa-prague.com
END:VEVENT
BEGIN:VEVENT
DTSTART;TZID=Europe/Prague:20280407T173000
DTEND;TZID=Europe/Prague:20280407T190000
DTSTAMP:20260424T155122
CREATED:20240926T135133Z
LAST-MODIFIED:20260320T111626Z
UID:10001780-1838741400-1838746800@iwa-prague.com
SUMMARY:Happy Hour
DESCRIPTION:
URL:https://iwa-prague.com/event/happy-hour/2028-04-07/
CATEGORIES:Evening Groups
ATTACH;FMTTYPE=image/jpeg:https://iwa-prague.com/wp-content/uploads/2021/05/HH-Aug-2017-OPT.jpg
ORGANIZER;CN="Leslie Nicholson":MAILTO:happyhour@iwa-prague.com
END:VEVENT
BEGIN:VEVENT
DTSTART;TZID=Europe/Prague:20280505T173000
DTEND;TZID=Europe/Prague:20280505T190000
DTSTAMP:20260424T155122
CREATED:20240926T135133Z
LAST-MODIFIED:20260320T111626Z
UID:10001781-1841160600-1841166000@iwa-prague.com
SUMMARY:Happy Hour
DESCRIPTION:
URL:https://iwa-prague.com/event/happy-hour/2028-05-05/
CATEGORIES:Evening Groups
ATTACH;FMTTYPE=image/jpeg:https://iwa-prague.com/wp-content/uploads/2021/05/HH-Aug-2017-OPT.jpg
ORGANIZER;CN="Leslie Nicholson":MAILTO:happyhour@iwa-prague.com
END:VEVENT
BEGIN:VEVENT
DTSTART;TZID=Europe/Prague:20280602T173000
DTEND;TZID=Europe/Prague:20280602T190000
DTSTAMP:20260424T155122
CREATED:20240926T135133Z
LAST-MODIFIED:20260320T111626Z
UID:10001782-1843579800-1843585200@iwa-prague.com
SUMMARY:Happy Hour
DESCRIPTION:
URL:https://iwa-prague.com/event/happy-hour/2028-06-02/
CATEGORIES:Evening Groups
ATTACH;FMTTYPE=image/jpeg:https://iwa-prague.com/wp-content/uploads/2021/05/HH-Aug-2017-OPT.jpg
ORGANIZER;CN="Leslie Nicholson":MAILTO:happyhour@iwa-prague.com
END:VEVENT
BEGIN:VEVENT
DTSTART;TZID=Europe/Prague:20280707T173000
DTEND;TZID=Europe/Prague:20280707T190000
DTSTAMP:20260424T155122
CREATED:20240926T135133Z
LAST-MODIFIED:20260320T111626Z
UID:10001783-1846603800-1846609200@iwa-prague.com
SUMMARY:Happy Hour
DESCRIPTION:
URL:https://iwa-prague.com/event/happy-hour/2028-07-07/
CATEGORIES:Evening Groups
ATTACH;FMTTYPE=image/jpeg:https://iwa-prague.com/wp-content/uploads/2021/05/HH-Aug-2017-OPT.jpg
ORGANIZER;CN="Leslie Nicholson":MAILTO:happyhour@iwa-prague.com
END:VEVENT
BEGIN:VEVENT
DTSTART;TZID=Europe/Prague:20280804T173000
DTEND;TZID=Europe/Prague:20280804T190000
DTSTAMP:20260424T155122
CREATED:20240926T135133Z
LAST-MODIFIED:20260320T111626Z
UID:10001784-1849023000-1849028400@iwa-prague.com
SUMMARY:Happy Hour
DESCRIPTION:
URL:https://iwa-prague.com/event/happy-hour/2028-08-04/
CATEGORIES:Evening Groups
ATTACH;FMTTYPE=image/jpeg:https://iwa-prague.com/wp-content/uploads/2021/05/HH-Aug-2017-OPT.jpg
ORGANIZER;CN="Leslie Nicholson":MAILTO:happyhour@iwa-prague.com
END:VEVENT
BEGIN:VEVENT
DTSTART;TZID=Europe/Prague:20280901T173000
DTEND;TZID=Europe/Prague:20280901T190000
DTSTAMP:20260424T155122
CREATED:20240926T135133Z
LAST-MODIFIED:20260320T111626Z
UID:10001785-1851442200-1851447600@iwa-prague.com
SUMMARY:Happy Hour
DESCRIPTION:
URL:https://iwa-prague.com/event/happy-hour/2028-09-01/
CATEGORIES:Evening Groups
ATTACH;FMTTYPE=image/jpeg:https://iwa-prague.com/wp-content/uploads/2021/05/HH-Aug-2017-OPT.jpg
ORGANIZER;CN="Leslie Nicholson":MAILTO:happyhour@iwa-prague.com
END:VEVENT
BEGIN:VEVENT
DTSTART;TZID=Europe/Prague:20281006T173000
DTEND;TZID=Europe/Prague:20281006T190000
DTSTAMP:20260424T155122
CREATED:20240926T135133Z
LAST-MODIFIED:20260320T111626Z
UID:10001786-1854466200-1854471600@iwa-prague.com
SUMMARY:Happy Hour
DESCRIPTION:
URL:https://iwa-prague.com/event/happy-hour/2028-10-06/
CATEGORIES:Evening Groups
ATTACH;FMTTYPE=image/jpeg:https://iwa-prague.com/wp-content/uploads/2021/05/HH-Aug-2017-OPT.jpg
ORGANIZER;CN="Leslie Nicholson":MAILTO:happyhour@iwa-prague.com
END:VEVENT
END:VCALENDAR