BEGIN:VCALENDAR
VERSION:2.0
PRODID:-//International Women&#039;s Association of Prague - ECPv6.15.20//NONSGML v1.0//EN
CALSCALE:GREGORIAN
METHOD:PUBLISH
X-WR-CALNAME:International Women&#039;s Association of Prague
X-ORIGINAL-URL:https://iwa-prague.com
X-WR-CALDESC:Events for International Women&#039;s Association of Prague
REFRESH-INTERVAL;VALUE=DURATION:PT1H
X-Robots-Tag:noindex
X-PUBLISHED-TTL:PT1H
BEGIN:VTIMEZONE
TZID:Europe/Prague
BEGIN:DAYLIGHT
TZOFFSETFROM:+0100
TZOFFSETTO:+0200
TZNAME:CEST
DTSTART:20250330T010000
END:DAYLIGHT
BEGIN:STANDARD
TZOFFSETFROM:+0200
TZOFFSETTO:+0100
TZNAME:CET
DTSTART:20251026T010000
END:STANDARD
BEGIN:DAYLIGHT
TZOFFSETFROM:+0100
TZOFFSETTO:+0200
TZNAME:CEST
DTSTART:20260329T010000
END:DAYLIGHT
BEGIN:STANDARD
TZOFFSETFROM:+0200
TZOFFSETTO:+0100
TZNAME:CET
DTSTART:20261025T010000
END:STANDARD
BEGIN:DAYLIGHT
TZOFFSETFROM:+0100
TZOFFSETTO:+0200
TZNAME:CEST
DTSTART:20270328T010000
END:DAYLIGHT
BEGIN:STANDARD
TZOFFSETFROM:+0200
TZOFFSETTO:+0100
TZNAME:CET
DTSTART:20271031T010000
END:STANDARD
BEGIN:DAYLIGHT
TZOFFSETFROM:+0100
TZOFFSETTO:+0200
TZNAME:CEST
DTSTART:20280326T010000
END:DAYLIGHT
BEGIN:STANDARD
TZOFFSETFROM:+0200
TZOFFSETTO:+0100
TZNAME:CET
DTSTART:20281029T010000
END:STANDARD
BEGIN:DAYLIGHT
TZOFFSETFROM:+0100
TZOFFSETTO:+0200
TZNAME:CEST
DTSTART:20290325T010000
END:DAYLIGHT
BEGIN:STANDARD
TZOFFSETFROM:+0200
TZOFFSETTO:+0100
TZNAME:CET
DTSTART:20291028T010000
END:STANDARD
END:VTIMEZONE
BEGIN:VEVENT
DTSTART;TZID=Europe/Prague:20260521T103000
DTEND;TZID=Europe/Prague:20260521T120000
DTSTAMP:20260425T025142
CREATED:20251120T144736Z
LAST-MODIFIED:20251120T144736Z
UID:10008321-1779359400-1779364800@iwa-prague.com
SUMMARY:German Language
DESCRIPTION:
URL:https://iwa-prague.com/event/german-language/2026-05-21/
CATEGORIES:Languages
END:VEVENT
BEGIN:VEVENT
DTSTART;TZID=Europe/Prague:20260618T103000
DTEND;TZID=Europe/Prague:20260618T120000
DTSTAMP:20260425T025142
CREATED:20251120T144736Z
LAST-MODIFIED:20251120T144736Z
UID:10008322-1781778600-1781784000@iwa-prague.com
SUMMARY:German Language
DESCRIPTION:
URL:https://iwa-prague.com/event/german-language/2026-06-18/
CATEGORIES:Languages
END:VEVENT
BEGIN:VEVENT
DTSTART;TZID=Europe/Prague:20260716T103000
DTEND;TZID=Europe/Prague:20260716T120000
DTSTAMP:20260425T025142
CREATED:20251120T144736Z
LAST-MODIFIED:20251120T144736Z
UID:10008323-1784197800-1784203200@iwa-prague.com
SUMMARY:German Language
DESCRIPTION:
URL:https://iwa-prague.com/event/german-language/2026-07-16/
CATEGORIES:Languages
END:VEVENT
BEGIN:VEVENT
DTSTART;TZID=Europe/Prague:20260820T103000
DTEND;TZID=Europe/Prague:20260820T120000
DTSTAMP:20260425T025142
CREATED:20251120T144736Z
LAST-MODIFIED:20251120T144736Z
UID:10008324-1787221800-1787227200@iwa-prague.com
SUMMARY:German Language
DESCRIPTION:
URL:https://iwa-prague.com/event/german-language/2026-08-20/
CATEGORIES:Languages
END:VEVENT
BEGIN:VEVENT
DTSTART;TZID=Europe/Prague:20260917T103000
DTEND;TZID=Europe/Prague:20260917T120000
DTSTAMP:20260425T025142
CREATED:20251120T144736Z
LAST-MODIFIED:20251120T144736Z
UID:10008325-1789641000-1789646400@iwa-prague.com
SUMMARY:German Language
DESCRIPTION:
URL:https://iwa-prague.com/event/german-language/2026-09-17/
CATEGORIES:Languages
END:VEVENT
BEGIN:VEVENT
DTSTART;TZID=Europe/Prague:20261015T103000
DTEND;TZID=Europe/Prague:20261015T120000
DTSTAMP:20260425T025142
CREATED:20251120T144736Z
LAST-MODIFIED:20251120T144736Z
UID:10008326-1792060200-1792065600@iwa-prague.com
SUMMARY:German Language
DESCRIPTION:
URL:https://iwa-prague.com/event/german-language/2026-10-15/
CATEGORIES:Languages
END:VEVENT
BEGIN:VEVENT
DTSTART;TZID=Europe/Prague:20261119T103000
DTEND;TZID=Europe/Prague:20261119T120000
DTSTAMP:20260425T025142
CREATED:20251120T144736Z
LAST-MODIFIED:20251120T144736Z
UID:10008327-1795084200-1795089600@iwa-prague.com
SUMMARY:German Language
DESCRIPTION:
URL:https://iwa-prague.com/event/german-language/2026-11-19/
CATEGORIES:Languages
END:VEVENT
BEGIN:VEVENT
DTSTART;TZID=Europe/Prague:20261217T103000
DTEND;TZID=Europe/Prague:20261217T120000
DTSTAMP:20260425T025142
CREATED:20251120T144736Z
LAST-MODIFIED:20251120T144736Z
UID:10008328-1797503400-1797508800@iwa-prague.com
SUMMARY:German Language
DESCRIPTION:
URL:https://iwa-prague.com/event/german-language/2026-12-17/
CATEGORIES:Languages
END:VEVENT
BEGIN:VEVENT
DTSTART;TZID=Europe/Prague:20270121T103000
DTEND;TZID=Europe/Prague:20270121T120000
DTSTAMP:20260425T025142
CREATED:20251120T144736Z
LAST-MODIFIED:20251120T144736Z
UID:10008329-1800527400-1800532800@iwa-prague.com
SUMMARY:German Language
DESCRIPTION:
URL:https://iwa-prague.com/event/german-language/2027-01-21/
CATEGORIES:Languages
END:VEVENT
BEGIN:VEVENT
DTSTART;TZID=Europe/Prague:20270218T103000
DTEND;TZID=Europe/Prague:20270218T120000
DTSTAMP:20260425T025142
CREATED:20251120T144736Z
LAST-MODIFIED:20251120T144736Z
UID:10008330-1802946600-1802952000@iwa-prague.com
SUMMARY:German Language
DESCRIPTION:
URL:https://iwa-prague.com/event/german-language/2027-02-18/
CATEGORIES:Languages
END:VEVENT
BEGIN:VEVENT
DTSTART;TZID=Europe/Prague:20270318T103000
DTEND;TZID=Europe/Prague:20270318T120000
DTSTAMP:20260425T025142
CREATED:20251120T144736Z
LAST-MODIFIED:20251120T144736Z
UID:10008331-1805365800-1805371200@iwa-prague.com
SUMMARY:German Language
DESCRIPTION:
URL:https://iwa-prague.com/event/german-language/2027-03-18/
CATEGORIES:Languages
END:VEVENT
BEGIN:VEVENT
DTSTART;TZID=Europe/Prague:20270415T103000
DTEND;TZID=Europe/Prague:20270415T120000
DTSTAMP:20260425T025142
CREATED:20251120T144736Z
LAST-MODIFIED:20251120T144736Z
UID:10008332-1807785000-1807790400@iwa-prague.com
SUMMARY:German Language
DESCRIPTION:
URL:https://iwa-prague.com/event/german-language/2027-04-15/
CATEGORIES:Languages
END:VEVENT
BEGIN:VEVENT
DTSTART;TZID=Europe/Prague:20270520T103000
DTEND;TZID=Europe/Prague:20270520T120000
DTSTAMP:20260425T025142
CREATED:20251120T144736Z
LAST-MODIFIED:20251120T144736Z
UID:10008333-1810809000-1810814400@iwa-prague.com
SUMMARY:German Language
DESCRIPTION:
URL:https://iwa-prague.com/event/german-language/2027-05-20/
CATEGORIES:Languages
END:VEVENT
BEGIN:VEVENT
DTSTART;TZID=Europe/Prague:20270617T103000
DTEND;TZID=Europe/Prague:20270617T120000
DTSTAMP:20260425T025142
CREATED:20251120T144736Z
LAST-MODIFIED:20251120T144736Z
UID:10008334-1813228200-1813233600@iwa-prague.com
SUMMARY:German Language
DESCRIPTION:
URL:https://iwa-prague.com/event/german-language/2027-06-17/
CATEGORIES:Languages
END:VEVENT
BEGIN:VEVENT
DTSTART;TZID=Europe/Prague:20270715T103000
DTEND;TZID=Europe/Prague:20270715T120000
DTSTAMP:20260425T025142
CREATED:20251120T144736Z
LAST-MODIFIED:20251120T144736Z
UID:10008335-1815647400-1815652800@iwa-prague.com
SUMMARY:German Language
DESCRIPTION:
URL:https://iwa-prague.com/event/german-language/2027-07-15/
CATEGORIES:Languages
END:VEVENT
BEGIN:VEVENT
DTSTART;TZID=Europe/Prague:20270819T103000
DTEND;TZID=Europe/Prague:20270819T120000
DTSTAMP:20260425T025142
CREATED:20251120T144736Z
LAST-MODIFIED:20251120T144736Z
UID:10008336-1818671400-1818676800@iwa-prague.com
SUMMARY:German Language
DESCRIPTION:
URL:https://iwa-prague.com/event/german-language/2027-08-19/
CATEGORIES:Languages
END:VEVENT
BEGIN:VEVENT
DTSTART;TZID=Europe/Prague:20270916T103000
DTEND;TZID=Europe/Prague:20270916T120000
DTSTAMP:20260425T025142
CREATED:20251120T144736Z
LAST-MODIFIED:20251120T144736Z
UID:10008337-1821090600-1821096000@iwa-prague.com
SUMMARY:German Language
DESCRIPTION:
URL:https://iwa-prague.com/event/german-language/2027-09-16/
CATEGORIES:Languages
END:VEVENT
BEGIN:VEVENT
DTSTART;TZID=Europe/Prague:20271021T103000
DTEND;TZID=Europe/Prague:20271021T120000
DTSTAMP:20260425T025142
CREATED:20251120T144736Z
LAST-MODIFIED:20251120T144736Z
UID:10008338-1824114600-1824120000@iwa-prague.com
SUMMARY:German Language
DESCRIPTION:
URL:https://iwa-prague.com/event/german-language/2027-10-21/
CATEGORIES:Languages
END:VEVENT
BEGIN:VEVENT
DTSTART;TZID=Europe/Prague:20271118T103000
DTEND;TZID=Europe/Prague:20271118T120000
DTSTAMP:20260425T025142
CREATED:20251120T144736Z
LAST-MODIFIED:20251120T144736Z
UID:10008339-1826533800-1826539200@iwa-prague.com
SUMMARY:German Language
DESCRIPTION:
URL:https://iwa-prague.com/event/german-language/2027-11-18/
CATEGORIES:Languages
END:VEVENT
BEGIN:VEVENT
DTSTART;TZID=Europe/Prague:20271216T103000
DTEND;TZID=Europe/Prague:20271216T120000
DTSTAMP:20260425T025142
CREATED:20251120T144736Z
LAST-MODIFIED:20251120T144736Z
UID:10008340-1828953000-1828958400@iwa-prague.com
SUMMARY:German Language
DESCRIPTION:
URL:https://iwa-prague.com/event/german-language/2027-12-16/
CATEGORIES:Languages
END:VEVENT
BEGIN:VEVENT
DTSTART;TZID=Europe/Prague:20280120T103000
DTEND;TZID=Europe/Prague:20280120T120000
DTSTAMP:20260425T025142
CREATED:20251120T144736Z
LAST-MODIFIED:20251120T144736Z
UID:10008341-1831977000-1831982400@iwa-prague.com
SUMMARY:German Language
DESCRIPTION:
URL:https://iwa-prague.com/event/german-language/2028-01-20/
CATEGORIES:Languages
END:VEVENT
BEGIN:VEVENT
DTSTART;TZID=Europe/Prague:20280217T103000
DTEND;TZID=Europe/Prague:20280217T120000
DTSTAMP:20260425T025142
CREATED:20251120T144736Z
LAST-MODIFIED:20251120T144736Z
UID:10008342-1834396200-1834401600@iwa-prague.com
SUMMARY:German Language
DESCRIPTION:
URL:https://iwa-prague.com/event/german-language/2028-02-17/
CATEGORIES:Languages
END:VEVENT
BEGIN:VEVENT
DTSTART;TZID=Europe/Prague:20280316T103000
DTEND;TZID=Europe/Prague:20280316T120000
DTSTAMP:20260425T025142
CREATED:20251120T144736Z
LAST-MODIFIED:20251120T144736Z
UID:10008343-1836815400-1836820800@iwa-prague.com
SUMMARY:German Language
DESCRIPTION:
URL:https://iwa-prague.com/event/german-language/2028-03-16/
CATEGORIES:Languages
END:VEVENT
BEGIN:VEVENT
DTSTART;TZID=Europe/Prague:20280420T103000
DTEND;TZID=Europe/Prague:20280420T120000
DTSTAMP:20260425T025142
CREATED:20251120T144736Z
LAST-MODIFIED:20251120T144736Z
UID:10008344-1839839400-1839844800@iwa-prague.com
SUMMARY:German Language
DESCRIPTION:
URL:https://iwa-prague.com/event/german-language/2028-04-20/
CATEGORIES:Languages
END:VEVENT
BEGIN:VEVENT
DTSTART;TZID=Europe/Prague:20280518T103000
DTEND;TZID=Europe/Prague:20280518T120000
DTSTAMP:20260425T025142
CREATED:20251120T144736Z
LAST-MODIFIED:20251120T144736Z
UID:10008345-1842258600-1842264000@iwa-prague.com
SUMMARY:German Language
DESCRIPTION:
URL:https://iwa-prague.com/event/german-language/2028-05-18/
CATEGORIES:Languages
END:VEVENT
BEGIN:VEVENT
DTSTART;TZID=Europe/Prague:20280615T103000
DTEND;TZID=Europe/Prague:20280615T120000
DTSTAMP:20260425T025142
CREATED:20251120T144736Z
LAST-MODIFIED:20251120T144736Z
UID:10008346-1844677800-1844683200@iwa-prague.com
SUMMARY:German Language
DESCRIPTION:
URL:https://iwa-prague.com/event/german-language/2028-06-15/
CATEGORIES:Languages
END:VEVENT
BEGIN:VEVENT
DTSTART;TZID=Europe/Prague:20280720T103000
DTEND;TZID=Europe/Prague:20280720T120000
DTSTAMP:20260425T025142
CREATED:20251120T144736Z
LAST-MODIFIED:20251120T144736Z
UID:10008347-1847701800-1847707200@iwa-prague.com
SUMMARY:German Language
DESCRIPTION:
URL:https://iwa-prague.com/event/german-language/2028-07-20/
CATEGORIES:Languages
END:VEVENT
BEGIN:VEVENT
DTSTART;TZID=Europe/Prague:20280817T103000
DTEND;TZID=Europe/Prague:20280817T120000
DTSTAMP:20260425T025142
CREATED:20251120T144736Z
LAST-MODIFIED:20251120T144736Z
UID:10008348-1850121000-1850126400@iwa-prague.com
SUMMARY:German Language
DESCRIPTION:
URL:https://iwa-prague.com/event/german-language/2028-08-17/
CATEGORIES:Languages
END:VEVENT
BEGIN:VEVENT
DTSTART;TZID=Europe/Prague:20280921T103000
DTEND;TZID=Europe/Prague:20280921T120000
DTSTAMP:20260425T025142
CREATED:20251120T144736Z
LAST-MODIFIED:20251120T144736Z
UID:10008349-1853145000-1853150400@iwa-prague.com
SUMMARY:German Language
DESCRIPTION:
URL:https://iwa-prague.com/event/german-language/2028-09-21/
CATEGORIES:Languages
END:VEVENT
BEGIN:VEVENT
DTSTART;TZID=Europe/Prague:20281019T103000
DTEND;TZID=Europe/Prague:20281019T120000
DTSTAMP:20260425T025142
CREATED:20251120T144736Z
LAST-MODIFIED:20251120T144736Z
UID:10008350-1855564200-1855569600@iwa-prague.com
SUMMARY:German Language
DESCRIPTION:
URL:https://iwa-prague.com/event/german-language/2028-10-19/
CATEGORIES:Languages
END:VEVENT
END:VCALENDAR