BEGIN:VCALENDAR
VERSION:2.0
PRODID:-//International Women&#039;s Association of Prague - ECPv6.15.20//NONSGML v1.0//EN
CALSCALE:GREGORIAN
METHOD:PUBLISH
X-WR-CALNAME:International Women&#039;s Association of Prague
X-ORIGINAL-URL:https://iwa-prague.com
X-WR-CALDESC:Events for International Women&#039;s Association of Prague
REFRESH-INTERVAL;VALUE=DURATION:PT1H
X-Robots-Tag:noindex
X-PUBLISHED-TTL:PT1H
BEGIN:VTIMEZONE
TZID:Europe/Prague
BEGIN:DAYLIGHT
TZOFFSETFROM:+0100
TZOFFSETTO:+0200
TZNAME:CEST
DTSTART:20240331T010000
END:DAYLIGHT
BEGIN:STANDARD
TZOFFSETFROM:+0200
TZOFFSETTO:+0100
TZNAME:CET
DTSTART:20241027T010000
END:STANDARD
BEGIN:DAYLIGHT
TZOFFSETFROM:+0100
TZOFFSETTO:+0200
TZNAME:CEST
DTSTART:20250330T010000
END:DAYLIGHT
BEGIN:STANDARD
TZOFFSETFROM:+0200
TZOFFSETTO:+0100
TZNAME:CET
DTSTART:20251026T010000
END:STANDARD
BEGIN:DAYLIGHT
TZOFFSETFROM:+0100
TZOFFSETTO:+0200
TZNAME:CEST
DTSTART:20260329T010000
END:DAYLIGHT
BEGIN:STANDARD
TZOFFSETFROM:+0200
TZOFFSETTO:+0100
TZNAME:CET
DTSTART:20261025T010000
END:STANDARD
END:VTIMEZONE
BEGIN:VEVENT
DTSTART;TZID=Europe/Prague:20251001T103000
DTEND;TZID=Europe/Prague:20251001T120000
DTSTAMP:20260425T155549
CREATED:20251017T152738Z
LAST-MODIFIED:20251024T130240Z
UID:10007800-1759314600-1759320000@iwa-prague.com
SUMMARY:AAU History Class
DESCRIPTION:
URL:https://iwa-prague.com/event/aau-history-class/2025-10-01/
CATEGORIES:Cultural Events & Excursions
ORGANIZER;CN="Brigitte Lintner":MAILTO:culturalevents@iwa-prague.com
END:VEVENT
BEGIN:VEVENT
DTSTART;TZID=Europe/Prague:20251001T150000
DTEND;TZID=Europe/Prague:20251001T173000
DTSTAMP:20260425T155549
CREATED:20250905T104444Z
LAST-MODIFIED:20250909T093919Z
UID:10007425-1759330800-1759339800@iwa-prague.com
SUMMARY:Willy Wonka Tea Party Charity Fundraiser
DESCRIPTION:SAVE THE DATE! More details to follow soon…
URL:https://iwa-prague.com/event/wonka-tea-party-charity-fundraiser/
CATEGORIES:Charity
ATTACH;FMTTYPE=image/jpeg:https://iwa-prague.com/wp-content/uploads/2025/09/wonka-for-web-cal-OPT-1.jpg
END:VEVENT
BEGIN:VEVENT
DTSTART;TZID=Europe/Prague:20251002T093000
DTEND;TZID=Europe/Prague:20251002T103000
DTSTAMP:20260425T155549
CREATED:20250107T113134Z
LAST-MODIFIED:20251209T160617Z
UID:10000509-1759397400-1759401000@iwa-prague.com
SUMMARY:Dance For Fun
DESCRIPTION:
URL:https://iwa-prague.com/event/dance-for-fun-2/2025-10-02/
CATEGORIES:Health & Wellness
ATTACH;FMTTYPE=image/jpeg:https://iwa-prague.com/wp-content/uploads/2024/09/dance-group.jpg
ORGANIZER;CN="Valerie Stulikova":MAILTO:dance@iwa-prague.com
END:VEVENT
BEGIN:VEVENT
DTSTART;TZID=Europe/Prague:20251002T103000
DTEND;TZID=Europe/Prague:20251002T120000
DTSTAMP:20260425T155549
CREATED:20240926T131826Z
LAST-MODIFIED:20251128T155416Z
UID:10008464-1759401000-1759406400@iwa-prague.com
SUMMARY:German Language
DESCRIPTION:
URL:https://iwa-prague.com/event/german-language-group/2025-10-02/
CATEGORIES:Languages
ATTACH;FMTTYPE=image/jpeg:https://iwa-prague.com/wp-content/uploads/2021/05/IMG_6063-OPT.jpg
ORGANIZER;CN="Petra Nykod%C3%BDm":MAILTO:germanlanguage@iwa-prague.com
END:VEVENT
BEGIN:VEVENT
DTSTART;TZID=Europe/Prague:20251002T133000
DTEND;TZID=Europe/Prague:20251002T153000
DTSTAMP:20260425T155549
CREATED:20240926T133557Z
LAST-MODIFIED:20260402T183752Z
UID:10001098-1759411800-1759419000@iwa-prague.com
SUMMARY:English Chat
DESCRIPTION:
URL:https://iwa-prague.com/event/english-chat/2025-10-02/
CATEGORIES:Languages
ATTACH;FMTTYPE=image/jpeg:https://iwa-prague.com/wp-content/uploads/2024/09/engchat-OPT.jpg
ORGANIZER;CN="Maria Fadian":MAILTO:englishchat@iwa-prague.com
END:VEVENT
BEGIN:VEVENT
DTSTART;TZID=Europe/Prague:20251003T100000
DTEND;TZID=Europe/Prague:20251003T120000
DTSTAMP:20260425T155549
CREATED:20240926T141157Z
LAST-MODIFIED:20240926T141157Z
UID:10002953-1759485600-1759492800@iwa-prague.com
SUMMARY:Tennis
DESCRIPTION:
URL:https://iwa-prague.com/event/tennis/2025-10-03/
CATEGORIES:Health & Wellness
ATTACH;FMTTYPE=image/jpeg:https://iwa-prague.com/wp-content/uploads/2024/09/tennis-group-sep-2024.jpg
ORGANIZER;CN="Renata Van%C4%9B%C4%8Dkov%C3%A1":MAILTO:tennis@iwa-prague.com
END:VEVENT
BEGIN:VEVENT
DTSTART;TZID=Europe/Prague:20251003T143000
DTEND;TZID=Europe/Prague:20251003T163000
DTSTAMP:20260425T155549
CREATED:20250911T161646Z
LAST-MODIFIED:20250911T161646Z
UID:10007498-1759501800-1759509000@iwa-prague.com
SUMMARY:Joint outing: Gallery Gang & Photography Groups
DESCRIPTION:For more information about this joint event please email gallerygang@iwa-prague.com or photography@iwa-prague.com.
URL:https://iwa-prague.com/event/joint-outing-gallery-gang-photography-groups/
CATEGORIES:Art & Culture
END:VEVENT
BEGIN:VEVENT
DTSTART;TZID=Europe/Prague:20251003T173000
DTEND;TZID=Europe/Prague:20251003T190000
DTSTAMP:20260425T155549
CREATED:20240926T135133Z
LAST-MODIFIED:20260320T111626Z
UID:10001750-1759512600-1759518000@iwa-prague.com
SUMMARY:Happy Hour
DESCRIPTION:
URL:https://iwa-prague.com/event/happy-hour/2025-10-03/
CATEGORIES:Evening Groups
ATTACH;FMTTYPE=image/jpeg:https://iwa-prague.com/wp-content/uploads/2021/05/HH-Aug-2017-OPT.jpg
ORGANIZER;CN="Leslie Nicholson":MAILTO:happyhour@iwa-prague.com
END:VEVENT
BEGIN:VEVENT
DTSTART;TZID=Europe/Prague:20251006T080000
DTEND;TZID=Europe/Prague:20251006T130000
DTSTAMP:20260425T155549
CREATED:20240926T134840Z
LAST-MODIFIED:20240926T134840Z
UID:10001530-1759737600-1759755600@iwa-prague.com
SUMMARY:Golf
DESCRIPTION:
URL:https://iwa-prague.com/event/golf/2025-10-06/
CATEGORIES:Health & Wellness
ATTACH;FMTTYPE=image/jpeg:https://iwa-prague.com/wp-content/uploads/2021/03/Golf-May-2016-OPT.jpg
ORGANIZER;CN="Isolde Meinken":MAILTO:golf@iwa-prague.com
END:VEVENT
BEGIN:VEVENT
DTSTART;TZID=Europe/Prague:20251006T103000
DTEND;TZID=Europe/Prague:20251006T120000
DTSTAMP:20260425T155549
CREATED:20240926T134257Z
LAST-MODIFIED:20251209T154753Z
UID:10005698-1759746600-1759752000@iwa-prague.com
SUMMARY:French Conversation
DESCRIPTION:
URL:https://iwa-prague.com/event/french-conversation/2025-10-06/
CATEGORIES:Languages
ATTACH;FMTTYPE=image/jpeg:https://iwa-prague.com/wp-content/uploads/2021/05/French-Group-reading-2016-OPT3.jpg
ORGANIZER;CN="Dominic Kopecky":MAILTO:french@iwa-prague.com
END:VEVENT
BEGIN:VEVENT
DTSTART;TZID=Europe/Prague:20251006T140000
DTEND;TZID=Europe/Prague:20251006T153000
DTSTAMP:20260425T155549
CREATED:20240926T135507Z
LAST-MODIFIED:20260311T103100Z
UID:10001810-1759759200-1759764600@iwa-prague.com
SUMMARY:Kavarna Hopping
DESCRIPTION:
URL:https://iwa-prague.com/event/kavarna-hopping/2025-10-06/
CATEGORIES:Social Groups
ATTACH;FMTTYPE=image/jpeg:https://iwa-prague.com/wp-content/uploads/2024/09/kavarna-hopping-mar-2023-003-scaled.jpg
ORGANIZER;CN="Kim Strebel / Cathy Meils":MAILTO:kavarna@iwa-prague.com
END:VEVENT
BEGIN:VEVENT
DTSTART;TZID=Europe/Prague:20251007T090000
DTEND;TZID=Europe/Prague:20251007T100000
DTSTAMP:20260425T155549
CREATED:20240926T140857Z
LAST-MODIFIED:20241102T101214Z
UID:10002693-1759827600-1759831200@iwa-prague.com
SUMMARY:Tai Chi Chih
DESCRIPTION:
URL:https://iwa-prague.com/event/tai-chi-chih/2025-10-07/
CATEGORIES:Health & Wellness
ATTACH;FMTTYPE=image/jpeg:https://iwa-prague.com/wp-content/uploads/2022/10/TaiChi_Lebl_CMYK300.jpg
ORGANIZER;CN="Cheryl Caspe":MAILTO:taichi@iwa-prague.com
END:VEVENT
BEGIN:VEVENT
DTSTART;TZID=Europe/Prague:20251007T090000
DTEND;TZID=Europe/Prague:20251007T180000
DTSTAMP:20260425T155549
CREATED:20250905T103349Z
LAST-MODIFIED:20250905T103549Z
UID:10007424-1759827600-1759860000@iwa-prague.com
SUMMARY:Day Trip to Tabor
DESCRIPTION:Come and join us for a day trip to the lovely Husité city of Tabor. This city\, about 1 hour South of Prague\, is rich in history\, has beautiful architecture and a great vibe. We will go on a self guided city tour\, followed by a joint lunch in one of the many pubs. Then you will have a bit of time to wander around in the pedestrian zone\, check out interesting little shops before we head back to the train station. \nPlease bear in mind that this trip will be an ALL day activity and involve quite a bit of walking. \nFor full details and how to sign up please read The Bridge Weekly Newsletter or email culturalevents@iwa-prague.com if you have any questions.
URL:https://iwa-prague.com/event/day-trip-to-tabor/
CATEGORIES:Cultural Events & Excursions
ATTACH;FMTTYPE=image/jpeg:https://iwa-prague.com/wp-content/uploads/2025/09/tabor-OPT.jpg
END:VEVENT
BEGIN:VEVENT
DTSTART;TZID=Europe/Prague:20251007T140000
DTEND;TZID=Europe/Prague:20251007T160000
DTSTAMP:20260425T155549
CREATED:20240926T140013Z
LAST-MODIFIED:20250605T154628Z
UID:10006769-1759845600-1759852800@iwa-prague.com
SUMMARY:Knit & Crochet
DESCRIPTION:
URL:https://iwa-prague.com/event/knitting-crochet-and-small-needlework/2025-10-07/
CATEGORIES:Creative Pursuits & Gourmet
ATTACH;FMTTYPE=image/jpeg:https://iwa-prague.com/wp-content/uploads/2017/02/Knitting-Jul-2021-OPT.jpg
ORGANIZER;CN="Charlotte Sommer":MAILTO:knitting@iwa-prague.com
END:VEVENT
BEGIN:VEVENT
DTSTART;TZID=Europe/Prague:20251009T093000
DTEND;TZID=Europe/Prague:20251009T103000
DTSTAMP:20260425T155549
CREATED:20250107T113134Z
LAST-MODIFIED:20251209T160617Z
UID:10000510-1760002200-1760005800@iwa-prague.com
SUMMARY:Dance For Fun
DESCRIPTION:
URL:https://iwa-prague.com/event/dance-for-fun-2/2025-10-09/
CATEGORIES:Health & Wellness
ATTACH;FMTTYPE=image/jpeg:https://iwa-prague.com/wp-content/uploads/2024/09/dance-group.jpg
ORGANIZER;CN="Valerie Stulikova":MAILTO:dance@iwa-prague.com
END:VEVENT
BEGIN:VEVENT
DTSTART;TZID=Europe/Prague:20251009T120000
DTEND;TZID=Europe/Prague:20251009T133000
DTSTAMP:20260425T155549
CREATED:20251002T155607Z
LAST-MODIFIED:20251209T155038Z
UID:10007526-1760011200-1760016600@iwa-prague.com
SUMMARY:Ping Pong
DESCRIPTION:
URL:https://iwa-prague.com/event/ping-pong-2/2025-10-09/
CATEGORIES:Health & Wellness
ATTACH;FMTTYPE=image/jpeg:https://iwa-prague.com/wp-content/uploads/2025/09/table-tennis-4046307_1280-OPT.jpg
ORGANIZER;CN="Pamela Starobin":MAILTO:pingpong@iwa-prague.com
END:VEVENT
BEGIN:VEVENT
DTSTART;TZID=Europe/Prague:20251010T100000
DTEND;TZID=Europe/Prague:20251010T120000
DTSTAMP:20260425T155549
CREATED:20240926T141157Z
LAST-MODIFIED:20240926T141157Z
UID:10002954-1760090400-1760097600@iwa-prague.com
SUMMARY:Tennis
DESCRIPTION:
URL:https://iwa-prague.com/event/tennis/2025-10-10/
CATEGORIES:Health & Wellness
ATTACH;FMTTYPE=image/jpeg:https://iwa-prague.com/wp-content/uploads/2024/09/tennis-group-sep-2024.jpg
ORGANIZER;CN="Renata Van%C4%9B%C4%8Dkov%C3%A1":MAILTO:tennis@iwa-prague.com
END:VEVENT
BEGIN:VEVENT
DTSTART;TZID=Europe/Prague:20251010T100000
DTEND;TZID=Europe/Prague:20251010T120000
DTSTAMP:20260425T155549
CREATED:20241030T085257Z
LAST-MODIFIED:20260109T125822Z
UID:10005288-1760090400-1760097600@iwa-prague.com
SUMMARY:Friday Book Club
DESCRIPTION:
URL:https://iwa-prague.com/event/friday-book-club-2/2025-10-10/
CATEGORIES:Art & Culture
ATTACH;FMTTYPE=image/jpeg:https://iwa-prague.com/wp-content/uploads/2024/09/fribookclub-apr-2024-001-1-scaled.jpg
ORGANIZER;CN="Laurie Barnes":MAILTO:fridaybookclub@iwa-prague.com
END:VEVENT
BEGIN:VEVENT
DTSTART;TZID=Europe/Prague:20251013T080000
DTEND;TZID=Europe/Prague:20251013T130000
DTSTAMP:20260425T155549
CREATED:20240926T134840Z
LAST-MODIFIED:20240926T134840Z
UID:10001531-1760342400-1760360400@iwa-prague.com
SUMMARY:Golf
DESCRIPTION:
URL:https://iwa-prague.com/event/golf/2025-10-13/
CATEGORIES:Health & Wellness
ATTACH;FMTTYPE=image/jpeg:https://iwa-prague.com/wp-content/uploads/2021/03/Golf-May-2016-OPT.jpg
ORGANIZER;CN="Isolde Meinken":MAILTO:golf@iwa-prague.com
END:VEVENT
BEGIN:VEVENT
DTSTART;TZID=Europe/Prague:20251013T103000
DTEND;TZID=Europe/Prague:20251013T120000
DTSTAMP:20260425T155549
CREATED:20240926T134257Z
LAST-MODIFIED:20251209T154753Z
UID:10005699-1760351400-1760356800@iwa-prague.com
SUMMARY:French Conversation
DESCRIPTION:
URL:https://iwa-prague.com/event/french-conversation/2025-10-13/
CATEGORIES:Languages
ATTACH;FMTTYPE=image/jpeg:https://iwa-prague.com/wp-content/uploads/2021/05/French-Group-reading-2016-OPT3.jpg
ORGANIZER;CN="Dominic Kopecky":MAILTO:french@iwa-prague.com
END:VEVENT
BEGIN:VEVENT
DTSTART;TZID=Europe/Prague:20251013T123000
DTEND;TZID=Europe/Prague:20251013T143000
DTSTAMP:20260425T155549
CREATED:20240926T142010Z
LAST-MODIFIED:20251125T135042Z
UID:10003173-1760358600-1760365800@iwa-prague.com
SUMMARY:Friends at the Table
DESCRIPTION:
URL:https://iwa-prague.com/event/newcomers-lunch-3/2025-10-13/
LOCATION:Manes Restaurant\, Masarykovo nábř. 250/1\, Czech Republic
CATEGORIES:Newcomers Lunch
ATTACH;FMTTYPE=image/jpeg:https://iwa-prague.com/wp-content/uploads/2024/09/newcomers-OPT.jpg
ORGANIZER;CN="Shirley Lanzieri":MAILTO:membership@iwa-prague.com
END:VEVENT
BEGIN:VEVENT
DTSTART;TZID=Europe/Prague:20251014T090000
DTEND;TZID=Europe/Prague:20251014T100000
DTSTAMP:20260425T155549
CREATED:20240926T140857Z
LAST-MODIFIED:20241102T101214Z
UID:10002694-1760432400-1760436000@iwa-prague.com
SUMMARY:Tai Chi Chih
DESCRIPTION:
URL:https://iwa-prague.com/event/tai-chi-chih/2025-10-14/
CATEGORIES:Health & Wellness
ATTACH;FMTTYPE=image/jpeg:https://iwa-prague.com/wp-content/uploads/2022/10/TaiChi_Lebl_CMYK300.jpg
ORGANIZER;CN="Cheryl Caspe":MAILTO:taichi@iwa-prague.com
END:VEVENT
BEGIN:VEVENT
DTSTART;TZID=Europe/Prague:20251014T140000
DTEND;TZID=Europe/Prague:20251014T160000
DTSTAMP:20260425T155549
CREATED:20240926T140013Z
LAST-MODIFIED:20250605T154628Z
UID:10006770-1760450400-1760457600@iwa-prague.com
SUMMARY:Knit & Crochet
DESCRIPTION:
URL:https://iwa-prague.com/event/knitting-crochet-and-small-needlework/2025-10-14/
CATEGORIES:Creative Pursuits & Gourmet
ATTACH;FMTTYPE=image/jpeg:https://iwa-prague.com/wp-content/uploads/2017/02/Knitting-Jul-2021-OPT.jpg
ORGANIZER;CN="Charlotte Sommer":MAILTO:knitting@iwa-prague.com
END:VEVENT
BEGIN:VEVENT
DTSTART;TZID=Europe/Prague:20251014T160000
DTEND;TZID=Europe/Prague:20251014T180000
DTSTAMP:20260425T155549
CREATED:20241113T134936Z
LAST-MODIFIED:20251024T135205Z
UID:10003353-1760457600-1760464800@iwa-prague.com
SUMMARY:Board of Directors Meeting
DESCRIPTION:
URL:https://iwa-prague.com/event/executive-board-meeting-2/2025-10-14/
CATEGORIES:Executive Board Meeting
ORGANIZER;CN="Jenny Rassaby Ryan":MAILTO:president@iwa-prague.com
END:VEVENT
BEGIN:VEVENT
DTSTART;TZID=Europe/Prague:20251015T103000
DTEND;TZID=Europe/Prague:20251015T120000
DTSTAMP:20260425T155549
CREATED:20251017T152738Z
LAST-MODIFIED:20251024T130240Z
UID:10007801-1760524200-1760529600@iwa-prague.com
SUMMARY:AAU History Class
DESCRIPTION:
URL:https://iwa-prague.com/event/aau-history-class/2025-10-15/
CATEGORIES:Cultural Events & Excursions
ORGANIZER;CN="Brigitte Lintner":MAILTO:culturalevents@iwa-prague.com
END:VEVENT
BEGIN:VEVENT
DTSTART;TZID=Europe/Prague:20251015T180000
DTEND;TZID=Europe/Prague:20251015T193000
DTSTAMP:20260425T155549
CREATED:20250111T084157Z
LAST-MODIFIED:20260304T161244Z
UID:10007506-1760551200-1760556600@iwa-prague.com
SUMMARY:Wellness
DESCRIPTION:
URL:https://iwa-prague.com/event/wellness/2025-10-15/
CATEGORIES:Evening Groups
ATTACH;FMTTYPE=image/jpeg:https://iwa-prague.com/wp-content/uploads/2022/10/wellness-OPT-scaled.jpg
ORGANIZER;CN="Fernanda Escobar Illoldi":MAILTO:wellness@iwa-prague.com
END:VEVENT
BEGIN:VEVENT
DTSTART;TZID=Europe/Prague:20251016T093000
DTEND;TZID=Europe/Prague:20251016T103000
DTSTAMP:20260425T155549
CREATED:20250107T113134Z
LAST-MODIFIED:20251209T160617Z
UID:10000511-1760607000-1760610600@iwa-prague.com
SUMMARY:Dance For Fun
DESCRIPTION:
URL:https://iwa-prague.com/event/dance-for-fun-2/2025-10-16/
CATEGORIES:Health & Wellness
ATTACH;FMTTYPE=image/jpeg:https://iwa-prague.com/wp-content/uploads/2024/09/dance-group.jpg
ORGANIZER;CN="Valerie Stulikova":MAILTO:dance@iwa-prague.com
END:VEVENT
BEGIN:VEVENT
DTSTART;TZID=Europe/Prague:20251016T120000
DTEND;TZID=Europe/Prague:20251016T133000
DTSTAMP:20260425T155549
CREATED:20251002T155607Z
LAST-MODIFIED:20251209T155038Z
UID:10007527-1760616000-1760621400@iwa-prague.com
SUMMARY:Ping Pong
DESCRIPTION:
URL:https://iwa-prague.com/event/ping-pong-2/2025-10-16/
CATEGORIES:Health & Wellness
ATTACH;FMTTYPE=image/jpeg:https://iwa-prague.com/wp-content/uploads/2025/09/table-tennis-4046307_1280-OPT.jpg
ORGANIZER;CN="Pamela Starobin":MAILTO:pingpong@iwa-prague.com
END:VEVENT
BEGIN:VEVENT
DTSTART;TZID=Europe/Prague:20251016T160000
DTEND;TZID=Europe/Prague:20251016T173000
DTSTAMP:20260425T155549
CREATED:20250114T074603Z
LAST-MODIFIED:20260413T153731Z
UID:10007789-1760630400-1760635800@iwa-prague.com
SUMMARY:Gallery Gang
DESCRIPTION:Please contact the group leader for more details on this specific event.
URL:https://iwa-prague.com/event/gallery-gang/2025-10-16/
CATEGORIES:Art & Culture
ATTACH;FMTTYPE=image/jpeg:https://iwa-prague.com/wp-content/uploads/2023/09/gallerygang-OPT.jpg
ORGANIZER;CN="Carmen Trankovsky":MAILTO:gallery@iwa-prague.com
END:VEVENT
BEGIN:VEVENT
DTSTART;TZID=Europe/Prague:20251016T180000
DTEND;TZID=Europe/Prague:20251016T200000
DTSTAMP:20260425T155549
CREATED:20240926T131356Z
LAST-MODIFIED:20260323T125606Z
UID:10000721-1760637600-1760644800@iwa-prague.com
SUMMARY:Dining Divas
DESCRIPTION:
URL:https://iwa-prague.com/event/dinner-divas-group/2025-10-16/
CATEGORIES:Evening Groups
ATTACH;FMTTYPE=image/png:https://iwa-prague.com/wp-content/uploads/2023/08/dinner-divas-01.png
ORGANIZER;CN="Lorna Phillipson":MAILTO:dinnerdivas@iwa-prague.com
END:VEVENT
END:VCALENDAR