BEGIN:VCALENDAR
VERSION:2.0
PRODID:-//International Women&#039;s Association of Prague - ECPv6.15.20//NONSGML v1.0//EN
CALSCALE:GREGORIAN
METHOD:PUBLISH
X-WR-CALNAME:International Women&#039;s Association of Prague
X-ORIGINAL-URL:https://iwa-prague.com
X-WR-CALDESC:Events for International Women&#039;s Association of Prague
REFRESH-INTERVAL;VALUE=DURATION:PT1H
X-Robots-Tag:noindex
X-PUBLISHED-TTL:PT1H
BEGIN:VTIMEZONE
TZID:Europe/Prague
BEGIN:DAYLIGHT
TZOFFSETFROM:+0100
TZOFFSETTO:+0200
TZNAME:CEST
DTSTART:20240331T010000
END:DAYLIGHT
BEGIN:STANDARD
TZOFFSETFROM:+0200
TZOFFSETTO:+0100
TZNAME:CET
DTSTART:20241027T010000
END:STANDARD
BEGIN:DAYLIGHT
TZOFFSETFROM:+0100
TZOFFSETTO:+0200
TZNAME:CEST
DTSTART:20250330T010000
END:DAYLIGHT
BEGIN:STANDARD
TZOFFSETFROM:+0200
TZOFFSETTO:+0100
TZNAME:CET
DTSTART:20251026T010000
END:STANDARD
BEGIN:DAYLIGHT
TZOFFSETFROM:+0100
TZOFFSETTO:+0200
TZNAME:CEST
DTSTART:20260329T010000
END:DAYLIGHT
BEGIN:STANDARD
TZOFFSETFROM:+0200
TZOFFSETTO:+0100
TZNAME:CET
DTSTART:20261025T010000
END:STANDARD
BEGIN:DAYLIGHT
TZOFFSETFROM:+0100
TZOFFSETTO:+0200
TZNAME:CEST
DTSTART:20270328T010000
END:DAYLIGHT
BEGIN:STANDARD
TZOFFSETFROM:+0200
TZOFFSETTO:+0100
TZNAME:CET
DTSTART:20271031T010000
END:STANDARD
END:VTIMEZONE
BEGIN:VEVENT
DTSTART;TZID=Europe/Prague:20260108T133000
DTEND;TZID=Europe/Prague:20260108T150000
DTSTAMP:20260424T134743
CREATED:20240926T133557Z
LAST-MODIFIED:20260402T183752Z
UID:10008616-1767879000-1767884400@iwa-prague.com
SUMMARY:English Chat
DESCRIPTION:
URL:https://iwa-prague.com/event/english-chat/2026-01-08/
CATEGORIES:Languages
ATTACH;FMTTYPE=image/jpeg:https://iwa-prague.com/wp-content/uploads/2024/09/engchat-OPT.jpg
ORGANIZER;CN="Maria Fadian":MAILTO:englishchat@iwa-prague.com
END:VEVENT
BEGIN:VEVENT
DTSTART;TZID=Europe/Prague:20260108T120000
DTEND;TZID=Europe/Prague:20260108T133000
DTSTAMP:20260424T134743
CREATED:20251002T155607Z
LAST-MODIFIED:20251209T155038Z
UID:10007539-1767873600-1767879000@iwa-prague.com
SUMMARY:Ping Pong
DESCRIPTION:
URL:https://iwa-prague.com/event/ping-pong-2/2026-01-08/
CATEGORIES:Health & Wellness
ATTACH;FMTTYPE=image/jpeg:https://iwa-prague.com/wp-content/uploads/2025/09/table-tennis-4046307_1280-OPT.jpg
ORGANIZER;CN="Pamela Starobin":MAILTO:pingpong@iwa-prague.com
END:VEVENT
BEGIN:VEVENT
DTSTART;TZID=Europe/Prague:20260108T093000
DTEND;TZID=Europe/Prague:20260108T103000
DTSTAMP:20260424T134743
CREATED:20250107T113134Z
LAST-MODIFIED:20251209T160617Z
UID:10000523-1767864600-1767868200@iwa-prague.com
SUMMARY:Dance For Fun
DESCRIPTION:
URL:https://iwa-prague.com/event/dance-for-fun-2/2026-01-08/
CATEGORIES:Health & Wellness
ATTACH;FMTTYPE=image/jpeg:https://iwa-prague.com/wp-content/uploads/2024/09/dance-group.jpg
ORGANIZER;CN="Valerie Stulikova":MAILTO:dance@iwa-prague.com
END:VEVENT
BEGIN:VEVENT
DTSTART;TZID=Europe/Prague:20260106T140000
DTEND;TZID=Europe/Prague:20260106T160000
DTSTAMP:20260424T134743
CREATED:20241007T162706Z
LAST-MODIFIED:20260224T161337Z
UID:10005077-1767708000-1767715200@iwa-prague.com
SUMMARY:Czech Conversation
DESCRIPTION:We practice communicating in the Czech language in a casual surrounding and with the help of native speakers\, topics vary each week.
URL:https://iwa-prague.com/event/czech-conversation-2/2026-01-06/
CATEGORIES:Languages
ATTACH;FMTTYPE=image/jpeg:https://iwa-prague.com/wp-content/uploads/2021/05/Czech-Jun-2020-OPT.jpg
ORGANIZER;CN="Iva %C4%8Cvandov%C3%A1":MAILTO:czechconversation@iwa-prague.com
END:VEVENT
BEGIN:VEVENT
DTSTART;TZID=Europe/Prague:20260106T140000
DTEND;TZID=Europe/Prague:20260106T160000
DTSTAMP:20260424T134743
CREATED:20240926T140013Z
LAST-MODIFIED:20250605T154628Z
UID:10006782-1767708000-1767715200@iwa-prague.com
SUMMARY:Knit & Crochet
DESCRIPTION:
URL:https://iwa-prague.com/event/knitting-crochet-and-small-needlework/2026-01-06/
CATEGORIES:Creative Pursuits & Gourmet
ATTACH;FMTTYPE=image/jpeg:https://iwa-prague.com/wp-content/uploads/2017/02/Knitting-Jul-2021-OPT.jpg
ORGANIZER;CN="Charlotte Sommer":MAILTO:knitting@iwa-prague.com
END:VEVENT
BEGIN:VEVENT
DTSTART;TZID=Europe/Prague:20260106T090000
DTEND;TZID=Europe/Prague:20260106T100000
DTSTAMP:20260424T134743
CREATED:20240926T140857Z
LAST-MODIFIED:20241102T101214Z
UID:10002706-1767690000-1767693600@iwa-prague.com
SUMMARY:Tai Chi Chih
DESCRIPTION:
URL:https://iwa-prague.com/event/tai-chi-chih/2026-01-06/
CATEGORIES:Health & Wellness
ATTACH;FMTTYPE=image/jpeg:https://iwa-prague.com/wp-content/uploads/2022/10/TaiChi_Lebl_CMYK300.jpg
ORGANIZER;CN="Cheryl Caspe":MAILTO:taichi@iwa-prague.com
END:VEVENT
BEGIN:VEVENT
DTSTART;TZID=Europe/Prague:20260105T140000
DTEND;TZID=Europe/Prague:20260105T153000
DTSTAMP:20260424T134743
CREATED:20240926T135507Z
LAST-MODIFIED:20260311T103100Z
UID:10001813-1767621600-1767627000@iwa-prague.com
SUMMARY:Kavarna Hopping
DESCRIPTION:
URL:https://iwa-prague.com/event/kavarna-hopping/2026-01-05/
CATEGORIES:Social Groups
ATTACH;FMTTYPE=image/jpeg:https://iwa-prague.com/wp-content/uploads/2024/09/kavarna-hopping-mar-2023-003-scaled.jpg
ORGANIZER;CN="Kim Strebel / Cathy Meils":MAILTO:kavarna@iwa-prague.com
END:VEVENT
BEGIN:VEVENT
DTSTART;TZID=Europe/Prague:20260105T103000
DTEND;TZID=Europe/Prague:20260105T120000
DTSTAMP:20260424T134743
CREATED:20240926T134257Z
LAST-MODIFIED:20251209T154753Z
UID:10005711-1767609000-1767614400@iwa-prague.com
SUMMARY:French Conversation
DESCRIPTION:
URL:https://iwa-prague.com/event/french-conversation/2026-01-05/
CATEGORIES:Languages
ATTACH;FMTTYPE=image/jpeg:https://iwa-prague.com/wp-content/uploads/2021/05/French-Group-reading-2016-OPT3.jpg
ORGANIZER;CN="Dominic Kopecky":MAILTO:french@iwa-prague.com
END:VEVENT
BEGIN:VEVENT
DTSTART;TZID=Europe/Prague:20260105T080000
DTEND;TZID=Europe/Prague:20260105T130000
DTSTAMP:20260424T134743
CREATED:20240926T134840Z
LAST-MODIFIED:20240926T134840Z
UID:10001543-1767600000-1767618000@iwa-prague.com
SUMMARY:Golf
DESCRIPTION:
URL:https://iwa-prague.com/event/golf/2026-01-05/
CATEGORIES:Health & Wellness
ATTACH;FMTTYPE=image/jpeg:https://iwa-prague.com/wp-content/uploads/2021/03/Golf-May-2016-OPT.jpg
ORGANIZER;CN="Isolde Meinken":MAILTO:golf@iwa-prague.com
END:VEVENT
BEGIN:VEVENT
DTSTART;TZID=Europe/Prague:20260102T100000
DTEND;TZID=Europe/Prague:20260102T120000
DTSTAMP:20260424T134743
CREATED:20240926T141157Z
LAST-MODIFIED:20240926T141157Z
UID:10002966-1767348000-1767355200@iwa-prague.com
SUMMARY:Tennis
DESCRIPTION:
URL:https://iwa-prague.com/event/tennis/2026-01-02/
CATEGORIES:Health & Wellness
ATTACH;FMTTYPE=image/jpeg:https://iwa-prague.com/wp-content/uploads/2024/09/tennis-group-sep-2024.jpg
ORGANIZER;CN="Renata Van%C4%9B%C4%8Dkov%C3%A1":MAILTO:tennis@iwa-prague.com
END:VEVENT
BEGIN:VEVENT
DTSTART;TZID=Europe/Prague:20260101T120000
DTEND;TZID=Europe/Prague:20260101T133000
DTSTAMP:20260424T134743
CREATED:20251002T155607Z
LAST-MODIFIED:20251209T155038Z
UID:10007538-1767268800-1767274200@iwa-prague.com
SUMMARY:Ping Pong
DESCRIPTION:
URL:https://iwa-prague.com/event/ping-pong-2/2026-01-01/
CATEGORIES:Health & Wellness
ATTACH;FMTTYPE=image/jpeg:https://iwa-prague.com/wp-content/uploads/2025/09/table-tennis-4046307_1280-OPT.jpg
ORGANIZER;CN="Pamela Starobin":MAILTO:pingpong@iwa-prague.com
END:VEVENT
BEGIN:VEVENT
DTSTART;TZID=Europe/Prague:20260101T093000
DTEND;TZID=Europe/Prague:20260101T103000
DTSTAMP:20260424T134743
CREATED:20250107T113134Z
LAST-MODIFIED:20251209T160617Z
UID:10000522-1767259800-1767263400@iwa-prague.com
SUMMARY:Dance For Fun
DESCRIPTION:
URL:https://iwa-prague.com/event/dance-for-fun-2/2026-01-01/
CATEGORIES:Health & Wellness
ATTACH;FMTTYPE=image/jpeg:https://iwa-prague.com/wp-content/uploads/2024/09/dance-group.jpg
ORGANIZER;CN="Valerie Stulikova":MAILTO:dance@iwa-prague.com
END:VEVENT
BEGIN:VEVENT
DTSTART;TZID=Europe/Prague:20251230T140000
DTEND;TZID=Europe/Prague:20251230T160000
DTSTAMP:20260424T134743
CREATED:20240926T140013Z
LAST-MODIFIED:20250605T154628Z
UID:10006781-1767103200-1767110400@iwa-prague.com
SUMMARY:Knit & Crochet
DESCRIPTION:
URL:https://iwa-prague.com/event/knitting-crochet-and-small-needlework/2025-12-30/
CATEGORIES:Creative Pursuits & Gourmet
ATTACH;FMTTYPE=image/jpeg:https://iwa-prague.com/wp-content/uploads/2017/02/Knitting-Jul-2021-OPT.jpg
ORGANIZER;CN="Charlotte Sommer":MAILTO:knitting@iwa-prague.com
END:VEVENT
BEGIN:VEVENT
DTSTART;TZID=Europe/Prague:20251230T090000
DTEND;TZID=Europe/Prague:20251230T100000
DTSTAMP:20260424T134743
CREATED:20240926T140857Z
LAST-MODIFIED:20241102T101214Z
UID:10002705-1767085200-1767088800@iwa-prague.com
SUMMARY:Tai Chi Chih
DESCRIPTION:
URL:https://iwa-prague.com/event/tai-chi-chih/2025-12-30/
CATEGORIES:Health & Wellness
ATTACH;FMTTYPE=image/jpeg:https://iwa-prague.com/wp-content/uploads/2022/10/TaiChi_Lebl_CMYK300.jpg
ORGANIZER;CN="Cheryl Caspe":MAILTO:taichi@iwa-prague.com
END:VEVENT
BEGIN:VEVENT
DTSTART;TZID=Europe/Prague:20251229T080000
DTEND;TZID=Europe/Prague:20251229T130000
DTSTAMP:20260424T134743
CREATED:20240926T134840Z
LAST-MODIFIED:20240926T134840Z
UID:10001542-1766995200-1767013200@iwa-prague.com
SUMMARY:Golf
DESCRIPTION:
URL:https://iwa-prague.com/event/golf/2025-12-29/
CATEGORIES:Health & Wellness
ATTACH;FMTTYPE=image/jpeg:https://iwa-prague.com/wp-content/uploads/2021/03/Golf-May-2016-OPT.jpg
ORGANIZER;CN="Isolde Meinken":MAILTO:golf@iwa-prague.com
END:VEVENT
BEGIN:VEVENT
DTSTART;TZID=Europe/Prague:20251226T100000
DTEND;TZID=Europe/Prague:20251226T120000
DTSTAMP:20260424T134743
CREATED:20240926T141157Z
LAST-MODIFIED:20240926T141157Z
UID:10002965-1766743200-1766750400@iwa-prague.com
SUMMARY:Tennis
DESCRIPTION:
URL:https://iwa-prague.com/event/tennis/2025-12-26/
CATEGORIES:Health & Wellness
ATTACH;FMTTYPE=image/jpeg:https://iwa-prague.com/wp-content/uploads/2024/09/tennis-group-sep-2024.jpg
ORGANIZER;CN="Renata Van%C4%9B%C4%8Dkov%C3%A1":MAILTO:tennis@iwa-prague.com
END:VEVENT
BEGIN:VEVENT
DTSTART;TZID=Europe/Prague:20251223T140000
DTEND;TZID=Europe/Prague:20251223T160000
DTSTAMP:20260424T134743
CREATED:20240926T140013Z
LAST-MODIFIED:20250605T154628Z
UID:10006780-1766498400-1766505600@iwa-prague.com
SUMMARY:Knit & Crochet
DESCRIPTION:
URL:https://iwa-prague.com/event/knitting-crochet-and-small-needlework/2025-12-23/
CATEGORIES:Creative Pursuits & Gourmet
ATTACH;FMTTYPE=image/jpeg:https://iwa-prague.com/wp-content/uploads/2017/02/Knitting-Jul-2021-OPT.jpg
ORGANIZER;CN="Charlotte Sommer":MAILTO:knitting@iwa-prague.com
END:VEVENT
BEGIN:VEVENT
DTSTART;TZID=Europe/Prague:20251223T090000
DTEND;TZID=Europe/Prague:20251223T100000
DTSTAMP:20260424T134743
CREATED:20240926T140857Z
LAST-MODIFIED:20241102T101214Z
UID:10002704-1766480400-1766484000@iwa-prague.com
SUMMARY:Tai Chi Chih
DESCRIPTION:
URL:https://iwa-prague.com/event/tai-chi-chih/2025-12-23/
CATEGORIES:Health & Wellness
ATTACH;FMTTYPE=image/jpeg:https://iwa-prague.com/wp-content/uploads/2022/10/TaiChi_Lebl_CMYK300.jpg
ORGANIZER;CN="Cheryl Caspe":MAILTO:taichi@iwa-prague.com
END:VEVENT
BEGIN:VEVENT
DTSTART;TZID=Europe/Prague:20251222T080000
DTEND;TZID=Europe/Prague:20251222T130000
DTSTAMP:20260424T134743
CREATED:20240926T134840Z
LAST-MODIFIED:20240926T134840Z
UID:10001541-1766390400-1766408400@iwa-prague.com
SUMMARY:Golf
DESCRIPTION:
URL:https://iwa-prague.com/event/golf/2025-12-22/
CATEGORIES:Health & Wellness
ATTACH;FMTTYPE=image/jpeg:https://iwa-prague.com/wp-content/uploads/2021/03/Golf-May-2016-OPT.jpg
ORGANIZER;CN="Isolde Meinken":MAILTO:golf@iwa-prague.com
END:VEVENT
BEGIN:VEVENT
DTSTART;TZID=Europe/Prague:20251219T100000
DTEND;TZID=Europe/Prague:20251219T120000
DTSTAMP:20260424T134743
CREATED:20240926T141157Z
LAST-MODIFIED:20240926T141157Z
UID:10002964-1766138400-1766145600@iwa-prague.com
SUMMARY:Tennis
DESCRIPTION:
URL:https://iwa-prague.com/event/tennis/2025-12-19/
CATEGORIES:Health & Wellness
ATTACH;FMTTYPE=image/jpeg:https://iwa-prague.com/wp-content/uploads/2024/09/tennis-group-sep-2024.jpg
ORGANIZER;CN="Renata Van%C4%9B%C4%8Dkov%C3%A1":MAILTO:tennis@iwa-prague.com
END:VEVENT
BEGIN:VEVENT
DTSTART;TZID=Europe/Prague:20251218T180000
DTEND;TZID=Europe/Prague:20251218T200000
DTSTAMP:20260424T134743
CREATED:20240926T131356Z
LAST-MODIFIED:20260323T125606Z
UID:10005201-1766080800-1766088000@iwa-prague.com
SUMMARY:Dining Divas
DESCRIPTION:
URL:https://iwa-prague.com/event/dinner-divas-group/2025-12-18/
CATEGORIES:Evening Groups
ATTACH;FMTTYPE=image/png:https://iwa-prague.com/wp-content/uploads/2023/08/dinner-divas-01.png
ORGANIZER;CN="Lorna Phillipson":MAILTO:dinnerdivas@iwa-prague.com
END:VEVENT
BEGIN:VEVENT
DTSTART;TZID=Europe/Prague:20251218T120000
DTEND;TZID=Europe/Prague:20251218T133000
DTSTAMP:20260424T134743
CREATED:20251002T155607Z
LAST-MODIFIED:20251209T155038Z
UID:10007536-1766059200-1766064600@iwa-prague.com
SUMMARY:Ping Pong
DESCRIPTION:
URL:https://iwa-prague.com/event/ping-pong-2/2025-12-18/
CATEGORIES:Health & Wellness
ATTACH;FMTTYPE=image/jpeg:https://iwa-prague.com/wp-content/uploads/2025/09/table-tennis-4046307_1280-OPT.jpg
ORGANIZER;CN="Pamela Starobin":MAILTO:pingpong@iwa-prague.com
END:VEVENT
BEGIN:VEVENT
DTSTART;TZID=Europe/Prague:20251218T103000
DTEND;TZID=Europe/Prague:20251218T120000
DTSTAMP:20260424T134743
CREATED:20251120T144736Z
LAST-MODIFIED:20251120T144736Z
UID:10008316-1766053800-1766059200@iwa-prague.com
SUMMARY:German Language
DESCRIPTION:
URL:https://iwa-prague.com/event/german-language/2025-12-18/
CATEGORIES:Languages
END:VEVENT
BEGIN:VEVENT
DTSTART;TZID=Europe/Prague:20251218T093000
DTEND;TZID=Europe/Prague:20251218T103000
DTSTAMP:20260424T134743
CREATED:20250107T113134Z
LAST-MODIFIED:20251209T160617Z
UID:10000520-1766050200-1766053800@iwa-prague.com
SUMMARY:Dance For Fun
DESCRIPTION:
URL:https://iwa-prague.com/event/dance-for-fun-2/2025-12-18/
CATEGORIES:Health & Wellness
ATTACH;FMTTYPE=image/jpeg:https://iwa-prague.com/wp-content/uploads/2024/09/dance-group.jpg
ORGANIZER;CN="Valerie Stulikova":MAILTO:dance@iwa-prague.com
END:VEVENT
BEGIN:VEVENT
DTSTART;TZID=Europe/Prague:20251216T140000
DTEND;TZID=Europe/Prague:20251216T160000
DTSTAMP:20260424T134743
CREATED:20240926T140013Z
LAST-MODIFIED:20250605T154628Z
UID:10006779-1765893600-1765900800@iwa-prague.com
SUMMARY:Knit & Crochet
DESCRIPTION:
URL:https://iwa-prague.com/event/knitting-crochet-and-small-needlework/2025-12-16/
CATEGORIES:Creative Pursuits & Gourmet
ATTACH;FMTTYPE=image/jpeg:https://iwa-prague.com/wp-content/uploads/2017/02/Knitting-Jul-2021-OPT.jpg
ORGANIZER;CN="Charlotte Sommer":MAILTO:knitting@iwa-prague.com
END:VEVENT
BEGIN:VEVENT
DTSTART;TZID=Europe/Prague:20251216T090000
DTEND;TZID=Europe/Prague:20251216T100000
DTSTAMP:20260424T134743
CREATED:20240926T140857Z
LAST-MODIFIED:20241102T101214Z
UID:10002703-1765875600-1765879200@iwa-prague.com
SUMMARY:Tai Chi Chih
DESCRIPTION:
URL:https://iwa-prague.com/event/tai-chi-chih/2025-12-16/
CATEGORIES:Health & Wellness
ATTACH;FMTTYPE=image/jpeg:https://iwa-prague.com/wp-content/uploads/2022/10/TaiChi_Lebl_CMYK300.jpg
ORGANIZER;CN="Cheryl Caspe":MAILTO:taichi@iwa-prague.com
END:VEVENT
BEGIN:VEVENT
DTSTART;TZID=Europe/Prague:20251215T080000
DTEND;TZID=Europe/Prague:20251215T130000
DTSTAMP:20260424T134743
CREATED:20240926T134840Z
LAST-MODIFIED:20240926T134840Z
UID:10001540-1765785600-1765803600@iwa-prague.com
SUMMARY:Golf
DESCRIPTION:
URL:https://iwa-prague.com/event/golf/2025-12-15/
CATEGORIES:Health & Wellness
ATTACH;FMTTYPE=image/jpeg:https://iwa-prague.com/wp-content/uploads/2021/03/Golf-May-2016-OPT.jpg
ORGANIZER;CN="Isolde Meinken":MAILTO:golf@iwa-prague.com
END:VEVENT
BEGIN:VEVENT
DTSTART;TZID=Europe/Prague:20251212T100000
DTEND;TZID=Europe/Prague:20251212T120000
DTSTAMP:20260424T134743
CREATED:20241030T085257Z
LAST-MODIFIED:20260109T125822Z
UID:10005290-1765533600-1765540800@iwa-prague.com
SUMMARY:Friday Book Club
DESCRIPTION:
URL:https://iwa-prague.com/event/friday-book-club-2/2025-12-12/
CATEGORIES:Art & Culture
ATTACH;FMTTYPE=image/jpeg:https://iwa-prague.com/wp-content/uploads/2024/09/fribookclub-apr-2024-001-1-scaled.jpg
ORGANIZER;CN="Laurie Barnes":MAILTO:fridaybookclub@iwa-prague.com
END:VEVENT
BEGIN:VEVENT
DTSTART;TZID=Europe/Prague:20251212T100000
DTEND;TZID=Europe/Prague:20251212T120000
DTSTAMP:20260424T134743
CREATED:20240926T141157Z
LAST-MODIFIED:20240926T141157Z
UID:10002963-1765533600-1765540800@iwa-prague.com
SUMMARY:Tennis
DESCRIPTION:
URL:https://iwa-prague.com/event/tennis/2025-12-12/
CATEGORIES:Health & Wellness
ATTACH;FMTTYPE=image/jpeg:https://iwa-prague.com/wp-content/uploads/2024/09/tennis-group-sep-2024.jpg
ORGANIZER;CN="Renata Van%C4%9B%C4%8Dkov%C3%A1":MAILTO:tennis@iwa-prague.com
END:VEVENT
BEGIN:VEVENT
DTSTART;TZID=Europe/Prague:20251211T120000
DTEND;TZID=Europe/Prague:20251211T133000
DTSTAMP:20260424T134743
CREATED:20251002T155607Z
LAST-MODIFIED:20251209T155038Z
UID:10007535-1765454400-1765459800@iwa-prague.com
SUMMARY:Ping Pong
DESCRIPTION:
URL:https://iwa-prague.com/event/ping-pong-2/2025-12-11/
CATEGORIES:Health & Wellness
ATTACH;FMTTYPE=image/jpeg:https://iwa-prague.com/wp-content/uploads/2025/09/table-tennis-4046307_1280-OPT.jpg
ORGANIZER;CN="Pamela Starobin":MAILTO:pingpong@iwa-prague.com
END:VEVENT
END:VCALENDAR