BEGIN:VCALENDAR
VERSION:2.0
PRODID:-//International Women&#039;s Association of Prague - ECPv6.15.20//NONSGML v1.0//EN
CALSCALE:GREGORIAN
METHOD:PUBLISH
X-WR-CALNAME:International Women&#039;s Association of Prague
X-ORIGINAL-URL:https://iwa-prague.com
X-WR-CALDESC:Events for International Women&#039;s Association of Prague
REFRESH-INTERVAL;VALUE=DURATION:PT1H
X-Robots-Tag:noindex
X-PUBLISHED-TTL:PT1H
BEGIN:VTIMEZONE
TZID:Europe/Prague
BEGIN:DAYLIGHT
TZOFFSETFROM:+0100
TZOFFSETTO:+0200
TZNAME:CEST
DTSTART:20250330T010000
END:DAYLIGHT
BEGIN:STANDARD
TZOFFSETFROM:+0200
TZOFFSETTO:+0100
TZNAME:CET
DTSTART:20251026T010000
END:STANDARD
BEGIN:DAYLIGHT
TZOFFSETFROM:+0100
TZOFFSETTO:+0200
TZNAME:CEST
DTSTART:20260329T010000
END:DAYLIGHT
BEGIN:STANDARD
TZOFFSETFROM:+0200
TZOFFSETTO:+0100
TZNAME:CET
DTSTART:20261025T010000
END:STANDARD
BEGIN:DAYLIGHT
TZOFFSETFROM:+0100
TZOFFSETTO:+0200
TZNAME:CEST
DTSTART:20270328T010000
END:DAYLIGHT
BEGIN:STANDARD
TZOFFSETFROM:+0200
TZOFFSETTO:+0100
TZNAME:CET
DTSTART:20271031T010000
END:STANDARD
END:VTIMEZONE
BEGIN:VEVENT
DTSTART;TZID=Europe/Prague:20260127T163000
DTEND;TZID=Europe/Prague:20260127T203000
DTSTAMP:20260425T173118
CREATED:20241007T153551Z
LAST-MODIFIED:20260424T153846Z
UID:10008718-1769531400-1769545800@iwa-prague.com
SUMMARY:Cook and Bake
DESCRIPTION:
URL:https://iwa-prague.com/event/cook-and-bake/2026-01-27/
CATEGORIES:Creative Pursuits & Gourmet
ATTACH;FMTTYPE=image/jpeg:https://iwa-prague.com/wp-content/uploads/2024/10/cookandbake-Jun-2023-scaled.jpg
ORGANIZER;CN="Denise Kanyuh":MAILTO:cookandbake@iwa-prague.com
END:VEVENT
BEGIN:VEVENT
DTSTART;TZID=Europe/Prague:20260127T140000
DTEND;TZID=Europe/Prague:20260127T160000
DTSTAMP:20260425T173118
CREATED:20240926T140013Z
LAST-MODIFIED:20250605T154628Z
UID:10006785-1769522400-1769529600@iwa-prague.com
SUMMARY:Knit & Crochet
DESCRIPTION:
URL:https://iwa-prague.com/event/knitting-crochet-and-small-needlework/2026-01-27/
CATEGORIES:Creative Pursuits & Gourmet
ATTACH;FMTTYPE=image/jpeg:https://iwa-prague.com/wp-content/uploads/2017/02/Knitting-Jul-2021-OPT.jpg
ORGANIZER;CN="Charlotte Sommer":MAILTO:knitting@iwa-prague.com
END:VEVENT
BEGIN:VEVENT
DTSTART;TZID=Europe/Prague:20260127T090000
DTEND;TZID=Europe/Prague:20260127T100000
DTSTAMP:20260425T173118
CREATED:20240926T140857Z
LAST-MODIFIED:20241102T101214Z
UID:10002709-1769504400-1769508000@iwa-prague.com
SUMMARY:Tai Chi Chih
DESCRIPTION:
URL:https://iwa-prague.com/event/tai-chi-chih/2026-01-27/
CATEGORIES:Health & Wellness
ATTACH;FMTTYPE=image/jpeg:https://iwa-prague.com/wp-content/uploads/2022/10/TaiChi_Lebl_CMYK300.jpg
ORGANIZER;CN="Cheryl Caspe":MAILTO:taichi@iwa-prague.com
END:VEVENT
BEGIN:VEVENT
DTSTART;TZID=Europe/Prague:20260126T133000
DTEND;TZID=Europe/Prague:20260126T153000
DTSTAMP:20260425T173118
CREATED:20251022T133521Z
LAST-MODIFIED:20260424T130538Z
UID:10008708-1769434200-1769441400@iwa-prague.com
SUMMARY:City Strolls
DESCRIPTION:
URL:https://iwa-prague.com/event/city-strolls/2026-01-26/
CATEGORIES:Health & Wellness
ATTACH;FMTTYPE=image/jpeg:https://iwa-prague.com/wp-content/uploads/2025/10/citystrolls-OPTpg.jpg
ORGANIZER;CN="Ramona Howerton":MAILTO:citystolls@iwa-prague.com
END:VEVENT
BEGIN:VEVENT
DTSTART;TZID=Europe/Prague:20260126T103000
DTEND;TZID=Europe/Prague:20260126T120000
DTSTAMP:20260425T173118
CREATED:20240926T134257Z
LAST-MODIFIED:20251209T154753Z
UID:10005714-1769423400-1769428800@iwa-prague.com
SUMMARY:French Conversation
DESCRIPTION:
URL:https://iwa-prague.com/event/french-conversation/2026-01-26/
CATEGORIES:Languages
ATTACH;FMTTYPE=image/jpeg:https://iwa-prague.com/wp-content/uploads/2021/05/French-Group-reading-2016-OPT3.jpg
ORGANIZER;CN="Dominic Kopecky":MAILTO:french@iwa-prague.com
END:VEVENT
BEGIN:VEVENT
DTSTART;TZID=Europe/Prague:20260126T080000
DTEND;TZID=Europe/Prague:20260126T130000
DTSTAMP:20260425T173118
CREATED:20240926T134840Z
LAST-MODIFIED:20240926T134840Z
UID:10001546-1769414400-1769432400@iwa-prague.com
SUMMARY:Golf
DESCRIPTION:
URL:https://iwa-prague.com/event/golf/2026-01-26/
CATEGORIES:Health & Wellness
ATTACH;FMTTYPE=image/jpeg:https://iwa-prague.com/wp-content/uploads/2021/03/Golf-May-2016-OPT.jpg
ORGANIZER;CN="Isolde Meinken":MAILTO:golf@iwa-prague.com
END:VEVENT
BEGIN:VEVENT
DTSTART;TZID=Europe/Prague:20260123T100000
DTEND;TZID=Europe/Prague:20260123T120000
DTSTAMP:20260425T173118
CREATED:20240926T141157Z
LAST-MODIFIED:20240926T141157Z
UID:10002969-1769162400-1769169600@iwa-prague.com
SUMMARY:Tennis
DESCRIPTION:
URL:https://iwa-prague.com/event/tennis/2026-01-23/
CATEGORIES:Health & Wellness
ATTACH;FMTTYPE=image/jpeg:https://iwa-prague.com/wp-content/uploads/2024/09/tennis-group-sep-2024.jpg
ORGANIZER;CN="Renata Van%C4%9B%C4%8Dkov%C3%A1":MAILTO:tennis@iwa-prague.com
END:VEVENT
BEGIN:VEVENT
DTSTART;TZID=Europe/Prague:20260122T183000
DTEND;TZID=Europe/Prague:20260122T213000
DTSTAMP:20260425T173118
CREATED:20250523T142029Z
LAST-MODIFIED:20260421T145828Z
UID:10008696-1769106600-1769117400@iwa-prague.com
SUMMARY:Plus One
DESCRIPTION:
URL:https://iwa-prague.com/event/plus-one/2026-01-22/
CATEGORIES:Evening Groups
ATTACH;FMTTYPE=image/jpeg:https://iwa-prague.com/wp-content/uploads/2025/05/plusone-OPT.jpg
ORGANIZER;CN="Vivian Strang":MAILTO:plusone@iwa-prague.com
END:VEVENT
BEGIN:VEVENT
DTSTART;TZID=Europe/Prague:20260122T133000
DTEND;TZID=Europe/Prague:20260122T143000
DTSTAMP:20260425T173118
CREATED:20250114T074603Z
LAST-MODIFIED:20260413T153731Z
UID:10008697-1769088600-1769092200@iwa-prague.com
SUMMARY:Gallery Gang
DESCRIPTION:Please contact the group leader for more details on this specific event.
URL:https://iwa-prague.com/event/gallery-gang/2026-01-22/
CATEGORIES:Art & Culture
ATTACH;FMTTYPE=image/jpeg:https://iwa-prague.com/wp-content/uploads/2023/09/gallerygang-OPT.jpg
ORGANIZER;CN="Carmen Trankovsky":MAILTO:gallery@iwa-prague.com
END:VEVENT
BEGIN:VEVENT
DTSTART;TZID=Europe/Prague:20260122T120000
DTEND;TZID=Europe/Prague:20260122T133000
DTSTAMP:20260425T173118
CREATED:20251002T155607Z
LAST-MODIFIED:20251209T155038Z
UID:10007541-1769083200-1769088600@iwa-prague.com
SUMMARY:Ping Pong
DESCRIPTION:
URL:https://iwa-prague.com/event/ping-pong-2/2026-01-22/
CATEGORIES:Health & Wellness
ATTACH;FMTTYPE=image/jpeg:https://iwa-prague.com/wp-content/uploads/2025/09/table-tennis-4046307_1280-OPT.jpg
ORGANIZER;CN="Pamela Starobin":MAILTO:pingpong@iwa-prague.com
END:VEVENT
BEGIN:VEVENT
DTSTART;TZID=Europe/Prague:20260122T100000
DTEND;TZID=Europe/Prague:20260122T113000
DTSTAMP:20260425T173118
CREATED:20251103T080712Z
LAST-MODIFIED:20260123T110731Z
UID:10008102-1769076000-1769081400@iwa-prague.com
SUMMARY:The History Group
DESCRIPTION:
URL:https://iwa-prague.com/event/the-history-group-2/2026-01-22/
CATEGORIES:Art & Culture
ATTACH;FMTTYPE=image/jpeg:https://iwa-prague.com/wp-content/uploads/2025/09/trebon-7221190_1280-OPT.jpg
ORGANIZER;CN="Petra Nykodym":MAILTO:history@iwa-prague.com
END:VEVENT
BEGIN:VEVENT
DTSTART;TZID=Europe/Prague:20260122T093000
DTEND;TZID=Europe/Prague:20260122T103000
DTSTAMP:20260425T173118
CREATED:20250107T113134Z
LAST-MODIFIED:20251209T160617Z
UID:10000525-1769074200-1769077800@iwa-prague.com
SUMMARY:Dance For Fun
DESCRIPTION:
URL:https://iwa-prague.com/event/dance-for-fun-2/2026-01-22/
CATEGORIES:Health & Wellness
ATTACH;FMTTYPE=image/jpeg:https://iwa-prague.com/wp-content/uploads/2024/09/dance-group.jpg
ORGANIZER;CN="Valerie Stulikova":MAILTO:dance@iwa-prague.com
END:VEVENT
BEGIN:VEVENT
DTSTART;TZID=Europe/Prague:20260121T100000
DTEND;TZID=Europe/Prague:20260121T120000
DTSTAMP:20260425T173118
CREATED:20251212T150704Z
LAST-MODIFIED:20251218T074754Z
UID:10008621-1768989600-1768996800@iwa-prague.com
SUMMARY:Walking
DESCRIPTION:
URL:https://iwa-prague.com/event/walking1/2026-01-21/
CATEGORIES:Health & Wellness
ATTACH;FMTTYPE=image/jpeg:https://iwa-prague.com/wp-content/uploads/2019/05/WALKING-GROUP-009-OPT-FI.jpg
ORGANIZER;CN="Carmen Trankovsky":MAILTO:gallery@iwa-prague.com
END:VEVENT
BEGIN:VEVENT
DTSTART;TZID=Europe/Prague:20260120T140000
DTEND;TZID=Europe/Prague:20260120T160000
DTSTAMP:20260425T173118
CREATED:20240926T140013Z
LAST-MODIFIED:20250605T154628Z
UID:10006784-1768917600-1768924800@iwa-prague.com
SUMMARY:Knit & Crochet
DESCRIPTION:
URL:https://iwa-prague.com/event/knitting-crochet-and-small-needlework/2026-01-20/
CATEGORIES:Creative Pursuits & Gourmet
ATTACH;FMTTYPE=image/jpeg:https://iwa-prague.com/wp-content/uploads/2017/02/Knitting-Jul-2021-OPT.jpg
ORGANIZER;CN="Charlotte Sommer":MAILTO:knitting@iwa-prague.com
END:VEVENT
BEGIN:VEVENT
DTSTART;TZID=Europe/Prague:20260120T120000
DTEND;TZID=Europe/Prague:20260120T140000
DTSTAMP:20260425T173118
CREATED:20241007T162220Z
LAST-MODIFIED:20251212T132644Z
UID:10008242-1768910400-1768917600@iwa-prague.com
SUMMARY:Czech Conversation
DESCRIPTION:We practice communicating in the Czech language in a casual surrounding and with the help of native speakers\, topics vary each week.
URL:https://iwa-prague.com/event/czech-conversation/2026-01-20/
CATEGORIES:Languages
ATTACH;FMTTYPE=image/jpeg:https://iwa-prague.com/wp-content/uploads/2021/05/Czech-Jun-2020-OPT.jpg
ORGANIZER;CN="Iva %C4%8Cvandov%C3%A1":MAILTO:czechconversation@iwa-prague.com
END:VEVENT
BEGIN:VEVENT
DTSTART;TZID=Europe/Prague:20260120T093000
DTEND;TZID=Europe/Prague:20260120T113000
DTSTAMP:20260425T173118
CREATED:20251108T103811Z
LAST-MODIFIED:20251110T125832Z
UID:10008172-1768901400-1768908600@iwa-prague.com
SUMMARY:Monthly Meeting
DESCRIPTION:
URL:https://iwa-prague.com/event/monthly-meeting-4/2026-01-20/
LOCATION:Anglo American University\, Letenská 120/5\, Prague 1\, Czech Republic
CATEGORIES:Monthly Meeting
ATTACH;FMTTYPE=image/jpeg:https://iwa-prague.com/wp-content/uploads/2024/09/Monthly-Meeting-feature-image-OPT.jpg
ORGANIZER;CN="Leslie Nicholson":MAILTO:president@iwa-prague.com
END:VEVENT
BEGIN:VEVENT
DTSTART;TZID=Europe/Prague:20260120T090000
DTEND;TZID=Europe/Prague:20260120T100000
DTSTAMP:20260425T173118
CREATED:20240926T140857Z
LAST-MODIFIED:20241102T101214Z
UID:10002708-1768899600-1768903200@iwa-prague.com
SUMMARY:Tai Chi Chih
DESCRIPTION:
URL:https://iwa-prague.com/event/tai-chi-chih/2026-01-20/
CATEGORIES:Health & Wellness
ATTACH;FMTTYPE=image/jpeg:https://iwa-prague.com/wp-content/uploads/2022/10/TaiChi_Lebl_CMYK300.jpg
ORGANIZER;CN="Cheryl Caspe":MAILTO:taichi@iwa-prague.com
END:VEVENT
BEGIN:VEVENT
DTSTART;TZID=Europe/Prague:20260119T103000
DTEND;TZID=Europe/Prague:20260119T120000
DTSTAMP:20260425T173118
CREATED:20240926T134257Z
LAST-MODIFIED:20251209T154753Z
UID:10005713-1768818600-1768824000@iwa-prague.com
SUMMARY:French Conversation
DESCRIPTION:
URL:https://iwa-prague.com/event/french-conversation/2026-01-19/
CATEGORIES:Languages
ATTACH;FMTTYPE=image/jpeg:https://iwa-prague.com/wp-content/uploads/2021/05/French-Group-reading-2016-OPT3.jpg
ORGANIZER;CN="Dominic Kopecky":MAILTO:french@iwa-prague.com
END:VEVENT
BEGIN:VEVENT
DTSTART;TZID=Europe/Prague:20260119T080000
DTEND;TZID=Europe/Prague:20260119T130000
DTSTAMP:20260425T173118
CREATED:20240926T134840Z
LAST-MODIFIED:20240926T134840Z
UID:10001545-1768809600-1768827600@iwa-prague.com
SUMMARY:Golf
DESCRIPTION:
URL:https://iwa-prague.com/event/golf/2026-01-19/
CATEGORIES:Health & Wellness
ATTACH;FMTTYPE=image/jpeg:https://iwa-prague.com/wp-content/uploads/2021/03/Golf-May-2016-OPT.jpg
ORGANIZER;CN="Isolde Meinken":MAILTO:golf@iwa-prague.com
END:VEVENT
BEGIN:VEVENT
DTSTART;TZID=Europe/Prague:20260116T100000
DTEND;TZID=Europe/Prague:20260116T120000
DTSTAMP:20260425T173118
CREATED:20241030T085257Z
LAST-MODIFIED:20260109T125822Z
UID:10008699-1768557600-1768564800@iwa-prague.com
SUMMARY:Friday Book Club
DESCRIPTION:
URL:https://iwa-prague.com/event/friday-book-club-2/2026-01-16/
CATEGORIES:Art & Culture
ATTACH;FMTTYPE=image/jpeg:https://iwa-prague.com/wp-content/uploads/2024/09/fribookclub-apr-2024-001-1-scaled.jpg
ORGANIZER;CN="Laurie Barnes":MAILTO:fridaybookclub@iwa-prague.com
END:VEVENT
BEGIN:VEVENT
DTSTART;TZID=Europe/Prague:20260116T100000
DTEND;TZID=Europe/Prague:20260116T120000
DTSTAMP:20260425T173118
CREATED:20240926T141157Z
LAST-MODIFIED:20240926T141157Z
UID:10002968-1768557600-1768564800@iwa-prague.com
SUMMARY:Tennis
DESCRIPTION:
URL:https://iwa-prague.com/event/tennis/2026-01-16/
CATEGORIES:Health & Wellness
ATTACH;FMTTYPE=image/jpeg:https://iwa-prague.com/wp-content/uploads/2024/09/tennis-group-sep-2024.jpg
ORGANIZER;CN="Renata Van%C4%9B%C4%8Dkov%C3%A1":MAILTO:tennis@iwa-prague.com
END:VEVENT
BEGIN:VEVENT
DTSTART;TZID=Europe/Prague:20260115T180000
DTEND;TZID=Europe/Prague:20260115T200000
DTSTAMP:20260425T173118
CREATED:20240926T131356Z
LAST-MODIFIED:20260323T125606Z
UID:10000722-1768500000-1768507200@iwa-prague.com
SUMMARY:Dining Divas
DESCRIPTION:
URL:https://iwa-prague.com/event/dinner-divas-group/2026-01-15/
CATEGORIES:Evening Groups
ATTACH;FMTTYPE=image/png:https://iwa-prague.com/wp-content/uploads/2023/08/dinner-divas-01.png
ORGANIZER;CN="Lorna Phillipson":MAILTO:dinnerdivas@iwa-prague.com
END:VEVENT
BEGIN:VEVENT
DTSTART;TZID=Europe/Prague:20260115T120000
DTEND;TZID=Europe/Prague:20260115T133000
DTSTAMP:20260425T173118
CREATED:20251002T155607Z
LAST-MODIFIED:20251209T155038Z
UID:10007540-1768478400-1768483800@iwa-prague.com
SUMMARY:Ping Pong
DESCRIPTION:
URL:https://iwa-prague.com/event/ping-pong-2/2026-01-15/
CATEGORIES:Health & Wellness
ATTACH;FMTTYPE=image/jpeg:https://iwa-prague.com/wp-content/uploads/2025/09/table-tennis-4046307_1280-OPT.jpg
ORGANIZER;CN="Pamela Starobin":MAILTO:pingpong@iwa-prague.com
END:VEVENT
BEGIN:VEVENT
DTSTART;TZID=Europe/Prague:20260115T103000
DTEND;TZID=Europe/Prague:20260115T120000
DTSTAMP:20260425T173118
CREATED:20251120T144736Z
LAST-MODIFIED:20251120T144736Z
UID:10008317-1768473000-1768478400@iwa-prague.com
SUMMARY:German Language
DESCRIPTION:
URL:https://iwa-prague.com/event/german-language/2026-01-15/
CATEGORIES:Languages
END:VEVENT
BEGIN:VEVENT
DTSTART;TZID=Europe/Prague:20260115T093000
DTEND;TZID=Europe/Prague:20260115T103000
DTSTAMP:20260425T173118
CREATED:20250107T113134Z
LAST-MODIFIED:20251209T160617Z
UID:10000524-1768469400-1768473000@iwa-prague.com
SUMMARY:Dance For Fun
DESCRIPTION:
URL:https://iwa-prague.com/event/dance-for-fun-2/2026-01-15/
CATEGORIES:Health & Wellness
ATTACH;FMTTYPE=image/jpeg:https://iwa-prague.com/wp-content/uploads/2024/09/dance-group.jpg
ORGANIZER;CN="Valerie Stulikova":MAILTO:dance@iwa-prague.com
END:VEVENT
BEGIN:VEVENT
DTSTART;TZID=Europe/Prague:20260113T160000
DTEND;TZID=Europe/Prague:20260113T180000
DTSTAMP:20260425T173118
CREATED:20241113T134936Z
LAST-MODIFIED:20251024T135205Z
UID:10003356-1768320000-1768327200@iwa-prague.com
SUMMARY:Board of Directors Meeting
DESCRIPTION:
URL:https://iwa-prague.com/event/executive-board-meeting-2/2026-01-13/
CATEGORIES:Executive Board Meeting
ORGANIZER;CN="Jenny Rassaby Ryan":MAILTO:president@iwa-prague.com
END:VEVENT
BEGIN:VEVENT
DTSTART;TZID=Europe/Prague:20260113T140000
DTEND;TZID=Europe/Prague:20260113T160000
DTSTAMP:20260425T173118
CREATED:20240926T140013Z
LAST-MODIFIED:20250605T154628Z
UID:10006783-1768312800-1768320000@iwa-prague.com
SUMMARY:Knit & Crochet
DESCRIPTION:
URL:https://iwa-prague.com/event/knitting-crochet-and-small-needlework/2026-01-13/
CATEGORIES:Creative Pursuits & Gourmet
ATTACH;FMTTYPE=image/jpeg:https://iwa-prague.com/wp-content/uploads/2017/02/Knitting-Jul-2021-OPT.jpg
ORGANIZER;CN="Charlotte Sommer":MAILTO:knitting@iwa-prague.com
END:VEVENT
BEGIN:VEVENT
DTSTART;TZID=Europe/Prague:20260113T090000
DTEND;TZID=Europe/Prague:20260113T100000
DTSTAMP:20260425T173118
CREATED:20240926T140857Z
LAST-MODIFIED:20241102T101214Z
UID:10002707-1768294800-1768298400@iwa-prague.com
SUMMARY:Tai Chi Chih
DESCRIPTION:
URL:https://iwa-prague.com/event/tai-chi-chih/2026-01-13/
CATEGORIES:Health & Wellness
ATTACH;FMTTYPE=image/jpeg:https://iwa-prague.com/wp-content/uploads/2022/10/TaiChi_Lebl_CMYK300.jpg
ORGANIZER;CN="Cheryl Caspe":MAILTO:taichi@iwa-prague.com
END:VEVENT
BEGIN:VEVENT
DTSTART;TZID=Europe/Prague:20260112T103000
DTEND;TZID=Europe/Prague:20260112T120000
DTSTAMP:20260425T173118
CREATED:20240926T134257Z
LAST-MODIFIED:20251209T154753Z
UID:10005712-1768213800-1768219200@iwa-prague.com
SUMMARY:French Conversation
DESCRIPTION:
URL:https://iwa-prague.com/event/french-conversation/2026-01-12/
CATEGORIES:Languages
ATTACH;FMTTYPE=image/jpeg:https://iwa-prague.com/wp-content/uploads/2021/05/French-Group-reading-2016-OPT3.jpg
ORGANIZER;CN="Dominic Kopecky":MAILTO:french@iwa-prague.com
END:VEVENT
BEGIN:VEVENT
DTSTART;TZID=Europe/Prague:20260112T080000
DTEND;TZID=Europe/Prague:20260112T130000
DTSTAMP:20260425T173118
CREATED:20240926T134840Z
LAST-MODIFIED:20240926T134840Z
UID:10001544-1768204800-1768222800@iwa-prague.com
SUMMARY:Golf
DESCRIPTION:
URL:https://iwa-prague.com/event/golf/2026-01-12/
CATEGORIES:Health & Wellness
ATTACH;FMTTYPE=image/jpeg:https://iwa-prague.com/wp-content/uploads/2021/03/Golf-May-2016-OPT.jpg
ORGANIZER;CN="Isolde Meinken":MAILTO:golf@iwa-prague.com
END:VEVENT
END:VCALENDAR