BEGIN:VCALENDAR
VERSION:2.0
PRODID:-//International Women&#039;s Association of Prague - ECPv6.15.20//NONSGML v1.0//EN
CALSCALE:GREGORIAN
METHOD:PUBLISH
X-WR-CALNAME:International Women&#039;s Association of Prague
X-ORIGINAL-URL:https://iwa-prague.com
X-WR-CALDESC:Events for International Women&#039;s Association of Prague
REFRESH-INTERVAL;VALUE=DURATION:PT1H
X-Robots-Tag:noindex
X-PUBLISHED-TTL:PT1H
BEGIN:VTIMEZONE
TZID:Europe/Prague
BEGIN:DAYLIGHT
TZOFFSETFROM:+0100
TZOFFSETTO:+0200
TZNAME:CEST
DTSTART:20250330T010000
END:DAYLIGHT
BEGIN:STANDARD
TZOFFSETFROM:+0200
TZOFFSETTO:+0100
TZNAME:CET
DTSTART:20251026T010000
END:STANDARD
BEGIN:DAYLIGHT
TZOFFSETFROM:+0100
TZOFFSETTO:+0200
TZNAME:CEST
DTSTART:20260329T010000
END:DAYLIGHT
BEGIN:STANDARD
TZOFFSETFROM:+0200
TZOFFSETTO:+0100
TZNAME:CET
DTSTART:20261025T010000
END:STANDARD
BEGIN:DAYLIGHT
TZOFFSETFROM:+0100
TZOFFSETTO:+0200
TZNAME:CEST
DTSTART:20270328T010000
END:DAYLIGHT
BEGIN:STANDARD
TZOFFSETFROM:+0200
TZOFFSETTO:+0100
TZNAME:CET
DTSTART:20271031T010000
END:STANDARD
END:VTIMEZONE
BEGIN:VEVENT
DTSTART;TZID=Europe/Prague:20260213T100000
DTEND;TZID=Europe/Prague:20260213T120000
DTSTAMP:20260424T021043
CREATED:20241030T085257Z
LAST-MODIFIED:20260109T125822Z
UID:10005292-1770976800-1770984000@iwa-prague.com
SUMMARY:Friday Book Club
DESCRIPTION:
URL:https://iwa-prague.com/event/friday-book-club-2/2026-02-13/
CATEGORIES:Art & Culture
ATTACH;FMTTYPE=image/jpeg:https://iwa-prague.com/wp-content/uploads/2024/09/fribookclub-apr-2024-001-1-scaled.jpg
ORGANIZER;CN="Laurie Barnes":MAILTO:fridaybookclub@iwa-prague.com
END:VEVENT
BEGIN:VEVENT
DTSTART;TZID=Europe/Prague:20260213T100000
DTEND;TZID=Europe/Prague:20260213T120000
DTSTAMP:20260424T021043
CREATED:20240926T141157Z
LAST-MODIFIED:20240926T141157Z
UID:10002972-1770976800-1770984000@iwa-prague.com
SUMMARY:Tennis
DESCRIPTION:
URL:https://iwa-prague.com/event/tennis/2026-02-13/
CATEGORIES:Health & Wellness
ATTACH;FMTTYPE=image/jpeg:https://iwa-prague.com/wp-content/uploads/2024/09/tennis-group-sep-2024.jpg
ORGANIZER;CN="Renata Van%C4%9B%C4%8Dkov%C3%A1":MAILTO:tennis@iwa-prague.com
END:VEVENT
BEGIN:VEVENT
DTSTART;TZID=Europe/Prague:20260212T120000
DTEND;TZID=Europe/Prague:20260212T133000
DTSTAMP:20260424T021043
CREATED:20251002T155607Z
LAST-MODIFIED:20251209T155038Z
UID:10007544-1770897600-1770903000@iwa-prague.com
SUMMARY:Ping Pong
DESCRIPTION:
URL:https://iwa-prague.com/event/ping-pong-2/2026-02-12/
CATEGORIES:Health & Wellness
ATTACH;FMTTYPE=image/jpeg:https://iwa-prague.com/wp-content/uploads/2025/09/table-tennis-4046307_1280-OPT.jpg
ORGANIZER;CN="Pamela Starobin":MAILTO:pingpong@iwa-prague.com
END:VEVENT
BEGIN:VEVENT
DTSTART;TZID=Europe/Prague:20260212T103000
DTEND;TZID=Europe/Prague:20260212T123000
DTSTAMP:20260424T021043
CREATED:20250103T080648Z
LAST-MODIFIED:20260311T102915Z
UID:10008894-1770892200-1770899400@iwa-prague.com
SUMMARY:Coffee At My Place
DESCRIPTION:
URL:https://iwa-prague.com/event/coffee-at-my-place-2/2026-02-12/
CATEGORIES:Social Groups
ATTACH;FMTTYPE=image/jpeg:https://iwa-prague.com/wp-content/uploads/2024/09/CAMP-Oct-2022-scaled.jpg
ORGANIZER;CN="Caroline Davies":MAILTO:coffee@iwa-prague.com
END:VEVENT
BEGIN:VEVENT
DTSTART;TZID=Europe/Prague:20260212T093000
DTEND;TZID=Europe/Prague:20260212T103000
DTSTAMP:20260424T021043
CREATED:20250107T113134Z
LAST-MODIFIED:20251209T160617Z
UID:10000528-1770888600-1770892200@iwa-prague.com
SUMMARY:Dance For Fun
DESCRIPTION:
URL:https://iwa-prague.com/event/dance-for-fun-2/2026-02-12/
CATEGORIES:Health & Wellness
ATTACH;FMTTYPE=image/jpeg:https://iwa-prague.com/wp-content/uploads/2024/09/dance-group.jpg
ORGANIZER;CN="Valerie Stulikova":MAILTO:dance@iwa-prague.com
END:VEVENT
BEGIN:VEVENT
DTSTART;TZID=Europe/Prague:20260211T183000
DTEND;TZID=Europe/Prague:20260211T203000
DTSTAMP:20260424T021043
CREATED:20260205T132538Z
LAST-MODIFIED:20260205T132949Z
UID:10008744-1770834600-1770841800@iwa-prague.com
SUMMARY:Choir
DESCRIPTION:
URL:https://iwa-prague.com/event/choir/2026-02-11/
CATEGORIES:Evening Groups
ATTACH;FMTTYPE=image/jpeg:https://iwa-prague.com/wp-content/uploads/2026/02/choir-OPT.jpg
ORGANIZER;CN="Leslie Nicholson":MAILTO:choir@iwa-prague.com
END:VEVENT
BEGIN:VEVENT
DTSTART;TZID=Europe/Prague:20260211T100000
DTEND;TZID=Europe/Prague:20260211T120000
DTSTAMP:20260424T021043
CREATED:20251212T150704Z
LAST-MODIFIED:20251218T074754Z
UID:10008624-1770804000-1770811200@iwa-prague.com
SUMMARY:Walking
DESCRIPTION:
URL:https://iwa-prague.com/event/walking1/2026-02-11/
CATEGORIES:Health & Wellness
ATTACH;FMTTYPE=image/jpeg:https://iwa-prague.com/wp-content/uploads/2019/05/WALKING-GROUP-009-OPT-FI.jpg
ORGANIZER;CN="Carmen Trankovsky":MAILTO:gallery@iwa-prague.com
END:VEVENT
BEGIN:VEVENT
DTSTART;TZID=Europe/Prague:20260210T180000
DTEND;TZID=Europe/Prague:20260210T193000
DTSTAMP:20260424T021043
CREATED:20250111T084157Z
LAST-MODIFIED:20260304T161244Z
UID:10008741-1770746400-1770751800@iwa-prague.com
SUMMARY:Wellness
DESCRIPTION:
URL:https://iwa-prague.com/event/wellness/2026-02-10/
CATEGORIES:Evening Groups
ATTACH;FMTTYPE=image/jpeg:https://iwa-prague.com/wp-content/uploads/2022/10/wellness-OPT-scaled.jpg
ORGANIZER;CN="Fernanda Escobar Illoldi":MAILTO:wellness@iwa-prague.com
END:VEVENT
BEGIN:VEVENT
DTSTART;TZID=Europe/Prague:20260210T160000
DTEND;TZID=Europe/Prague:20260210T180000
DTSTAMP:20260424T021043
CREATED:20241113T134936Z
LAST-MODIFIED:20251024T135205Z
UID:10003357-1770739200-1770746400@iwa-prague.com
SUMMARY:Board of Directors Meeting
DESCRIPTION:
URL:https://iwa-prague.com/event/executive-board-meeting-2/2026-02-10/
CATEGORIES:Executive Board Meeting
ORGANIZER;CN="Jenny Rassaby Ryan":MAILTO:president@iwa-prague.com
END:VEVENT
BEGIN:VEVENT
DTSTART;TZID=Europe/Prague:20260210T140000
DTEND;TZID=Europe/Prague:20260210T160000
DTSTAMP:20260424T021043
CREATED:20240926T140013Z
LAST-MODIFIED:20250605T154628Z
UID:10006787-1770732000-1770739200@iwa-prague.com
SUMMARY:Knit & Crochet
DESCRIPTION:
URL:https://iwa-prague.com/event/knitting-crochet-and-small-needlework/2026-02-10/
CATEGORIES:Creative Pursuits & Gourmet
ATTACH;FMTTYPE=image/jpeg:https://iwa-prague.com/wp-content/uploads/2017/02/Knitting-Jul-2021-OPT.jpg
ORGANIZER;CN="Charlotte Sommer":MAILTO:knitting@iwa-prague.com
END:VEVENT
BEGIN:VEVENT
DTSTART;TZID=Europe/Prague:20260210T090000
DTEND;TZID=Europe/Prague:20260210T100000
DTSTAMP:20260424T021043
CREATED:20240926T140857Z
LAST-MODIFIED:20241102T101214Z
UID:10002711-1770714000-1770717600@iwa-prague.com
SUMMARY:Tai Chi Chih
DESCRIPTION:
URL:https://iwa-prague.com/event/tai-chi-chih/2026-02-10/
CATEGORIES:Health & Wellness
ATTACH;FMTTYPE=image/jpeg:https://iwa-prague.com/wp-content/uploads/2022/10/TaiChi_Lebl_CMYK300.jpg
ORGANIZER;CN="Cheryl Caspe":MAILTO:taichi@iwa-prague.com
END:VEVENT
BEGIN:VEVENT
DTSTART;TZID=Europe/Prague:20260209T123000
DTEND;TZID=Europe/Prague:20260209T143000
DTSTAMP:20260424T021043
CREATED:20240926T142010Z
LAST-MODIFIED:20251125T135042Z
UID:10003177-1770640200-1770647400@iwa-prague.com
SUMMARY:Friends at the Table
DESCRIPTION:
URL:https://iwa-prague.com/event/newcomers-lunch-3/2026-02-09/
LOCATION:Manes Restaurant\, Masarykovo nábř. 250/1\, Czech Republic
CATEGORIES:Newcomers Lunch
ATTACH;FMTTYPE=image/jpeg:https://iwa-prague.com/wp-content/uploads/2024/09/newcomers-OPT.jpg
ORGANIZER;CN="Shirley Lanzieri":MAILTO:membership@iwa-prague.com
END:VEVENT
BEGIN:VEVENT
DTSTART;TZID=Europe/Prague:20260209T103000
DTEND;TZID=Europe/Prague:20260209T120000
DTSTAMP:20260424T021043
CREATED:20251022T133521Z
LAST-MODIFIED:20260413T160246Z
UID:10008743-1770633000-1770638400@iwa-prague.com
SUMMARY:City Strolls
DESCRIPTION:
URL:https://iwa-prague.com/event/city-strolls/2026-02-09/
CATEGORIES:Health & Wellness
ATTACH;FMTTYPE=image/jpeg:https://iwa-prague.com/wp-content/uploads/2025/10/citystrolls-OPTpg.jpg
ORGANIZER;CN="Ramona Howerton":MAILTO:citystolls@iwa-prague.com
END:VEVENT
BEGIN:VEVENT
DTSTART;TZID=Europe/Prague:20260209T103000
DTEND;TZID=Europe/Prague:20260209T120000
DTSTAMP:20260424T021043
CREATED:20240926T134257Z
LAST-MODIFIED:20251209T154753Z
UID:10005716-1770633000-1770638400@iwa-prague.com
SUMMARY:French Conversation
DESCRIPTION:
URL:https://iwa-prague.com/event/french-conversation/2026-02-09/
CATEGORIES:Languages
ATTACH;FMTTYPE=image/jpeg:https://iwa-prague.com/wp-content/uploads/2021/05/French-Group-reading-2016-OPT3.jpg
ORGANIZER;CN="Dominic Kopecky":MAILTO:french@iwa-prague.com
END:VEVENT
BEGIN:VEVENT
DTSTART;TZID=Europe/Prague:20260209T080000
DTEND;TZID=Europe/Prague:20260209T130000
DTSTAMP:20260424T021043
CREATED:20240926T134840Z
LAST-MODIFIED:20240926T134840Z
UID:10001548-1770624000-1770642000@iwa-prague.com
SUMMARY:Golf
DESCRIPTION:
URL:https://iwa-prague.com/event/golf/2026-02-09/
CATEGORIES:Health & Wellness
ATTACH;FMTTYPE=image/jpeg:https://iwa-prague.com/wp-content/uploads/2021/03/Golf-May-2016-OPT.jpg
ORGANIZER;CN="Isolde Meinken":MAILTO:golf@iwa-prague.com
END:VEVENT
BEGIN:VEVENT
DTSTART;TZID=Europe/Prague:20260206T173000
DTEND;TZID=Europe/Prague:20260206T190000
DTSTAMP:20260424T021043
CREATED:20240926T135133Z
LAST-MODIFIED:20260320T111626Z
UID:10001754-1770399000-1770404400@iwa-prague.com
SUMMARY:Happy Hour
DESCRIPTION:
URL:https://iwa-prague.com/event/happy-hour/2026-02-06/
CATEGORIES:Evening Groups
ATTACH;FMTTYPE=image/jpeg:https://iwa-prague.com/wp-content/uploads/2021/05/HH-Aug-2017-OPT.jpg
ORGANIZER;CN="Leslie Nicholson":MAILTO:happyhour@iwa-prague.com
END:VEVENT
BEGIN:VEVENT
DTSTART;TZID=Europe/Prague:20260206T100000
DTEND;TZID=Europe/Prague:20260206T120000
DTSTAMP:20260424T021043
CREATED:20240926T141157Z
LAST-MODIFIED:20240926T141157Z
UID:10002971-1770372000-1770379200@iwa-prague.com
SUMMARY:Tennis
DESCRIPTION:
URL:https://iwa-prague.com/event/tennis/2026-02-06/
CATEGORIES:Health & Wellness
ATTACH;FMTTYPE=image/jpeg:https://iwa-prague.com/wp-content/uploads/2024/09/tennis-group-sep-2024.jpg
ORGANIZER;CN="Renata Van%C4%9B%C4%8Dkov%C3%A1":MAILTO:tennis@iwa-prague.com
END:VEVENT
BEGIN:VEVENT
DTSTART;TZID=Europe/Prague:20260205T133000
DTEND;TZID=Europe/Prague:20260205T153000
DTSTAMP:20260424T021043
CREATED:20240926T133557Z
LAST-MODIFIED:20260402T183752Z
UID:10001102-1770298200-1770305400@iwa-prague.com
SUMMARY:English Chat
DESCRIPTION:
URL:https://iwa-prague.com/event/english-chat/2026-02-05/
CATEGORIES:Languages
ATTACH;FMTTYPE=image/jpeg:https://iwa-prague.com/wp-content/uploads/2024/09/engchat-OPT.jpg
ORGANIZER;CN="Maria Fadian":MAILTO:englishchat@iwa-prague.com
END:VEVENT
BEGIN:VEVENT
DTSTART;TZID=Europe/Prague:20260205T120000
DTEND;TZID=Europe/Prague:20260205T133000
DTSTAMP:20260424T021043
CREATED:20251002T155607Z
LAST-MODIFIED:20251209T155038Z
UID:10007543-1770292800-1770298200@iwa-prague.com
SUMMARY:Ping Pong
DESCRIPTION:
URL:https://iwa-prague.com/event/ping-pong-2/2026-02-05/
CATEGORIES:Health & Wellness
ATTACH;FMTTYPE=image/jpeg:https://iwa-prague.com/wp-content/uploads/2025/09/table-tennis-4046307_1280-OPT.jpg
ORGANIZER;CN="Pamela Starobin":MAILTO:pingpong@iwa-prague.com
END:VEVENT
BEGIN:VEVENT
DTSTART;TZID=Europe/Prague:20260205T103000
DTEND;TZID=Europe/Prague:20260205T120000
DTSTAMP:20260424T021043
CREATED:20240926T131826Z
LAST-MODIFIED:20251128T155416Z
UID:10008467-1770287400-1770292800@iwa-prague.com
SUMMARY:German Language
DESCRIPTION:
URL:https://iwa-prague.com/event/german-language-group/2026-02-05/
CATEGORIES:Languages
ATTACH;FMTTYPE=image/jpeg:https://iwa-prague.com/wp-content/uploads/2021/05/IMG_6063-OPT.jpg
ORGANIZER;CN="Petra Nykod%C3%BDm":MAILTO:germanlanguage@iwa-prague.com
END:VEVENT
BEGIN:VEVENT
DTSTART;TZID=Europe/Prague:20260205T093000
DTEND;TZID=Europe/Prague:20260205T103000
DTSTAMP:20260424T021043
CREATED:20250107T113134Z
LAST-MODIFIED:20251209T160617Z
UID:10000527-1770283800-1770287400@iwa-prague.com
SUMMARY:Dance For Fun
DESCRIPTION:
URL:https://iwa-prague.com/event/dance-for-fun-2/2026-02-05/
CATEGORIES:Health & Wellness
ATTACH;FMTTYPE=image/jpeg:https://iwa-prague.com/wp-content/uploads/2024/09/dance-group.jpg
ORGANIZER;CN="Valerie Stulikova":MAILTO:dance@iwa-prague.com
END:VEVENT
BEGIN:VEVENT
DTSTART;TZID=Europe/Prague:20260204T100000
DTEND;TZID=Europe/Prague:20260204T120000
DTSTAMP:20260424T021043
CREATED:20251212T150704Z
LAST-MODIFIED:20251218T074754Z
UID:10008623-1770199200-1770206400@iwa-prague.com
SUMMARY:Walking
DESCRIPTION:
URL:https://iwa-prague.com/event/walking1/2026-02-04/
CATEGORIES:Health & Wellness
ATTACH;FMTTYPE=image/jpeg:https://iwa-prague.com/wp-content/uploads/2019/05/WALKING-GROUP-009-OPT-FI.jpg
ORGANIZER;CN="Carmen Trankovsky":MAILTO:gallery@iwa-prague.com
END:VEVENT
BEGIN:VEVENT
DTSTART;TZID=Europe/Prague:20260203T140000
DTEND;TZID=Europe/Prague:20260203T160000
DTSTAMP:20260424T021043
CREATED:20241007T162706Z
LAST-MODIFIED:20260224T161337Z
UID:10005078-1770127200-1770134400@iwa-prague.com
SUMMARY:Czech Conversation
DESCRIPTION:We practice communicating in the Czech language in a casual surrounding and with the help of native speakers\, topics vary each week.
URL:https://iwa-prague.com/event/czech-conversation-2/2026-02-03/
CATEGORIES:Languages
ATTACH;FMTTYPE=image/jpeg:https://iwa-prague.com/wp-content/uploads/2021/05/Czech-Jun-2020-OPT.jpg
ORGANIZER;CN="Iva %C4%8Cvandov%C3%A1":MAILTO:czechconversation@iwa-prague.com
END:VEVENT
BEGIN:VEVENT
DTSTART;TZID=Europe/Prague:20260203T140000
DTEND;TZID=Europe/Prague:20260203T160000
DTSTAMP:20260424T021044
CREATED:20240926T140013Z
LAST-MODIFIED:20250605T154628Z
UID:10006786-1770127200-1770134400@iwa-prague.com
SUMMARY:Knit & Crochet
DESCRIPTION:
URL:https://iwa-prague.com/event/knitting-crochet-and-small-needlework/2026-02-03/
CATEGORIES:Creative Pursuits & Gourmet
ATTACH;FMTTYPE=image/jpeg:https://iwa-prague.com/wp-content/uploads/2017/02/Knitting-Jul-2021-OPT.jpg
ORGANIZER;CN="Charlotte Sommer":MAILTO:knitting@iwa-prague.com
END:VEVENT
BEGIN:VEVENT
DTSTART;TZID=Europe/Prague:20260203T090000
DTEND;TZID=Europe/Prague:20260203T100000
DTSTAMP:20260424T021044
CREATED:20240926T140857Z
LAST-MODIFIED:20241102T101214Z
UID:10002710-1770109200-1770112800@iwa-prague.com
SUMMARY:Tai Chi Chih
DESCRIPTION:
URL:https://iwa-prague.com/event/tai-chi-chih/2026-02-03/
CATEGORIES:Health & Wellness
ATTACH;FMTTYPE=image/jpeg:https://iwa-prague.com/wp-content/uploads/2022/10/TaiChi_Lebl_CMYK300.jpg
ORGANIZER;CN="Cheryl Caspe":MAILTO:taichi@iwa-prague.com
END:VEVENT
BEGIN:VEVENT
DTSTART;TZID=Europe/Prague:20260202T140000
DTEND;TZID=Europe/Prague:20260202T153000
DTSTAMP:20260424T021044
CREATED:20240926T135507Z
LAST-MODIFIED:20260311T103100Z
UID:10001814-1770040800-1770046200@iwa-prague.com
SUMMARY:Kavarna Hopping
DESCRIPTION:
URL:https://iwa-prague.com/event/kavarna-hopping/2026-02-02/
CATEGORIES:Social Groups
ATTACH;FMTTYPE=image/jpeg:https://iwa-prague.com/wp-content/uploads/2024/09/kavarna-hopping-mar-2023-003-scaled.jpg
ORGANIZER;CN="Kim Strebel / Cathy Meils":MAILTO:kavarna@iwa-prague.com
END:VEVENT
BEGIN:VEVENT
DTSTART;TZID=Europe/Prague:20260202T103000
DTEND;TZID=Europe/Prague:20260202T120000
DTSTAMP:20260424T021044
CREATED:20240926T134257Z
LAST-MODIFIED:20251209T154753Z
UID:10005715-1770028200-1770033600@iwa-prague.com
SUMMARY:French Conversation
DESCRIPTION:
URL:https://iwa-prague.com/event/french-conversation/2026-02-02/
CATEGORIES:Languages
ATTACH;FMTTYPE=image/jpeg:https://iwa-prague.com/wp-content/uploads/2021/05/French-Group-reading-2016-OPT3.jpg
ORGANIZER;CN="Dominic Kopecky":MAILTO:french@iwa-prague.com
END:VEVENT
BEGIN:VEVENT
DTSTART;TZID=Europe/Prague:20260202T080000
DTEND;TZID=Europe/Prague:20260202T130000
DTSTAMP:20260424T021044
CREATED:20240926T134840Z
LAST-MODIFIED:20240926T134840Z
UID:10001547-1770019200-1770037200@iwa-prague.com
SUMMARY:Golf
DESCRIPTION:
URL:https://iwa-prague.com/event/golf/2026-02-02/
CATEGORIES:Health & Wellness
ATTACH;FMTTYPE=image/jpeg:https://iwa-prague.com/wp-content/uploads/2021/03/Golf-May-2016-OPT.jpg
ORGANIZER;CN="Isolde Meinken":MAILTO:golf@iwa-prague.com
END:VEVENT
BEGIN:VEVENT
DTSTART;TZID=Europe/Prague:20260130T100000
DTEND;TZID=Europe/Prague:20260130T140000
DTSTAMP:20260424T021044
CREATED:20241007T153551Z
LAST-MODIFIED:20260309T112422Z
UID:10008719-1769767200-1769781600@iwa-prague.com
SUMMARY:Cook and Bake
DESCRIPTION:
URL:https://iwa-prague.com/event/cook-and-bake/2026-01-30/
CATEGORIES:Creative Pursuits & Gourmet
ATTACH;FMTTYPE=image/jpeg:https://iwa-prague.com/wp-content/uploads/2024/10/cookandbake-Jun-2023-scaled.jpg
ORGANIZER;CN="Denise Kanyuh":MAILTO:cookandbake@iwa-prague.com
END:VEVENT
BEGIN:VEVENT
DTSTART;TZID=Europe/Prague:20260130T100000
DTEND;TZID=Europe/Prague:20260130T120000
DTSTAMP:20260424T021044
CREATED:20251212T150704Z
LAST-MODIFIED:20251218T074754Z
UID:10008622-1769767200-1769774400@iwa-prague.com
SUMMARY:Walking
DESCRIPTION:
URL:https://iwa-prague.com/event/walking1/2026-01-30/
CATEGORIES:Health & Wellness
ATTACH;FMTTYPE=image/jpeg:https://iwa-prague.com/wp-content/uploads/2019/05/WALKING-GROUP-009-OPT-FI.jpg
ORGANIZER;CN="Carmen Trankovsky":MAILTO:gallery@iwa-prague.com
END:VEVENT
END:VCALENDAR