BEGIN:VCALENDAR
VERSION:2.0
PRODID:-//International Women&#039;s Association of Prague - ECPv6.15.20//NONSGML v1.0//EN
CALSCALE:GREGORIAN
METHOD:PUBLISH
X-WR-CALNAME:International Women&#039;s Association of Prague
X-ORIGINAL-URL:https://iwa-prague.com
X-WR-CALDESC:Events for International Women&#039;s Association of Prague
REFRESH-INTERVAL;VALUE=DURATION:PT1H
X-Robots-Tag:noindex
X-PUBLISHED-TTL:PT1H
BEGIN:VTIMEZONE
TZID:Europe/Prague
BEGIN:DAYLIGHT
TZOFFSETFROM:+0100
TZOFFSETTO:+0200
TZNAME:CEST
DTSTART:20250330T010000
END:DAYLIGHT
BEGIN:STANDARD
TZOFFSETFROM:+0200
TZOFFSETTO:+0100
TZNAME:CET
DTSTART:20251026T010000
END:STANDARD
BEGIN:DAYLIGHT
TZOFFSETFROM:+0100
TZOFFSETTO:+0200
TZNAME:CEST
DTSTART:20260329T010000
END:DAYLIGHT
BEGIN:STANDARD
TZOFFSETFROM:+0200
TZOFFSETTO:+0100
TZNAME:CET
DTSTART:20261025T010000
END:STANDARD
BEGIN:DAYLIGHT
TZOFFSETFROM:+0100
TZOFFSETTO:+0200
TZNAME:CEST
DTSTART:20270328T010000
END:DAYLIGHT
BEGIN:STANDARD
TZOFFSETFROM:+0200
TZOFFSETTO:+0100
TZNAME:CET
DTSTART:20271031T010000
END:STANDARD
END:VTIMEZONE
BEGIN:VEVENT
DTSTART;TZID=Europe/Prague:20260903T103000
DTEND;TZID=Europe/Prague:20260903T120000
DTSTAMP:20260425T120754
CREATED:20240926T131826Z
LAST-MODIFIED:20251128T155416Z
UID:10008474-1788431400-1788436800@iwa-prague.com
SUMMARY:German Language
DESCRIPTION:
URL:https://iwa-prague.com/event/german-language-group/2026-09-03/
CATEGORIES:Languages
ATTACH;FMTTYPE=image/jpeg:https://iwa-prague.com/wp-content/uploads/2021/05/IMG_6063-OPT.jpg
ORGANIZER;CN="Petra Nykod%C3%BDm":MAILTO:germanlanguage@iwa-prague.com
END:VEVENT
BEGIN:VEVENT
DTSTART;TZID=Europe/Prague:20260903T120000
DTEND;TZID=Europe/Prague:20260903T133000
DTSTAMP:20260425T120754
CREATED:20251002T155607Z
LAST-MODIFIED:20251209T155038Z
UID:10007573-1788436800-1788442200@iwa-prague.com
SUMMARY:Ping Pong
DESCRIPTION:
URL:https://iwa-prague.com/event/ping-pong-2/2026-09-03/
CATEGORIES:Health & Wellness
ATTACH;FMTTYPE=image/jpeg:https://iwa-prague.com/wp-content/uploads/2025/09/table-tennis-4046307_1280-OPT.jpg
ORGANIZER;CN="Pamela Starobin":MAILTO:pingpong@iwa-prague.com
END:VEVENT
BEGIN:VEVENT
DTSTART;TZID=Europe/Prague:20260903T133000
DTEND;TZID=Europe/Prague:20260903T153000
DTSTAMP:20260425T120754
CREATED:20240926T133557Z
LAST-MODIFIED:20260402T183752Z
UID:10001109-1788442200-1788449400@iwa-prague.com
SUMMARY:English Chat
DESCRIPTION:
URL:https://iwa-prague.com/event/english-chat/2026-09-03/
CATEGORIES:Languages
ATTACH;FMTTYPE=image/jpeg:https://iwa-prague.com/wp-content/uploads/2024/09/engchat-OPT.jpg
ORGANIZER;CN="Maria Fadian":MAILTO:englishchat@iwa-prague.com
END:VEVENT
BEGIN:VEVENT
DTSTART;TZID=Europe/Prague:20260904T100000
DTEND;TZID=Europe/Prague:20260904T120000
DTSTAMP:20260425T120754
CREATED:20240926T141157Z
LAST-MODIFIED:20240926T141157Z
UID:10003001-1788516000-1788523200@iwa-prague.com
SUMMARY:Tennis
DESCRIPTION:
URL:https://iwa-prague.com/event/tennis/2026-09-04/
CATEGORIES:Health & Wellness
ATTACH;FMTTYPE=image/jpeg:https://iwa-prague.com/wp-content/uploads/2024/09/tennis-group-sep-2024.jpg
ORGANIZER;CN="Renata Van%C4%9B%C4%8Dkov%C3%A1":MAILTO:tennis@iwa-prague.com
END:VEVENT
BEGIN:VEVENT
DTSTART;TZID=Europe/Prague:20260904T173000
DTEND;TZID=Europe/Prague:20260904T190000
DTSTAMP:20260425T120754
CREATED:20240926T135133Z
LAST-MODIFIED:20260320T111626Z
UID:10001761-1788543000-1788548400@iwa-prague.com
SUMMARY:Happy Hour
DESCRIPTION:
URL:https://iwa-prague.com/event/happy-hour/2026-09-04/
CATEGORIES:Evening Groups
ATTACH;FMTTYPE=image/jpeg:https://iwa-prague.com/wp-content/uploads/2021/05/HH-Aug-2017-OPT.jpg
ORGANIZER;CN="Leslie Nicholson":MAILTO:happyhour@iwa-prague.com
END:VEVENT
BEGIN:VEVENT
DTSTART;TZID=Europe/Prague:20260907T080000
DTEND;TZID=Europe/Prague:20260907T130000
DTSTAMP:20260425T120754
CREATED:20240926T134840Z
LAST-MODIFIED:20240926T134840Z
UID:10001578-1788768000-1788786000@iwa-prague.com
SUMMARY:Golf
DESCRIPTION:
URL:https://iwa-prague.com/event/golf/2026-09-07/
CATEGORIES:Health & Wellness
ATTACH;FMTTYPE=image/jpeg:https://iwa-prague.com/wp-content/uploads/2021/03/Golf-May-2016-OPT.jpg
ORGANIZER;CN="Isolde Meinken":MAILTO:golf@iwa-prague.com
END:VEVENT
BEGIN:VEVENT
DTSTART;TZID=Europe/Prague:20260907T103000
DTEND;TZID=Europe/Prague:20260907T120000
DTSTAMP:20260425T120754
CREATED:20240926T134257Z
LAST-MODIFIED:20251209T154753Z
UID:10005746-1788777000-1788782400@iwa-prague.com
SUMMARY:French Conversation
DESCRIPTION:
URL:https://iwa-prague.com/event/french-conversation/2026-09-07/
CATEGORIES:Languages
ATTACH;FMTTYPE=image/jpeg:https://iwa-prague.com/wp-content/uploads/2021/05/French-Group-reading-2016-OPT3.jpg
ORGANIZER;CN="Dominic Kopecky":MAILTO:french@iwa-prague.com
END:VEVENT
BEGIN:VEVENT
DTSTART;TZID=Europe/Prague:20260907T140000
DTEND;TZID=Europe/Prague:20260907T153000
DTSTAMP:20260425T120754
CREATED:20240926T135507Z
LAST-MODIFIED:20260311T103100Z
UID:10001821-1788789600-1788795000@iwa-prague.com
SUMMARY:Kavarna Hopping
DESCRIPTION:
URL:https://iwa-prague.com/event/kavarna-hopping/2026-09-07/
CATEGORIES:Social Groups
ATTACH;FMTTYPE=image/jpeg:https://iwa-prague.com/wp-content/uploads/2024/09/kavarna-hopping-mar-2023-003-scaled.jpg
ORGANIZER;CN="Kim Strebel / Cathy Meils":MAILTO:kavarna@iwa-prague.com
END:VEVENT
BEGIN:VEVENT
DTSTART;TZID=Europe/Prague:20260908T090000
DTEND;TZID=Europe/Prague:20260908T100000
DTSTAMP:20260425T120754
CREATED:20240926T140857Z
LAST-MODIFIED:20241102T101214Z
UID:10002741-1788858000-1788861600@iwa-prague.com
SUMMARY:Tai Chi Chih
DESCRIPTION:
URL:https://iwa-prague.com/event/tai-chi-chih/2026-09-08/
CATEGORIES:Health & Wellness
ATTACH;FMTTYPE=image/jpeg:https://iwa-prague.com/wp-content/uploads/2022/10/TaiChi_Lebl_CMYK300.jpg
ORGANIZER;CN="Cheryl Caspe":MAILTO:taichi@iwa-prague.com
END:VEVENT
BEGIN:VEVENT
DTSTART;TZID=Europe/Prague:20260908T140000
DTEND;TZID=Europe/Prague:20260908T160000
DTSTAMP:20260425T120754
CREATED:20240926T140013Z
LAST-MODIFIED:20250605T154628Z
UID:10006817-1788876000-1788883200@iwa-prague.com
SUMMARY:Knit & Crochet
DESCRIPTION:
URL:https://iwa-prague.com/event/knitting-crochet-and-small-needlework/2026-09-08/
CATEGORIES:Creative Pursuits & Gourmet
ATTACH;FMTTYPE=image/jpeg:https://iwa-prague.com/wp-content/uploads/2017/02/Knitting-Jul-2021-OPT.jpg
ORGANIZER;CN="Charlotte Sommer":MAILTO:knitting@iwa-prague.com
END:VEVENT
BEGIN:VEVENT
DTSTART;TZID=Europe/Prague:20260908T160000
DTEND;TZID=Europe/Prague:20260908T180000
DTSTAMP:20260425T120754
CREATED:20241113T134936Z
LAST-MODIFIED:20251024T135205Z
UID:10003364-1788883200-1788890400@iwa-prague.com
SUMMARY:Board of Directors Meeting
DESCRIPTION:
URL:https://iwa-prague.com/event/executive-board-meeting-2/2026-09-08/
CATEGORIES:Executive Board Meeting
ORGANIZER;CN="Jenny Rassaby Ryan":MAILTO:president@iwa-prague.com
END:VEVENT
BEGIN:VEVENT
DTSTART;TZID=Europe/Prague:20260908T180000
DTEND;TZID=Europe/Prague:20260908T193000
DTSTAMP:20260425T120754
CREATED:20241025T165737Z
LAST-MODIFIED:20260413T153119Z
UID:10009044-1788890400-1788895800@iwa-prague.com
SUMMARY:Spanish Conversation
DESCRIPTION:
URL:https://iwa-prague.com/event/spanish-conversation/2026-09-08/
CATEGORIES:Languages
ATTACH;FMTTYPE=image/jpeg:https://iwa-prague.com/wp-content/uploads/2024/10/spanish-group-OPT.jpg
ORGANIZER;CN="Sue Urbanicova":MAILTO:spanish@iwa-prague.com
END:VEVENT
BEGIN:VEVENT
DTSTART;TZID=Europe/Prague:20260909T100000
DTEND;TZID=Europe/Prague:20260909T120000
DTSTAMP:20260425T120754
CREATED:20251212T150704Z
LAST-MODIFIED:20251218T074754Z
UID:10008682-1788948000-1788955200@iwa-prague.com
SUMMARY:Walking
DESCRIPTION:
URL:https://iwa-prague.com/event/walking1/2026-09-09/
CATEGORIES:Health & Wellness
ATTACH;FMTTYPE=image/jpeg:https://iwa-prague.com/wp-content/uploads/2019/05/WALKING-GROUP-009-OPT-FI.jpg
ORGANIZER;CN="Carmen Trankovsky":MAILTO:gallery@iwa-prague.com
END:VEVENT
BEGIN:VEVENT
DTSTART;TZID=Europe/Prague:20260909T183000
DTEND;TZID=Europe/Prague:20260909T203000
DTSTAMP:20260425T120754
CREATED:20260205T132538Z
LAST-MODIFIED:20260205T132949Z
UID:10008751-1788978600-1788985800@iwa-prague.com
SUMMARY:Choir
DESCRIPTION:
URL:https://iwa-prague.com/event/choir/2026-09-09/
CATEGORIES:Evening Groups
ATTACH;FMTTYPE=image/jpeg:https://iwa-prague.com/wp-content/uploads/2026/02/choir-OPT.jpg
ORGANIZER;CN="Leslie Nicholson":MAILTO:choir@iwa-prague.com
END:VEVENT
BEGIN:VEVENT
DTSTART;TZID=Europe/Prague:20260910T093000
DTEND;TZID=Europe/Prague:20260910T103000
DTSTAMP:20260425T120754
CREATED:20250107T113134Z
LAST-MODIFIED:20251209T160617Z
UID:10000558-1789032600-1789036200@iwa-prague.com
SUMMARY:Dance For Fun
DESCRIPTION:
URL:https://iwa-prague.com/event/dance-for-fun-2/2026-09-10/
CATEGORIES:Health & Wellness
ATTACH;FMTTYPE=image/jpeg:https://iwa-prague.com/wp-content/uploads/2024/09/dance-group.jpg
ORGANIZER;CN="Valerie Stulikova":MAILTO:dance@iwa-prague.com
END:VEVENT
BEGIN:VEVENT
DTSTART;TZID=Europe/Prague:20260910T103000
DTEND;TZID=Europe/Prague:20260910T123000
DTSTAMP:20260425T120754
CREATED:20250103T080648Z
LAST-MODIFIED:20260311T102915Z
UID:10008901-1789036200-1789043400@iwa-prague.com
SUMMARY:Coffee At My Place
DESCRIPTION:
URL:https://iwa-prague.com/event/coffee-at-my-place-2/2026-09-10/
CATEGORIES:Social Groups
ATTACH;FMTTYPE=image/jpeg:https://iwa-prague.com/wp-content/uploads/2024/09/CAMP-Oct-2022-scaled.jpg
ORGANIZER;CN="Caroline Davies":MAILTO:coffee@iwa-prague.com
END:VEVENT
BEGIN:VEVENT
DTSTART;TZID=Europe/Prague:20260910T120000
DTEND;TZID=Europe/Prague:20260910T133000
DTSTAMP:20260425T120754
CREATED:20251002T155607Z
LAST-MODIFIED:20251209T155038Z
UID:10007574-1789041600-1789047000@iwa-prague.com
SUMMARY:Ping Pong
DESCRIPTION:
URL:https://iwa-prague.com/event/ping-pong-2/2026-09-10/
CATEGORIES:Health & Wellness
ATTACH;FMTTYPE=image/jpeg:https://iwa-prague.com/wp-content/uploads/2025/09/table-tennis-4046307_1280-OPT.jpg
ORGANIZER;CN="Pamela Starobin":MAILTO:pingpong@iwa-prague.com
END:VEVENT
BEGIN:VEVENT
DTSTART;TZID=Europe/Prague:20260911T100000
DTEND;TZID=Europe/Prague:20260911T120000
DTSTAMP:20260425T120754
CREATED:20240926T141157Z
LAST-MODIFIED:20240926T141157Z
UID:10003002-1789120800-1789128000@iwa-prague.com
SUMMARY:Tennis
DESCRIPTION:
URL:https://iwa-prague.com/event/tennis/2026-09-11/
CATEGORIES:Health & Wellness
ATTACH;FMTTYPE=image/jpeg:https://iwa-prague.com/wp-content/uploads/2024/09/tennis-group-sep-2024.jpg
ORGANIZER;CN="Renata Van%C4%9B%C4%8Dkov%C3%A1":MAILTO:tennis@iwa-prague.com
END:VEVENT
BEGIN:VEVENT
DTSTART;TZID=Europe/Prague:20260911T100000
DTEND;TZID=Europe/Prague:20260911T120000
DTSTAMP:20260425T120754
CREATED:20241030T085257Z
LAST-MODIFIED:20260109T125822Z
UID:10005299-1789120800-1789128000@iwa-prague.com
SUMMARY:Friday Book Club
DESCRIPTION:
URL:https://iwa-prague.com/event/friday-book-club-2/2026-09-11/
CATEGORIES:Art & Culture
ATTACH;FMTTYPE=image/jpeg:https://iwa-prague.com/wp-content/uploads/2024/09/fribookclub-apr-2024-001-1-scaled.jpg
ORGANIZER;CN="Laurie Barnes":MAILTO:fridaybookclub@iwa-prague.com
END:VEVENT
BEGIN:VEVENT
DTSTART;TZID=Europe/Prague:20260914T080000
DTEND;TZID=Europe/Prague:20260914T130000
DTSTAMP:20260425T120754
CREATED:20240926T134840Z
LAST-MODIFIED:20240926T134840Z
UID:10001579-1789372800-1789390800@iwa-prague.com
SUMMARY:Golf
DESCRIPTION:
URL:https://iwa-prague.com/event/golf/2026-09-14/
CATEGORIES:Health & Wellness
ATTACH;FMTTYPE=image/jpeg:https://iwa-prague.com/wp-content/uploads/2021/03/Golf-May-2016-OPT.jpg
ORGANIZER;CN="Isolde Meinken":MAILTO:golf@iwa-prague.com
END:VEVENT
BEGIN:VEVENT
DTSTART;TZID=Europe/Prague:20260914T103000
DTEND;TZID=Europe/Prague:20260914T120000
DTSTAMP:20260425T120754
CREATED:20240926T134257Z
LAST-MODIFIED:20251209T154753Z
UID:10005747-1789381800-1789387200@iwa-prague.com
SUMMARY:French Conversation
DESCRIPTION:
URL:https://iwa-prague.com/event/french-conversation/2026-09-14/
CATEGORIES:Languages
ATTACH;FMTTYPE=image/jpeg:https://iwa-prague.com/wp-content/uploads/2021/05/French-Group-reading-2016-OPT3.jpg
ORGANIZER;CN="Dominic Kopecky":MAILTO:french@iwa-prague.com
END:VEVENT
BEGIN:VEVENT
DTSTART;TZID=Europe/Prague:20260914T123000
DTEND;TZID=Europe/Prague:20260914T143000
DTSTAMP:20260425T120754
CREATED:20240926T142010Z
LAST-MODIFIED:20251125T135042Z
UID:10003184-1789389000-1789396200@iwa-prague.com
SUMMARY:Friends at the Table
DESCRIPTION:
URL:https://iwa-prague.com/event/newcomers-lunch-3/2026-09-14/
LOCATION:Manes Restaurant\, Masarykovo nábř. 250/1\, Czech Republic
CATEGORIES:Newcomers Lunch
ATTACH;FMTTYPE=image/jpeg:https://iwa-prague.com/wp-content/uploads/2024/09/newcomers-OPT.jpg
ORGANIZER;CN="Shirley Lanzieri":MAILTO:membership@iwa-prague.com
END:VEVENT
BEGIN:VEVENT
DTSTART;TZID=Europe/Prague:20260915T090000
DTEND;TZID=Europe/Prague:20260915T100000
DTSTAMP:20260425T120755
CREATED:20240926T140857Z
LAST-MODIFIED:20241102T101214Z
UID:10002742-1789462800-1789466400@iwa-prague.com
SUMMARY:Tai Chi Chih
DESCRIPTION:
URL:https://iwa-prague.com/event/tai-chi-chih/2026-09-15/
CATEGORIES:Health & Wellness
ATTACH;FMTTYPE=image/jpeg:https://iwa-prague.com/wp-content/uploads/2022/10/TaiChi_Lebl_CMYK300.jpg
ORGANIZER;CN="Cheryl Caspe":MAILTO:taichi@iwa-prague.com
END:VEVENT
BEGIN:VEVENT
DTSTART;TZID=Europe/Prague:20260915T093000
DTEND;TZID=Europe/Prague:20260915T113000
DTSTAMP:20260425T120755
CREATED:20251108T103811Z
LAST-MODIFIED:20251110T125832Z
UID:10008180-1789464600-1789471800@iwa-prague.com
SUMMARY:Monthly Meeting
DESCRIPTION:
URL:https://iwa-prague.com/event/monthly-meeting-4/2026-09-15/
LOCATION:Anglo American University\, Letenská 120/5\, Prague 1\, Czech Republic
CATEGORIES:Monthly Meeting
ATTACH;FMTTYPE=image/jpeg:https://iwa-prague.com/wp-content/uploads/2024/09/Monthly-Meeting-feature-image-OPT.jpg
ORGANIZER;CN="Leslie Nicholson":MAILTO:president@iwa-prague.com
END:VEVENT
BEGIN:VEVENT
DTSTART;TZID=Europe/Prague:20260915T120000
DTEND;TZID=Europe/Prague:20260915T140000
DTSTAMP:20260425T120755
CREATED:20241007T162220Z
LAST-MODIFIED:20251212T132644Z
UID:10008250-1789473600-1789480800@iwa-prague.com
SUMMARY:Czech Conversation
DESCRIPTION:We practice communicating in the Czech language in a casual surrounding and with the help of native speakers\, topics vary each week.
URL:https://iwa-prague.com/event/czech-conversation/2026-09-15/
CATEGORIES:Languages
ATTACH;FMTTYPE=image/jpeg:https://iwa-prague.com/wp-content/uploads/2021/05/Czech-Jun-2020-OPT.jpg
ORGANIZER;CN="Iva %C4%8Cvandov%C3%A1":MAILTO:czechconversation@iwa-prague.com
END:VEVENT
BEGIN:VEVENT
DTSTART;TZID=Europe/Prague:20260915T140000
DTEND;TZID=Europe/Prague:20260915T160000
DTSTAMP:20260425T120755
CREATED:20240926T140013Z
LAST-MODIFIED:20250605T154628Z
UID:10006818-1789480800-1789488000@iwa-prague.com
SUMMARY:Knit & Crochet
DESCRIPTION:
URL:https://iwa-prague.com/event/knitting-crochet-and-small-needlework/2026-09-15/
CATEGORIES:Creative Pursuits & Gourmet
ATTACH;FMTTYPE=image/jpeg:https://iwa-prague.com/wp-content/uploads/2017/02/Knitting-Jul-2021-OPT.jpg
ORGANIZER;CN="Charlotte Sommer":MAILTO:knitting@iwa-prague.com
END:VEVENT
BEGIN:VEVENT
DTSTART;TZID=Europe/Prague:20260917T093000
DTEND;TZID=Europe/Prague:20260917T103000
DTSTAMP:20260425T120755
CREATED:20250107T113134Z
LAST-MODIFIED:20251209T160617Z
UID:10000559-1789637400-1789641000@iwa-prague.com
SUMMARY:Dance For Fun
DESCRIPTION:
URL:https://iwa-prague.com/event/dance-for-fun-2/2026-09-17/
CATEGORIES:Health & Wellness
ATTACH;FMTTYPE=image/jpeg:https://iwa-prague.com/wp-content/uploads/2024/09/dance-group.jpg
ORGANIZER;CN="Valerie Stulikova":MAILTO:dance@iwa-prague.com
END:VEVENT
BEGIN:VEVENT
DTSTART;TZID=Europe/Prague:20260917T103000
DTEND;TZID=Europe/Prague:20260917T120000
DTSTAMP:20260425T120755
CREATED:20251120T144736Z
LAST-MODIFIED:20251120T144736Z
UID:10008325-1789641000-1789646400@iwa-prague.com
SUMMARY:German Language
DESCRIPTION:
URL:https://iwa-prague.com/event/german-language/2026-09-17/
CATEGORIES:Languages
END:VEVENT
BEGIN:VEVENT
DTSTART;TZID=Europe/Prague:20260917T120000
DTEND;TZID=Europe/Prague:20260917T133000
DTSTAMP:20260425T120755
CREATED:20251002T155607Z
LAST-MODIFIED:20251209T155038Z
UID:10007575-1789646400-1789651800@iwa-prague.com
SUMMARY:Ping Pong
DESCRIPTION:
URL:https://iwa-prague.com/event/ping-pong-2/2026-09-17/
CATEGORIES:Health & Wellness
ATTACH;FMTTYPE=image/jpeg:https://iwa-prague.com/wp-content/uploads/2025/09/table-tennis-4046307_1280-OPT.jpg
ORGANIZER;CN="Pamela Starobin":MAILTO:pingpong@iwa-prague.com
END:VEVENT
BEGIN:VEVENT
DTSTART;TZID=Europe/Prague:20260917T180000
DTEND;TZID=Europe/Prague:20260917T200000
DTSTAMP:20260425T120755
CREATED:20240926T131356Z
LAST-MODIFIED:20260323T125606Z
UID:10005207-1789668000-1789675200@iwa-prague.com
SUMMARY:Dining Divas
DESCRIPTION:
URL:https://iwa-prague.com/event/dinner-divas-group/2026-09-17/
CATEGORIES:Evening Groups
ATTACH;FMTTYPE=image/png:https://iwa-prague.com/wp-content/uploads/2023/08/dinner-divas-01.png
ORGANIZER;CN="Lorna Phillipson":MAILTO:dinnerdivas@iwa-prague.com
END:VEVENT
END:VCALENDAR