BEGIN:VCALENDAR
VERSION:2.0
PRODID:-//International Women&#039;s Association of Prague - ECPv6.15.20//NONSGML v1.0//EN
CALSCALE:GREGORIAN
METHOD:PUBLISH
X-WR-CALNAME:International Women&#039;s Association of Prague
X-ORIGINAL-URL:https://iwa-prague.com
X-WR-CALDESC:Events for International Women&#039;s Association of Prague
REFRESH-INTERVAL;VALUE=DURATION:PT1H
X-Robots-Tag:noindex
X-PUBLISHED-TTL:PT1H
BEGIN:VTIMEZONE
TZID:Europe/Prague
BEGIN:DAYLIGHT
TZOFFSETFROM:+0100
TZOFFSETTO:+0200
TZNAME:CEST
DTSTART:20240331T010000
END:DAYLIGHT
BEGIN:STANDARD
TZOFFSETFROM:+0200
TZOFFSETTO:+0100
TZNAME:CET
DTSTART:20241027T010000
END:STANDARD
BEGIN:DAYLIGHT
TZOFFSETFROM:+0100
TZOFFSETTO:+0200
TZNAME:CEST
DTSTART:20250330T010000
END:DAYLIGHT
BEGIN:STANDARD
TZOFFSETFROM:+0200
TZOFFSETTO:+0100
TZNAME:CET
DTSTART:20251026T010000
END:STANDARD
BEGIN:DAYLIGHT
TZOFFSETFROM:+0100
TZOFFSETTO:+0200
TZNAME:CEST
DTSTART:20260329T010000
END:DAYLIGHT
BEGIN:STANDARD
TZOFFSETFROM:+0200
TZOFFSETTO:+0100
TZNAME:CET
DTSTART:20261025T010000
END:STANDARD
END:VTIMEZONE
BEGIN:VEVENT
DTSTART;TZID=Europe/Prague:20251124T140000
DTEND;TZID=Europe/Prague:20251124T160000
DTSTAMP:20260425T054733
CREATED:20250114T074603Z
LAST-MODIFIED:20260413T153731Z
UID:10008303-1763992800-1764000000@iwa-prague.com
SUMMARY:Gallery Gang
DESCRIPTION:Please contact the group leader for more details on this specific event.
URL:https://iwa-prague.com/event/gallery-gang/2025-11-24/
CATEGORIES:Art & Culture
ATTACH;FMTTYPE=image/jpeg:https://iwa-prague.com/wp-content/uploads/2023/09/gallerygang-OPT.jpg
ORGANIZER;CN="Carmen Trankovsky":MAILTO:gallery@iwa-prague.com
END:VEVENT
BEGIN:VEVENT
DTSTART;TZID=Europe/Prague:20251124T103000
DTEND;TZID=Europe/Prague:20251124T120000
DTSTAMP:20260425T054733
CREATED:20240926T134257Z
LAST-MODIFIED:20251209T154753Z
UID:10005705-1763980200-1763985600@iwa-prague.com
SUMMARY:French Conversation
DESCRIPTION:
URL:https://iwa-prague.com/event/french-conversation/2025-11-24/
CATEGORIES:Languages
ATTACH;FMTTYPE=image/jpeg:https://iwa-prague.com/wp-content/uploads/2021/05/French-Group-reading-2016-OPT3.jpg
ORGANIZER;CN="Dominic Kopecky":MAILTO:french@iwa-prague.com
END:VEVENT
BEGIN:VEVENT
DTSTART;TZID=Europe/Prague:20251124T080000
DTEND;TZID=Europe/Prague:20251124T130000
DTSTAMP:20260425T054733
CREATED:20240926T134840Z
LAST-MODIFIED:20240926T134840Z
UID:10001537-1763971200-1763989200@iwa-prague.com
SUMMARY:Golf
DESCRIPTION:
URL:https://iwa-prague.com/event/golf/2025-11-24/
CATEGORIES:Health & Wellness
ATTACH;FMTTYPE=image/jpeg:https://iwa-prague.com/wp-content/uploads/2021/03/Golf-May-2016-OPT.jpg
ORGANIZER;CN="Isolde Meinken":MAILTO:golf@iwa-prague.com
END:VEVENT
BEGIN:VEVENT
DTSTART;TZID=Europe/Prague:20251122T153000
DTEND;TZID=Europe/Prague:20251122T183000
DTSTAMP:20260425T054733
CREATED:20250523T142029Z
LAST-MODIFIED:20260421T145828Z
UID:10008166-1763825400-1763836200@iwa-prague.com
SUMMARY:Plus One
DESCRIPTION:
URL:https://iwa-prague.com/event/plus-one/2025-11-22/
CATEGORIES:Evening Groups
ATTACH;FMTTYPE=image/jpeg:https://iwa-prague.com/wp-content/uploads/2025/05/plusone-OPT.jpg
ORGANIZER;CN="Vivian Strang":MAILTO:plusone@iwa-prague.com
END:VEVENT
BEGIN:VEVENT
DTSTART;TZID=Europe/Prague:20251121T183000
DTEND;TZID=Europe/Prague:20251121T200000
DTSTAMP:20260425T054733
CREATED:20251024T134428Z
LAST-MODIFIED:20251024T135719Z
UID:10007819-1763749800-1763755200@iwa-prague.com
SUMMARY:Fashion and Fantasy Exclusive Tour
DESCRIPTION:
URL:https://iwa-prague.com/event/fashion-and-fantasy-exclusive-tour/
CATEGORIES:Cultural Events & Excursions
ATTACH;FMTTYPE=image/jpeg:https://iwa-prague.com/wp-content/uploads/2025/10/0-OPT2.jpg
ORGANIZER;CN="Jenny Rassaby Ryan":MAILTO:president@iwa-prague.com
END:VEVENT
BEGIN:VEVENT
DTSTART;TZID=Europe/Prague:20251121T100000
DTEND;TZID=Europe/Prague:20251121T120000
DTSTAMP:20260425T054733
CREATED:20240926T141157Z
LAST-MODIFIED:20240926T141157Z
UID:10002960-1763719200-1763726400@iwa-prague.com
SUMMARY:Tennis
DESCRIPTION:
URL:https://iwa-prague.com/event/tennis/2025-11-21/
CATEGORIES:Health & Wellness
ATTACH;FMTTYPE=image/jpeg:https://iwa-prague.com/wp-content/uploads/2024/09/tennis-group-sep-2024.jpg
ORGANIZER;CN="Renata Van%C4%9B%C4%8Dkov%C3%A1":MAILTO:tennis@iwa-prague.com
END:VEVENT
BEGIN:VEVENT
DTSTART;TZID=Europe/Prague:20251120T180000
DTEND;TZID=Europe/Prague:20251120T200000
DTSTAMP:20260425T054733
CREATED:20240926T131356Z
LAST-MODIFIED:20260323T125606Z
UID:10008967-1763661600-1763668800@iwa-prague.com
SUMMARY:Dining Divas
DESCRIPTION:
URL:https://iwa-prague.com/event/dinner-divas-group/2025-11-20/
CATEGORIES:Evening Groups
ATTACH;FMTTYPE=image/png:https://iwa-prague.com/wp-content/uploads/2023/08/dinner-divas-01.png
ORGANIZER;CN="Lorna Phillipson":MAILTO:dinnerdivas@iwa-prague.com
END:VEVENT
BEGIN:VEVENT
DTSTART;TZID=Europe/Prague:20251120T120000
DTEND;TZID=Europe/Prague:20251120T133000
DTSTAMP:20260425T054733
CREATED:20251002T155607Z
LAST-MODIFIED:20251209T155038Z
UID:10007532-1763640000-1763645400@iwa-prague.com
SUMMARY:Ping Pong
DESCRIPTION:
URL:https://iwa-prague.com/event/ping-pong-2/2025-11-20/
CATEGORIES:Health & Wellness
ATTACH;FMTTYPE=image/jpeg:https://iwa-prague.com/wp-content/uploads/2025/09/table-tennis-4046307_1280-OPT.jpg
ORGANIZER;CN="Pamela Starobin":MAILTO:pingpong@iwa-prague.com
END:VEVENT
BEGIN:VEVENT
DTSTART;TZID=Europe/Prague:20251120T093000
DTEND;TZID=Europe/Prague:20251120T103000
DTSTAMP:20260425T054733
CREATED:20250107T113134Z
LAST-MODIFIED:20251209T160617Z
UID:10000516-1763631000-1763634600@iwa-prague.com
SUMMARY:Dance For Fun
DESCRIPTION:
URL:https://iwa-prague.com/event/dance-for-fun-2/2025-11-20/
CATEGORIES:Health & Wellness
ATTACH;FMTTYPE=image/jpeg:https://iwa-prague.com/wp-content/uploads/2024/09/dance-group.jpg
ORGANIZER;CN="Valerie Stulikova":MAILTO:dance@iwa-prague.com
END:VEVENT
BEGIN:VEVENT
DTSTART;TZID=Europe/Prague:20251120T090000
DTEND;TZID=Europe/Prague:20251120T230000
DTSTAMP:20260425T054733
CREATED:20250911T151004Z
LAST-MODIFIED:20260421T151841Z
UID:10007792-1763629200-1763679600@iwa-prague.com
SUMMARY:Holky On Holiday 20-23 July
DESCRIPTION:
URL:https://iwa-prague.com/event/holky-on-holiday/2025-11-20/
CATEGORIES:Art & Culture
ATTACH;FMTTYPE=image/jpeg:https://iwa-prague.com/wp-content/uploads/2025/09/suitcase-OPT.jpg
ORGANIZER;CN="Helen Wanamaker":MAILTO:holkyonholiday@iwa-prague.com
END:VEVENT
BEGIN:VEVENT
DTSTART;TZID=Europe/Prague:20251119T143000
DTEND;TZID=Europe/Prague:20251119T170000
DTSTAMP:20260425T054733
CREATED:20251017T151720Z
LAST-MODIFIED:20251017T151720Z
UID:10007797-1763562600-1763571600@iwa-prague.com
SUMMARY:Enamel Painting Workshop
DESCRIPTION:ENAMEL PAINTING WORKSHOP – Unleash your inner artist! \nBeat for holiday gift ideas?  Why not create a uniquely crafted one? Come join the English speaking workshop\, where you can create your own original enameled piece. They have a great choice of mugs\, cups\, other dishes\, bracelets\, signs\, and jewelry ready for enameling. They will explain the unique technique of painting and assist you if needed. \nThe burning time is just about 3 minutes\, (plus about 7 minutes before the enamel preform has cooled)\, you can take your unique product home right away. Creating with unique technology needs some time – enthusiasts of enameling spend an average of about two or more hours in our workshop.  \nMore information can be found in The Bridge Weekly Newsletter. To sign up please email culturalevents@iwa-prague.com by 11 November.
URL:https://iwa-prague.com/event/enamel-painting-workshop/
CATEGORIES:Cultural Events & Excursions
ATTACH;FMTTYPE=image/jpeg:https://iwa-prague.com/wp-content/uploads/2025/10/cup-4767106_1280-OPT.jpg
ORGANIZER;CN="Brigitte Lintner":MAILTO:culturalevents@iwa-prague.com
END:VEVENT
BEGIN:VEVENT
DTSTART;TZID=Europe/Prague:20251119T090000
DTEND;TZID=Europe/Prague:20251119T230000
DTSTAMP:20260425T054733
CREATED:20250911T151004Z
LAST-MODIFIED:20260421T151841Z
UID:10007791-1763542800-1763593200@iwa-prague.com
SUMMARY:Holky On Holiday 20-23 July
DESCRIPTION:
URL:https://iwa-prague.com/event/holky-on-holiday/2025-11-19/
CATEGORIES:Art & Culture
ATTACH;FMTTYPE=image/jpeg:https://iwa-prague.com/wp-content/uploads/2025/09/suitcase-OPT.jpg
ORGANIZER;CN="Helen Wanamaker":MAILTO:holkyonholiday@iwa-prague.com
END:VEVENT
BEGIN:VEVENT
DTSTART;TZID=Europe/Prague:20251118T140000
DTEND;TZID=Europe/Prague:20251118T160000
DTSTAMP:20260425T054733
CREATED:20240926T140013Z
LAST-MODIFIED:20250605T154628Z
UID:10006775-1763474400-1763481600@iwa-prague.com
SUMMARY:Knit & Crochet
DESCRIPTION:
URL:https://iwa-prague.com/event/knitting-crochet-and-small-needlework/2025-11-18/
CATEGORIES:Creative Pursuits & Gourmet
ATTACH;FMTTYPE=image/jpeg:https://iwa-prague.com/wp-content/uploads/2017/02/Knitting-Jul-2021-OPT.jpg
ORGANIZER;CN="Charlotte Sommer":MAILTO:knitting@iwa-prague.com
END:VEVENT
BEGIN:VEVENT
DTSTART;TZID=Europe/Prague:20251118T120000
DTEND;TZID=Europe/Prague:20251118T140000
DTSTAMP:20260425T054733
CREATED:20241007T162220Z
LAST-MODIFIED:20251212T132644Z
UID:10008240-1763467200-1763474400@iwa-prague.com
SUMMARY:Czech Conversation
DESCRIPTION:We practice communicating in the Czech language in a casual surrounding and with the help of native speakers\, topics vary each week.
URL:https://iwa-prague.com/event/czech-conversation/2025-11-18/
CATEGORIES:Languages
ATTACH;FMTTYPE=image/jpeg:https://iwa-prague.com/wp-content/uploads/2021/05/Czech-Jun-2020-OPT.jpg
ORGANIZER;CN="Iva %C4%8Cvandov%C3%A1":MAILTO:czechconversation@iwa-prague.com
END:VEVENT
BEGIN:VEVENT
DTSTART;TZID=Europe/Prague:20251118T093000
DTEND;TZID=Europe/Prague:20251118T113000
DTSTAMP:20260425T054733
CREATED:20251108T103811Z
LAST-MODIFIED:20251110T125832Z
UID:10008169-1763458200-1763465400@iwa-prague.com
SUMMARY:Monthly Meeting
DESCRIPTION:
URL:https://iwa-prague.com/event/monthly-meeting-4/2025-11-18/
LOCATION:Anglo American University\, Letenská 120/5\, Prague 1\, Czech Republic
CATEGORIES:Monthly Meeting
ATTACH;FMTTYPE=image/jpeg:https://iwa-prague.com/wp-content/uploads/2024/09/Monthly-Meeting-feature-image-OPT.jpg
ORGANIZER;CN="Leslie Nicholson":MAILTO:president@iwa-prague.com
END:VEVENT
BEGIN:VEVENT
DTSTART;TZID=Europe/Prague:20251118T090000
DTEND;TZID=Europe/Prague:20251118T230000
DTSTAMP:20260425T054733
CREATED:20250911T151004Z
LAST-MODIFIED:20260421T151841Z
UID:10007497-1763456400-1763506800@iwa-prague.com
SUMMARY:Holky On Holiday 20-23 July
DESCRIPTION:
URL:https://iwa-prague.com/event/holky-on-holiday/2025-11-18/
CATEGORIES:Art & Culture
ATTACH;FMTTYPE=image/jpeg:https://iwa-prague.com/wp-content/uploads/2025/09/suitcase-OPT.jpg
ORGANIZER;CN="Helen Wanamaker":MAILTO:holkyonholiday@iwa-prague.com
END:VEVENT
BEGIN:VEVENT
DTSTART;TZID=Europe/Prague:20251118T090000
DTEND;TZID=Europe/Prague:20251118T100000
DTSTAMP:20260425T054733
CREATED:20240926T140857Z
LAST-MODIFIED:20241102T101214Z
UID:10002699-1763456400-1763460000@iwa-prague.com
SUMMARY:Tai Chi Chih
DESCRIPTION:
URL:https://iwa-prague.com/event/tai-chi-chih/2025-11-18/
CATEGORIES:Health & Wellness
ATTACH;FMTTYPE=image/jpeg:https://iwa-prague.com/wp-content/uploads/2022/10/TaiChi_Lebl_CMYK300.jpg
ORGANIZER;CN="Cheryl Caspe":MAILTO:taichi@iwa-prague.com
END:VEVENT
BEGIN:VEVENT
DTSTART;TZID=Europe/Prague:20251117T103000
DTEND;TZID=Europe/Prague:20251117T120000
DTSTAMP:20260425T054733
CREATED:20240926T134257Z
LAST-MODIFIED:20251209T154753Z
UID:10005704-1763375400-1763380800@iwa-prague.com
SUMMARY:French Conversation
DESCRIPTION:
URL:https://iwa-prague.com/event/french-conversation/2025-11-17/
CATEGORIES:Languages
ATTACH;FMTTYPE=image/jpeg:https://iwa-prague.com/wp-content/uploads/2021/05/French-Group-reading-2016-OPT3.jpg
ORGANIZER;CN="Dominic Kopecky":MAILTO:french@iwa-prague.com
END:VEVENT
BEGIN:VEVENT
DTSTART;TZID=Europe/Prague:20251117T080000
DTEND;TZID=Europe/Prague:20251117T130000
DTSTAMP:20260425T054733
CREATED:20240926T134840Z
LAST-MODIFIED:20240926T134840Z
UID:10001536-1763366400-1763384400@iwa-prague.com
SUMMARY:Golf
DESCRIPTION:
URL:https://iwa-prague.com/event/golf/2025-11-17/
CATEGORIES:Health & Wellness
ATTACH;FMTTYPE=image/jpeg:https://iwa-prague.com/wp-content/uploads/2021/03/Golf-May-2016-OPT.jpg
ORGANIZER;CN="Isolde Meinken":MAILTO:golf@iwa-prague.com
END:VEVENT
BEGIN:VEVENT
DTSTART;TZID=Europe/Prague:20251114T100000
DTEND;TZID=Europe/Prague:20251114T120000
DTSTAMP:20260425T054733
CREATED:20241030T085257Z
LAST-MODIFIED:20260109T125822Z
UID:10005289-1763114400-1763121600@iwa-prague.com
SUMMARY:Friday Book Club
DESCRIPTION:
URL:https://iwa-prague.com/event/friday-book-club-2/2025-11-14/
CATEGORIES:Art & Culture
ATTACH;FMTTYPE=image/jpeg:https://iwa-prague.com/wp-content/uploads/2024/09/fribookclub-apr-2024-001-1-scaled.jpg
ORGANIZER;CN="Laurie Barnes":MAILTO:fridaybookclub@iwa-prague.com
END:VEVENT
BEGIN:VEVENT
DTSTART;TZID=Europe/Prague:20251114T100000
DTEND;TZID=Europe/Prague:20251114T120000
DTSTAMP:20260425T054733
CREATED:20240926T141157Z
LAST-MODIFIED:20240926T141157Z
UID:10002959-1763114400-1763121600@iwa-prague.com
SUMMARY:Tennis
DESCRIPTION:
URL:https://iwa-prague.com/event/tennis/2025-11-14/
CATEGORIES:Health & Wellness
ATTACH;FMTTYPE=image/jpeg:https://iwa-prague.com/wp-content/uploads/2024/09/tennis-group-sep-2024.jpg
ORGANIZER;CN="Renata Van%C4%9B%C4%8Dkov%C3%A1":MAILTO:tennis@iwa-prague.com
END:VEVENT
BEGIN:VEVENT
DTSTART;TZID=Europe/Prague:20251113T120000
DTEND;TZID=Europe/Prague:20251113T133000
DTSTAMP:20260425T054733
CREATED:20251002T155607Z
LAST-MODIFIED:20251209T155038Z
UID:10007531-1763035200-1763040600@iwa-prague.com
SUMMARY:Ping Pong
DESCRIPTION:
URL:https://iwa-prague.com/event/ping-pong-2/2025-11-13/
CATEGORIES:Health & Wellness
ATTACH;FMTTYPE=image/jpeg:https://iwa-prague.com/wp-content/uploads/2025/09/table-tennis-4046307_1280-OPT.jpg
ORGANIZER;CN="Pamela Starobin":MAILTO:pingpong@iwa-prague.com
END:VEVENT
BEGIN:VEVENT
DTSTART;TZID=Europe/Prague:20251113T103000
DTEND;TZID=Europe/Prague:20251113T123000
DTSTAMP:20260425T054733
CREATED:20250103T080648Z
LAST-MODIFIED:20260311T102915Z
UID:10008893-1763029800-1763037000@iwa-prague.com
SUMMARY:Coffee At My Place
DESCRIPTION:
URL:https://iwa-prague.com/event/coffee-at-my-place-2/2025-11-13/
CATEGORIES:Social Groups
ATTACH;FMTTYPE=image/jpeg:https://iwa-prague.com/wp-content/uploads/2024/09/CAMP-Oct-2022-scaled.jpg
ORGANIZER;CN="Caroline Davies":MAILTO:coffee@iwa-prague.com
END:VEVENT
BEGIN:VEVENT
DTSTART;TZID=Europe/Prague:20251113T093000
DTEND;TZID=Europe/Prague:20251113T103000
DTSTAMP:20260425T054733
CREATED:20250107T113134Z
LAST-MODIFIED:20251209T160617Z
UID:10000515-1763026200-1763029800@iwa-prague.com
SUMMARY:Dance For Fun
DESCRIPTION:
URL:https://iwa-prague.com/event/dance-for-fun-2/2025-11-13/
CATEGORIES:Health & Wellness
ATTACH;FMTTYPE=image/jpeg:https://iwa-prague.com/wp-content/uploads/2024/09/dance-group.jpg
ORGANIZER;CN="Valerie Stulikova":MAILTO:dance@iwa-prague.com
END:VEVENT
BEGIN:VEVENT
DTSTART;TZID=Europe/Prague:20251112T103000
DTEND;TZID=Europe/Prague:20251112T123000
DTSTAMP:20260425T054733
CREATED:20251017T152738Z
LAST-MODIFIED:20251024T130240Z
UID:10007815-1762943400-1762950600@iwa-prague.com
SUMMARY:AAU History Class
DESCRIPTION:
URL:https://iwa-prague.com/event/aau-history-class/2025-11-12/
CATEGORIES:Cultural Events & Excursions
ORGANIZER;CN="Brigitte Lintner":MAILTO:culturalevents@iwa-prague.com
END:VEVENT
BEGIN:VEVENT
DTSTART;TZID=Europe/Prague:20251111T160000
DTEND;TZID=Europe/Prague:20251111T180000
DTSTAMP:20260425T054733
CREATED:20241113T134936Z
LAST-MODIFIED:20251024T135205Z
UID:10003354-1762876800-1762884000@iwa-prague.com
SUMMARY:Board of Directors Meeting
DESCRIPTION:
URL:https://iwa-prague.com/event/executive-board-meeting-2/2025-11-11/
CATEGORIES:Executive Board Meeting
ORGANIZER;CN="Jenny Rassaby Ryan":MAILTO:president@iwa-prague.com
END:VEVENT
BEGIN:VEVENT
DTSTART;TZID=Europe/Prague:20251111T140000
DTEND;TZID=Europe/Prague:20251111T160000
DTSTAMP:20260425T054733
CREATED:20240926T140013Z
LAST-MODIFIED:20250605T154628Z
UID:10006774-1762869600-1762876800@iwa-prague.com
SUMMARY:Knit & Crochet
DESCRIPTION:
URL:https://iwa-prague.com/event/knitting-crochet-and-small-needlework/2025-11-11/
CATEGORIES:Creative Pursuits & Gourmet
ATTACH;FMTTYPE=image/jpeg:https://iwa-prague.com/wp-content/uploads/2017/02/Knitting-Jul-2021-OPT.jpg
ORGANIZER;CN="Charlotte Sommer":MAILTO:knitting@iwa-prague.com
END:VEVENT
BEGIN:VEVENT
DTSTART;TZID=Europe/Prague:20251111T090000
DTEND;TZID=Europe/Prague:20251111T100000
DTSTAMP:20260425T054733
CREATED:20240926T140857Z
LAST-MODIFIED:20241102T101214Z
UID:10002698-1762851600-1762855200@iwa-prague.com
SUMMARY:Tai Chi Chih
DESCRIPTION:
URL:https://iwa-prague.com/event/tai-chi-chih/2025-11-11/
CATEGORIES:Health & Wellness
ATTACH;FMTTYPE=image/jpeg:https://iwa-prague.com/wp-content/uploads/2022/10/TaiChi_Lebl_CMYK300.jpg
ORGANIZER;CN="Cheryl Caspe":MAILTO:taichi@iwa-prague.com
END:VEVENT
BEGIN:VEVENT
DTSTART;TZID=Europe/Prague:20251110T123000
DTEND;TZID=Europe/Prague:20251110T143000
DTSTAMP:20260425T054733
CREATED:20240926T142010Z
LAST-MODIFIED:20251125T135042Z
UID:10003174-1762777800-1762785000@iwa-prague.com
SUMMARY:Friends at the Table
DESCRIPTION:
URL:https://iwa-prague.com/event/newcomers-lunch-3/2025-11-10/
LOCATION:Manes Restaurant\, Masarykovo nábř. 250/1\, Czech Republic
CATEGORIES:Newcomers Lunch
ATTACH;FMTTYPE=image/jpeg:https://iwa-prague.com/wp-content/uploads/2024/09/newcomers-OPT.jpg
ORGANIZER;CN="Shirley Lanzieri":MAILTO:membership@iwa-prague.com
END:VEVENT
BEGIN:VEVENT
DTSTART;TZID=Europe/Prague:20251110T103000
DTEND;TZID=Europe/Prague:20251110T120000
DTSTAMP:20260425T054733
CREATED:20240926T134257Z
LAST-MODIFIED:20251209T154753Z
UID:10005703-1762770600-1762776000@iwa-prague.com
SUMMARY:French Conversation
DESCRIPTION:
URL:https://iwa-prague.com/event/french-conversation/2025-11-10/
CATEGORIES:Languages
ATTACH;FMTTYPE=image/jpeg:https://iwa-prague.com/wp-content/uploads/2021/05/French-Group-reading-2016-OPT3.jpg
ORGANIZER;CN="Dominic Kopecky":MAILTO:french@iwa-prague.com
END:VEVENT
END:VCALENDAR