BEGIN:VCALENDAR
VERSION:2.0
PRODID:-//International Women&#039;s Association of Prague - ECPv6.15.20//NONSGML v1.0//EN
CALSCALE:GREGORIAN
METHOD:PUBLISH
X-ORIGINAL-URL:https://iwa-prague.com
X-WR-CALDESC:Events for International Women&#039;s Association of Prague
REFRESH-INTERVAL;VALUE=DURATION:PT1H
X-Robots-Tag:noindex
X-PUBLISHED-TTL:PT1H
BEGIN:VTIMEZONE
TZID:Europe/Prague
BEGIN:DAYLIGHT
TZOFFSETFROM:+0100
TZOFFSETTO:+0200
TZNAME:CEST
DTSTART:20250330T010000
END:DAYLIGHT
BEGIN:STANDARD
TZOFFSETFROM:+0200
TZOFFSETTO:+0100
TZNAME:CET
DTSTART:20251026T010000
END:STANDARD
BEGIN:DAYLIGHT
TZOFFSETFROM:+0100
TZOFFSETTO:+0200
TZNAME:CEST
DTSTART:20260329T010000
END:DAYLIGHT
BEGIN:STANDARD
TZOFFSETFROM:+0200
TZOFFSETTO:+0100
TZNAME:CET
DTSTART:20261025T010000
END:STANDARD
BEGIN:DAYLIGHT
TZOFFSETFROM:+0100
TZOFFSETTO:+0200
TZNAME:CEST
DTSTART:20270328T010000
END:DAYLIGHT
BEGIN:STANDARD
TZOFFSETFROM:+0200
TZOFFSETTO:+0100
TZNAME:CET
DTSTART:20271031T010000
END:STANDARD
END:VTIMEZONE
BEGIN:VEVENT
DTSTART;TZID=Europe/Prague:20260525T080000
DTEND;TZID=Europe/Prague:20260525T130000
DTSTAMP:20260422T022353
CREATED:20240926T134840Z
LAST-MODIFIED:20240926T134840Z
UID:10001563-1779696000-1779714000@iwa-prague.com
SUMMARY:Golf
DESCRIPTION:
URL:https://iwa-prague.com/event/golf/2026-05-25/
CATEGORIES:Health & Wellness
ATTACH;FMTTYPE=image/jpeg:https://iwa-prague.com/wp-content/uploads/2021/03/Golf-May-2016-OPT.jpg
ORGANIZER;CN="Isolde Meinken":MAILTO:golf@iwa-prague.com
END:VEVENT
BEGIN:VEVENT
DTSTART;TZID=Europe/Prague:20260525T103000
DTEND;TZID=Europe/Prague:20260525T120000
DTSTAMP:20260422T022353
CREATED:20240926T134257Z
LAST-MODIFIED:20251209T154753Z
UID:10005731-1779705000-1779710400@iwa-prague.com
SUMMARY:French Conversation
DESCRIPTION:
URL:https://iwa-prague.com/event/french-conversation/2026-05-25/
CATEGORIES:Languages
ATTACH;FMTTYPE=image/jpeg:https://iwa-prague.com/wp-content/uploads/2021/05/French-Group-reading-2016-OPT3.jpg
ORGANIZER;CN="Dominic Kopecky":MAILTO:french@iwa-prague.com
END:VEVENT
BEGIN:VEVENT
DTSTART;TZID=Europe/Prague:20260526T090000
DTEND;TZID=Europe/Prague:20260526T100000
DTSTAMP:20260422T022353
CREATED:20240926T140857Z
LAST-MODIFIED:20241102T101214Z
UID:10002726-1779786000-1779789600@iwa-prague.com
SUMMARY:Tai Chi Chih
DESCRIPTION:
URL:https://iwa-prague.com/event/tai-chi-chih/2026-05-26/
CATEGORIES:Health & Wellness
ATTACH;FMTTYPE=image/jpeg:https://iwa-prague.com/wp-content/uploads/2022/10/TaiChi_Lebl_CMYK300.jpg
ORGANIZER;CN="Cheryl Caspe":MAILTO:taichi@iwa-prague.com
END:VEVENT
BEGIN:VEVENT
DTSTART;TZID=Europe/Prague:20260526T140000
DTEND;TZID=Europe/Prague:20260526T160000
DTSTAMP:20260422T022353
CREATED:20240926T140013Z
LAST-MODIFIED:20250605T154628Z
UID:10006802-1779804000-1779811200@iwa-prague.com
SUMMARY:Knit & Crochet
DESCRIPTION:
URL:https://iwa-prague.com/event/knitting-crochet-and-small-needlework/2026-05-26/
CATEGORIES:Creative Pursuits & Gourmet
ATTACH;FMTTYPE=image/jpeg:https://iwa-prague.com/wp-content/uploads/2017/02/Knitting-Jul-2021-OPT.jpg
ORGANIZER;CN="Charlotte Sommer":MAILTO:knitting@iwa-prague.com
END:VEVENT
BEGIN:VEVENT
DTSTART;TZID=Europe/Prague:20260527T103000
DTEND;TZID=Europe/Prague:20260527T123000
DTSTAMP:20260422T022353
CREATED:20240925T095420Z
LAST-MODIFIED:20260311T163935Z
UID:10007114-1779877800-1779885000@iwa-prague.com
SUMMARY:Photography
DESCRIPTION:Photography as the visual art offers us the unique way to treasure our memories and to tell the stories from the place we live. Everybody who feels the same way can join our Photography Group. We focus on learning and sharing techniques\, knowledge and friendship among our members. We meet once a month at different locations and follow various themes. All levels welcome.
URL:https://iwa-prague.com/event/photography-group/2026-05-27/
CATEGORIES:Creative Pursuits & Gourmet
ATTACH;FMTTYPE=image/jpeg:https://iwa-prague.com/wp-content/uploads/2018/02/photography-OPT.jpg
ORGANIZER;CN="Sandra Hill":MAILTO:eveningcinema@iwa-prague.com
END:VEVENT
BEGIN:VEVENT
DTSTART;TZID=Europe/Prague:20260527T183000
DTEND;TZID=Europe/Prague:20260527T203000
DTSTAMP:20260422T022354
CREATED:20260205T132756Z
LAST-MODIFIED:20260205T132830Z
UID:10008807-1779906600-1779913800@iwa-prague.com
SUMMARY:Choir
DESCRIPTION:
URL:https://iwa-prague.com/event/choir-2/2026-05-27/
CATEGORIES:Evening Groups
ATTACH;FMTTYPE=image/jpeg:https://iwa-prague.com/wp-content/uploads/2026/02/choir-OPT.jpg
ORGANIZER;CN="Leslie Nicholson":MAILTO:choir@iwa-prague.com
END:VEVENT
BEGIN:VEVENT
DTSTART;TZID=Europe/Prague:20260527T190000
DTEND;TZID=Europe/Prague:20260527T220000
DTSTAMP:20260422T022354
CREATED:20250328T121338Z
LAST-MODIFIED:20250605T143738Z
UID:10006106-1779908400-1779919200@iwa-prague.com
SUMMARY:Evening Book Club
DESCRIPTION:
URL:https://iwa-prague.com/event/evening-book-club/2026-05-27/
CATEGORIES:Evening Groups
ATTACH;FMTTYPE=image/jpeg:https://iwa-prague.com/wp-content/uploads/2025/03/books-from-connie-OPT.jpg
ORGANIZER;CN="Connie Shattuck":MAILTO:interestgroups@iwa-prague.com
END:VEVENT
BEGIN:VEVENT
DTSTART;TZID=Europe/Prague:20260528T093000
DTEND;TZID=Europe/Prague:20260528T103000
DTSTAMP:20260422T022354
CREATED:20250107T113134Z
LAST-MODIFIED:20251209T160617Z
UID:10000543-1779960600-1779964200@iwa-prague.com
SUMMARY:Dance For Fun
DESCRIPTION:
URL:https://iwa-prague.com/event/dance-for-fun-2/2026-05-28/
CATEGORIES:Health & Wellness
ATTACH;FMTTYPE=image/jpeg:https://iwa-prague.com/wp-content/uploads/2024/09/dance-group.jpg
ORGANIZER;CN="Valerie Stulikova":MAILTO:dance@iwa-prague.com
END:VEVENT
BEGIN:VEVENT
DTSTART;TZID=Europe/Prague:20260528T100000
DTEND;TZID=Europe/Prague:20260528T113000
DTSTAMP:20260422T022354
CREATED:20251103T080712Z
LAST-MODIFIED:20260123T110731Z
UID:10008106-1779962400-1779967800@iwa-prague.com
SUMMARY:The History Group
DESCRIPTION:
URL:https://iwa-prague.com/event/the-history-group-2/2026-05-28/
CATEGORIES:Art & Culture
ATTACH;FMTTYPE=image/jpeg:https://iwa-prague.com/wp-content/uploads/2025/09/trebon-7221190_1280-OPT.jpg
ORGANIZER;CN="Petra Nykodym":MAILTO:history@iwa-prague.com
END:VEVENT
BEGIN:VEVENT
DTSTART;TZID=Europe/Prague:20260528T120000
DTEND;TZID=Europe/Prague:20260528T133000
DTSTAMP:20260422T022354
CREATED:20251002T155607Z
LAST-MODIFIED:20251209T155038Z
UID:10007559-1779969600-1779975000@iwa-prague.com
SUMMARY:Ping Pong
DESCRIPTION:
URL:https://iwa-prague.com/event/ping-pong-2/2026-05-28/
CATEGORIES:Health & Wellness
ATTACH;FMTTYPE=image/jpeg:https://iwa-prague.com/wp-content/uploads/2025/09/table-tennis-4046307_1280-OPT.jpg
ORGANIZER;CN="Pamela Starobin":MAILTO:pingpong@iwa-prague.com
END:VEVENT
BEGIN:VEVENT
DTSTART;TZID=Europe/Prague:20260528T120000
DTEND;TZID=Europe/Prague:20260528T140000
DTSTAMP:20260422T022354
CREATED:20241025T170844Z
LAST-MODIFIED:20260123T112956Z
UID:10008730-1779969600-1779976800@iwa-prague.com
SUMMARY:Lunch Bunch
DESCRIPTION:
URL:https://iwa-prague.com/event/lunch-bunch/2026-05-28/
CATEGORIES:Social Groups
ATTACH;FMTTYPE=image/jpeg:https://iwa-prague.com/wp-content/uploads/2024/10/lunchbunch-group-OPT.jpg
ORGANIZER;CN="Katerina Creedon":MAILTO:lunchbunch@iwa-prague.com
END:VEVENT
BEGIN:VEVENT
DTSTART;TZID=Europe/Prague:20260529T100000
DTEND;TZID=Europe/Prague:20260529T120000
DTSTAMP:20260422T022354
CREATED:20240926T141157Z
LAST-MODIFIED:20240926T141157Z
UID:10002987-1780048800-1780056000@iwa-prague.com
SUMMARY:Tennis
DESCRIPTION:
URL:https://iwa-prague.com/event/tennis/2026-05-29/
CATEGORIES:Health & Wellness
ATTACH;FMTTYPE=image/jpeg:https://iwa-prague.com/wp-content/uploads/2024/09/tennis-group-sep-2024.jpg
ORGANIZER;CN="Renata Van%C4%9B%C4%8Dkov%C3%A1":MAILTO:tennis@iwa-prague.com
END:VEVENT
BEGIN:VEVENT
DTSTART;TZID=Europe/Prague:20260529T100000
DTEND;TZID=Europe/Prague:20260529T120000
DTSTAMP:20260422T022354
CREATED:20251212T150704Z
LAST-MODIFIED:20251218T074754Z
UID:10008667-1780048800-1780056000@iwa-prague.com
SUMMARY:Walking
DESCRIPTION:
URL:https://iwa-prague.com/event/walking1/2026-05-29/
CATEGORIES:Health & Wellness
ATTACH;FMTTYPE=image/jpeg:https://iwa-prague.com/wp-content/uploads/2019/05/WALKING-GROUP-009-OPT-FI.jpg
ORGANIZER;CN="Carmen Trankovsky":MAILTO:gallery@iwa-prague.com
END:VEVENT
BEGIN:VEVENT
DTSTART;TZID=Europe/Prague:20260530T160000
DTEND;TZID=Europe/Prague:20260530T203000
DTSTAMP:20260422T022354
CREATED:20250523T142029Z
LAST-MODIFIED:20260421T145828Z
UID:10009103-1780156800-1780173000@iwa-prague.com
SUMMARY:Plus One
DESCRIPTION:
URL:https://iwa-prague.com/event/plus-one/2026-05-30/
CATEGORIES:Evening Groups
ATTACH;FMTTYPE=image/jpeg:https://iwa-prague.com/wp-content/uploads/2025/05/plusone-OPT.jpg
ORGANIZER;CN="Vivian Strang":MAILTO:plusone@iwa-prague.com
END:VEVENT
BEGIN:VEVENT
DTSTART;TZID=Europe/Prague:20260601T080000
DTEND;TZID=Europe/Prague:20260601T130000
DTSTAMP:20260422T022354
CREATED:20240926T134840Z
LAST-MODIFIED:20240926T134840Z
UID:10001564-1780300800-1780318800@iwa-prague.com
SUMMARY:Golf
DESCRIPTION:
URL:https://iwa-prague.com/event/golf/2026-06-01/
CATEGORIES:Health & Wellness
ATTACH;FMTTYPE=image/jpeg:https://iwa-prague.com/wp-content/uploads/2021/03/Golf-May-2016-OPT.jpg
ORGANIZER;CN="Isolde Meinken":MAILTO:golf@iwa-prague.com
END:VEVENT
BEGIN:VEVENT
DTSTART;TZID=Europe/Prague:20260601T103000
DTEND;TZID=Europe/Prague:20260601T120000
DTSTAMP:20260422T022354
CREATED:20240926T134257Z
LAST-MODIFIED:20251209T154753Z
UID:10005732-1780309800-1780315200@iwa-prague.com
SUMMARY:French Conversation
DESCRIPTION:
URL:https://iwa-prague.com/event/french-conversation/2026-06-01/
CATEGORIES:Languages
ATTACH;FMTTYPE=image/jpeg:https://iwa-prague.com/wp-content/uploads/2021/05/French-Group-reading-2016-OPT3.jpg
ORGANIZER;CN="Dominic Kopecky":MAILTO:french@iwa-prague.com
END:VEVENT
BEGIN:VEVENT
DTSTART;TZID=Europe/Prague:20260601T140000
DTEND;TZID=Europe/Prague:20260601T153000
DTSTAMP:20260422T022354
CREATED:20240926T135507Z
LAST-MODIFIED:20260311T103100Z
UID:10001818-1780322400-1780327800@iwa-prague.com
SUMMARY:Kavarna Hopping
DESCRIPTION:
URL:https://iwa-prague.com/event/kavarna-hopping/2026-06-01/
CATEGORIES:Social Groups
ATTACH;FMTTYPE=image/jpeg:https://iwa-prague.com/wp-content/uploads/2024/09/kavarna-hopping-mar-2023-003-scaled.jpg
ORGANIZER;CN="Kim Strebel / Cathy Meils":MAILTO:kavarna@iwa-prague.com
END:VEVENT
BEGIN:VEVENT
DTSTART;TZID=Europe/Prague:20260602T090000
DTEND;TZID=Europe/Prague:20260602T100000
DTSTAMP:20260422T022354
CREATED:20240926T140857Z
LAST-MODIFIED:20241102T101214Z
UID:10002727-1780390800-1780394400@iwa-prague.com
SUMMARY:Tai Chi Chih
DESCRIPTION:
URL:https://iwa-prague.com/event/tai-chi-chih/2026-06-02/
CATEGORIES:Health & Wellness
ATTACH;FMTTYPE=image/jpeg:https://iwa-prague.com/wp-content/uploads/2022/10/TaiChi_Lebl_CMYK300.jpg
ORGANIZER;CN="Cheryl Caspe":MAILTO:taichi@iwa-prague.com
END:VEVENT
BEGIN:VEVENT
DTSTART;TZID=Europe/Prague:20260602T140000
DTEND;TZID=Europe/Prague:20260602T160000
DTSTAMP:20260422T022354
CREATED:20240926T140013Z
LAST-MODIFIED:20250605T154628Z
UID:10006803-1780408800-1780416000@iwa-prague.com
SUMMARY:Knit & Crochet
DESCRIPTION:
URL:https://iwa-prague.com/event/knitting-crochet-and-small-needlework/2026-06-02/
CATEGORIES:Creative Pursuits & Gourmet
ATTACH;FMTTYPE=image/jpeg:https://iwa-prague.com/wp-content/uploads/2017/02/Knitting-Jul-2021-OPT.jpg
ORGANIZER;CN="Charlotte Sommer":MAILTO:knitting@iwa-prague.com
END:VEVENT
BEGIN:VEVENT
DTSTART;TZID=Europe/Prague:20260602T140000
DTEND;TZID=Europe/Prague:20260602T160000
DTSTAMP:20260422T022354
CREATED:20241007T162706Z
LAST-MODIFIED:20260224T161337Z
UID:10005082-1780408800-1780416000@iwa-prague.com
SUMMARY:Czech Conversation
DESCRIPTION:We practice communicating in the Czech language in a casual surrounding and with the help of native speakers\, topics vary each week.
URL:https://iwa-prague.com/event/czech-conversation-2/2026-06-02/
CATEGORIES:Languages
ATTACH;FMTTYPE=image/jpeg:https://iwa-prague.com/wp-content/uploads/2021/05/Czech-Jun-2020-OPT.jpg
ORGANIZER;CN="Iva %C4%8Cvandov%C3%A1":MAILTO:czechconversation@iwa-prague.com
END:VEVENT
BEGIN:VEVENT
DTSTART;TZID=Europe/Prague:20260603T100000
DTEND;TZID=Europe/Prague:20260603T120000
DTSTAMP:20260422T022354
CREATED:20251212T150704Z
LAST-MODIFIED:20251218T074754Z
UID:10008668-1780480800-1780488000@iwa-prague.com
SUMMARY:Walking
DESCRIPTION:
URL:https://iwa-prague.com/event/walking1/2026-06-03/
CATEGORIES:Health & Wellness
ATTACH;FMTTYPE=image/jpeg:https://iwa-prague.com/wp-content/uploads/2019/05/WALKING-GROUP-009-OPT-FI.jpg
ORGANIZER;CN="Carmen Trankovsky":MAILTO:gallery@iwa-prague.com
END:VEVENT
BEGIN:VEVENT
DTSTART;TZID=Europe/Prague:20260604T093000
DTEND;TZID=Europe/Prague:20260604T103000
DTSTAMP:20260422T022354
CREATED:20250107T113134Z
LAST-MODIFIED:20251209T160617Z
UID:10000544-1780565400-1780569000@iwa-prague.com
SUMMARY:Dance For Fun
DESCRIPTION:
URL:https://iwa-prague.com/event/dance-for-fun-2/2026-06-04/
CATEGORIES:Health & Wellness
ATTACH;FMTTYPE=image/jpeg:https://iwa-prague.com/wp-content/uploads/2024/09/dance-group.jpg
ORGANIZER;CN="Valerie Stulikova":MAILTO:dance@iwa-prague.com
END:VEVENT
BEGIN:VEVENT
DTSTART;TZID=Europe/Prague:20260604T103000
DTEND;TZID=Europe/Prague:20260604T120000
DTSTAMP:20260422T022354
CREATED:20240926T131826Z
LAST-MODIFIED:20251128T155416Z
UID:10008471-1780569000-1780574400@iwa-prague.com
SUMMARY:German Language
DESCRIPTION:
URL:https://iwa-prague.com/event/german-language-group/2026-06-04/
CATEGORIES:Languages
ATTACH;FMTTYPE=image/jpeg:https://iwa-prague.com/wp-content/uploads/2021/05/IMG_6063-OPT.jpg
ORGANIZER;CN="Petra Nykod%C3%BDm":MAILTO:germanlanguage@iwa-prague.com
END:VEVENT
BEGIN:VEVENT
DTSTART;TZID=Europe/Prague:20260604T120000
DTEND;TZID=Europe/Prague:20260604T133000
DTSTAMP:20260422T022354
CREATED:20251002T155607Z
LAST-MODIFIED:20251209T155038Z
UID:10007560-1780574400-1780579800@iwa-prague.com
SUMMARY:Ping Pong
DESCRIPTION:
URL:https://iwa-prague.com/event/ping-pong-2/2026-06-04/
CATEGORIES:Health & Wellness
ATTACH;FMTTYPE=image/jpeg:https://iwa-prague.com/wp-content/uploads/2025/09/table-tennis-4046307_1280-OPT.jpg
ORGANIZER;CN="Pamela Starobin":MAILTO:pingpong@iwa-prague.com
END:VEVENT
BEGIN:VEVENT
DTSTART;TZID=Europe/Prague:20260604T133000
DTEND;TZID=Europe/Prague:20260604T153000
DTSTAMP:20260422T022354
CREATED:20240926T133557Z
LAST-MODIFIED:20260402T183752Z
UID:10001106-1780579800-1780587000@iwa-prague.com
SUMMARY:English Chat
DESCRIPTION:
URL:https://iwa-prague.com/event/english-chat/2026-06-04/
CATEGORIES:Languages
ATTACH;FMTTYPE=image/jpeg:https://iwa-prague.com/wp-content/uploads/2024/09/engchat-OPT.jpg
ORGANIZER;CN="Maria Fadian":MAILTO:englishchat@iwa-prague.com
END:VEVENT
BEGIN:VEVENT
DTSTART;TZID=Europe/Prague:20260605T100000
DTEND;TZID=Europe/Prague:20260605T120000
DTSTAMP:20260422T022354
CREATED:20240926T141157Z
LAST-MODIFIED:20240926T141157Z
UID:10002988-1780653600-1780660800@iwa-prague.com
SUMMARY:Tennis
DESCRIPTION:
URL:https://iwa-prague.com/event/tennis/2026-06-05/
CATEGORIES:Health & Wellness
ATTACH;FMTTYPE=image/jpeg:https://iwa-prague.com/wp-content/uploads/2024/09/tennis-group-sep-2024.jpg
ORGANIZER;CN="Renata Van%C4%9B%C4%8Dkov%C3%A1":MAILTO:tennis@iwa-prague.com
END:VEVENT
BEGIN:VEVENT
DTSTART;TZID=Europe/Prague:20260605T173000
DTEND;TZID=Europe/Prague:20260605T190000
DTSTAMP:20260422T022354
CREATED:20240926T135133Z
LAST-MODIFIED:20260320T111626Z
UID:10001758-1780680600-1780686000@iwa-prague.com
SUMMARY:Happy Hour
DESCRIPTION:
URL:https://iwa-prague.com/event/happy-hour/2026-06-05/
CATEGORIES:Evening Groups
ATTACH;FMTTYPE=image/jpeg:https://iwa-prague.com/wp-content/uploads/2021/05/HH-Aug-2017-OPT.jpg
ORGANIZER;CN="Leslie Nicholson":MAILTO:happyhour@iwa-prague.com
END:VEVENT
BEGIN:VEVENT
DTSTART;TZID=Europe/Prague:20260606T120000
DTEND;TZID=Europe/Prague:20260606T160000
DTSTAMP:20260422T022354
CREATED:20260416T131321Z
LAST-MODIFIED:20260416T131321Z
UID:10009102-1780747200-1780761600@iwa-prague.com
SUMMARY:Anniversary Celebration Picnic
DESCRIPTION:SAVE THE DATE!! \nMore details to follow in The Bridge Weekly Newsletter.
URL:https://iwa-prague.com/event/anniversary-celebration-picnic/
CATEGORIES:Special Events
ATTACH;FMTTYPE=image/jpeg:https://iwa-prague.com/wp-content/uploads/2026/04/picnic-OPT.jpg
ORGANIZER;CN="Connie Shattuck":MAILTO:interestgroups@iwa-prague.com
END:VEVENT
BEGIN:VEVENT
DTSTART;TZID=Europe/Prague:20260608T080000
DTEND;TZID=Europe/Prague:20260608T130000
DTSTAMP:20260422T022354
CREATED:20240926T134840Z
LAST-MODIFIED:20240926T134840Z
UID:10001565-1780905600-1780923600@iwa-prague.com
SUMMARY:Golf
DESCRIPTION:
URL:https://iwa-prague.com/event/golf/2026-06-08/
CATEGORIES:Health & Wellness
ATTACH;FMTTYPE=image/jpeg:https://iwa-prague.com/wp-content/uploads/2021/03/Golf-May-2016-OPT.jpg
ORGANIZER;CN="Isolde Meinken":MAILTO:golf@iwa-prague.com
END:VEVENT
BEGIN:VEVENT
DTSTART;TZID=Europe/Prague:20260608T103000
DTEND;TZID=Europe/Prague:20260608T120000
DTSTAMP:20260422T022354
CREATED:20240926T134257Z
LAST-MODIFIED:20251209T154753Z
UID:10005733-1780914600-1780920000@iwa-prague.com
SUMMARY:French Conversation
DESCRIPTION:
URL:https://iwa-prague.com/event/french-conversation/2026-06-08/
CATEGORIES:Languages
ATTACH;FMTTYPE=image/jpeg:https://iwa-prague.com/wp-content/uploads/2021/05/French-Group-reading-2016-OPT3.jpg
ORGANIZER;CN="Dominic Kopecky":MAILTO:french@iwa-prague.com
END:VEVENT
END:VCALENDAR