BEGIN:VCALENDAR
VERSION:2.0
PRODID:-//International Women&#039;s Association of Prague - ECPv6.15.20//NONSGML v1.0//EN
CALSCALE:GREGORIAN
METHOD:PUBLISH
X-ORIGINAL-URL:https://iwa-prague.com
X-WR-CALDESC:Events for International Women&#039;s Association of Prague
REFRESH-INTERVAL;VALUE=DURATION:PT1H
X-Robots-Tag:noindex
X-PUBLISHED-TTL:PT1H
BEGIN:VTIMEZONE
TZID:Europe/Prague
BEGIN:DAYLIGHT
TZOFFSETFROM:+0100
TZOFFSETTO:+0200
TZNAME:CEST
DTSTART:20250330T010000
END:DAYLIGHT
BEGIN:STANDARD
TZOFFSETFROM:+0200
TZOFFSETTO:+0100
TZNAME:CET
DTSTART:20251026T010000
END:STANDARD
BEGIN:DAYLIGHT
TZOFFSETFROM:+0100
TZOFFSETTO:+0200
TZNAME:CEST
DTSTART:20260329T010000
END:DAYLIGHT
BEGIN:STANDARD
TZOFFSETFROM:+0200
TZOFFSETTO:+0100
TZNAME:CET
DTSTART:20261025T010000
END:STANDARD
BEGIN:DAYLIGHT
TZOFFSETFROM:+0100
TZOFFSETTO:+0200
TZNAME:CEST
DTSTART:20270328T010000
END:DAYLIGHT
BEGIN:STANDARD
TZOFFSETFROM:+0200
TZOFFSETTO:+0100
TZNAME:CET
DTSTART:20271031T010000
END:STANDARD
END:VTIMEZONE
BEGIN:VEVENT
DTSTART;TZID=Europe/Prague:20260417T100000
DTEND;TZID=Europe/Prague:20260417T120000
DTSTAMP:20260421T235701
CREATED:20240926T141157Z
LAST-MODIFIED:20240926T141157Z
UID:10002981-1776420000-1776427200@iwa-prague.com
SUMMARY:Tennis
DESCRIPTION:
URL:https://iwa-prague.com/event/tennis/2026-04-17/
CATEGORIES:Health & Wellness
ATTACH;FMTTYPE=image/jpeg:https://iwa-prague.com/wp-content/uploads/2024/09/tennis-group-sep-2024.jpg
ORGANIZER;CN="Renata Van%C4%9B%C4%8Dkov%C3%A1":MAILTO:tennis@iwa-prague.com
END:VEVENT
BEGIN:VEVENT
DTSTART;TZID=Europe/Prague:20260417T100000
DTEND;TZID=Europe/Prague:20260417T120000
DTSTAMP:20260421T235701
CREATED:20251212T150704Z
LAST-MODIFIED:20251218T074754Z
UID:10008633-1776420000-1776427200@iwa-prague.com
SUMMARY:Walking
DESCRIPTION:
URL:https://iwa-prague.com/event/walking1/2026-04-17/
CATEGORIES:Health & Wellness
ATTACH;FMTTYPE=image/jpeg:https://iwa-prague.com/wp-content/uploads/2019/05/WALKING-GROUP-009-OPT-FI.jpg
ORGANIZER;CN="Carmen Trankovsky":MAILTO:gallery@iwa-prague.com
END:VEVENT
BEGIN:VEVENT
DTSTART;TZID=Europe/Prague:20260418T173000
DTEND;TZID=Europe/Prague:20260418T210000
DTSTAMP:20260421T235701
CREATED:20250523T142029Z
LAST-MODIFIED:20260421T145828Z
UID:10008977-1776533400-1776546000@iwa-prague.com
SUMMARY:Plus One
DESCRIPTION:
URL:https://iwa-prague.com/event/plus-one/2026-04-18/
CATEGORIES:Evening Groups
ATTACH;FMTTYPE=image/jpeg:https://iwa-prague.com/wp-content/uploads/2025/05/plusone-OPT.jpg
ORGANIZER;CN="Vivian Strang":MAILTO:plusone@iwa-prague.com
END:VEVENT
BEGIN:VEVENT
DTSTART;TZID=Europe/Prague:20260420T080000
DTEND;TZID=Europe/Prague:20260420T130000
DTSTAMP:20260421T235701
CREATED:20240926T134840Z
LAST-MODIFIED:20240926T134840Z
UID:10001558-1776672000-1776690000@iwa-prague.com
SUMMARY:Golf
DESCRIPTION:
URL:https://iwa-prague.com/event/golf/2026-04-20/
CATEGORIES:Health & Wellness
ATTACH;FMTTYPE=image/jpeg:https://iwa-prague.com/wp-content/uploads/2021/03/Golf-May-2016-OPT.jpg
ORGANIZER;CN="Isolde Meinken":MAILTO:golf@iwa-prague.com
END:VEVENT
BEGIN:VEVENT
DTSTART;TZID=Europe/Prague:20260420T103000
DTEND;TZID=Europe/Prague:20260420T120000
DTSTAMP:20260421T235701
CREATED:20240926T134257Z
LAST-MODIFIED:20251209T154753Z
UID:10005726-1776681000-1776686400@iwa-prague.com
SUMMARY:French Conversation
DESCRIPTION:
URL:https://iwa-prague.com/event/french-conversation/2026-04-20/
CATEGORIES:Languages
ATTACH;FMTTYPE=image/jpeg:https://iwa-prague.com/wp-content/uploads/2021/05/French-Group-reading-2016-OPT3.jpg
ORGANIZER;CN="Dominic Kopecky":MAILTO:french@iwa-prague.com
END:VEVENT
BEGIN:VEVENT
DTSTART;TZID=Europe/Prague:20260420T133000
DTEND;TZID=Europe/Prague:20260420T150000
DTSTAMP:20260421T235701
CREATED:20251022T133521Z
LAST-MODIFIED:20260413T160246Z
UID:10009101-1776691800-1776697200@iwa-prague.com
SUMMARY:City Strolls
DESCRIPTION:
URL:https://iwa-prague.com/event/city-strolls/2026-04-20/
CATEGORIES:Health & Wellness
ATTACH;FMTTYPE=image/jpeg:https://iwa-prague.com/wp-content/uploads/2025/10/citystrolls-OPTpg.jpg
ORGANIZER;CN="Ramona Howerton":MAILTO:citystolls@iwa-prague.com
END:VEVENT
BEGIN:VEVENT
DTSTART;TZID=Europe/Prague:20260420T140000
DTEND;TZID=Europe/Prague:20260420T153000
DTSTAMP:20260421T235701
CREATED:20250114T074603Z
LAST-MODIFIED:20260413T153731Z
UID:10009100-1776693600-1776699000@iwa-prague.com
SUMMARY:Gallery Gang
DESCRIPTION:Please contact the group leader for more details on this specific event.
URL:https://iwa-prague.com/event/gallery-gang/2026-04-20/
CATEGORIES:Art & Culture
ATTACH;FMTTYPE=image/jpeg:https://iwa-prague.com/wp-content/uploads/2023/09/gallerygang-OPT.jpg
ORGANIZER;CN="Carmen Trankovsky":MAILTO:gallery@iwa-prague.com
END:VEVENT
BEGIN:VEVENT
DTSTART;TZID=Europe/Prague:20260421T090000
DTEND;TZID=Europe/Prague:20260421T100000
DTSTAMP:20260421T235701
CREATED:20240926T140857Z
LAST-MODIFIED:20241102T101214Z
UID:10002721-1776762000-1776765600@iwa-prague.com
SUMMARY:Tai Chi Chih
DESCRIPTION:
URL:https://iwa-prague.com/event/tai-chi-chih/2026-04-21/
CATEGORIES:Health & Wellness
ATTACH;FMTTYPE=image/jpeg:https://iwa-prague.com/wp-content/uploads/2022/10/TaiChi_Lebl_CMYK300.jpg
ORGANIZER;CN="Cheryl Caspe":MAILTO:taichi@iwa-prague.com
END:VEVENT
BEGIN:VEVENT
DTSTART;TZID=Europe/Prague:20260421T093000
DTEND;TZID=Europe/Prague:20260421T113000
DTSTAMP:20260421T235701
CREATED:20251108T103811Z
LAST-MODIFIED:20251110T125832Z
UID:10008175-1776763800-1776771000@iwa-prague.com
SUMMARY:Monthly Meeting
DESCRIPTION:
URL:https://iwa-prague.com/event/monthly-meeting-4/2026-04-21/
LOCATION:Anglo American University\, Letenská 120/5\, Prague 1\, Czech Republic
CATEGORIES:Monthly Meeting
ATTACH;FMTTYPE=image/jpeg:https://iwa-prague.com/wp-content/uploads/2024/09/Monthly-Meeting-feature-image-OPT.jpg
ORGANIZER;CN="Leslie Nicholson":MAILTO:president@iwa-prague.com
END:VEVENT
BEGIN:VEVENT
DTSTART;TZID=Europe/Prague:20260421T120000
DTEND;TZID=Europe/Prague:20260421T140000
DTSTAMP:20260421T235701
CREATED:20241007T162220Z
LAST-MODIFIED:20251212T132644Z
UID:10008245-1776772800-1776780000@iwa-prague.com
SUMMARY:Czech Conversation
DESCRIPTION:We practice communicating in the Czech language in a casual surrounding and with the help of native speakers\, topics vary each week.
URL:https://iwa-prague.com/event/czech-conversation/2026-04-21/
CATEGORIES:Languages
ATTACH;FMTTYPE=image/jpeg:https://iwa-prague.com/wp-content/uploads/2021/05/Czech-Jun-2020-OPT.jpg
ORGANIZER;CN="Iva %C4%8Cvandov%C3%A1":MAILTO:czechconversation@iwa-prague.com
END:VEVENT
BEGIN:VEVENT
DTSTART;TZID=Europe/Prague:20260421T140000
DTEND;TZID=Europe/Prague:20260421T160000
DTSTAMP:20260421T235701
CREATED:20240926T140013Z
LAST-MODIFIED:20250605T154628Z
UID:10006797-1776780000-1776787200@iwa-prague.com
SUMMARY:Knit & Crochet
DESCRIPTION:
URL:https://iwa-prague.com/event/knitting-crochet-and-small-needlework/2026-04-21/
CATEGORIES:Creative Pursuits & Gourmet
ATTACH;FMTTYPE=image/jpeg:https://iwa-prague.com/wp-content/uploads/2017/02/Knitting-Jul-2021-OPT.jpg
ORGANIZER;CN="Charlotte Sommer":MAILTO:knitting@iwa-prague.com
END:VEVENT
BEGIN:VEVENT
DTSTART;TZID=Europe/Prague:20260422T103000
DTEND;TZID=Europe/Prague:20260422T120000
DTSTAMP:20260421T235701
CREATED:20260130T163818Z
LAST-MODIFIED:20260130T163839Z
UID:10008738-1776853800-1776859200@iwa-prague.com
SUMMARY:AAU History Course
DESCRIPTION:Please read The Bridge newsletter for more detail and how to sign up.
URL:https://iwa-prague.com/event/aau-history-course/2026-04-22/
LOCATION:Anglo American University\, Letenská 120/5\, Prague 1\, Czech Republic
CATEGORIES:Cultural Events & Excursions
ORGANIZER;CN="Brigitte Lintner":MAILTO:culturalevents@iwa-prague.com
END:VEVENT
BEGIN:VEVENT
DTSTART;TZID=Europe/Prague:20260422T103000
DTEND;TZID=Europe/Prague:20260422T123000
DTSTAMP:20260421T235701
CREATED:20240925T095420Z
LAST-MODIFIED:20260311T163935Z
UID:10007113-1776853800-1776861000@iwa-prague.com
SUMMARY:Photography
DESCRIPTION:Photography as the visual art offers us the unique way to treasure our memories and to tell the stories from the place we live. Everybody who feels the same way can join our Photography Group. We focus on learning and sharing techniques\, knowledge and friendship among our members. We meet once a month at different locations and follow various themes. All levels welcome.
URL:https://iwa-prague.com/event/photography-group/2026-04-22/
CATEGORIES:Creative Pursuits & Gourmet
ATTACH;FMTTYPE=image/jpeg:https://iwa-prague.com/wp-content/uploads/2018/02/photography-OPT.jpg
ORGANIZER;CN="Sandra Hill":MAILTO:eveningcinema@iwa-prague.com
END:VEVENT
BEGIN:VEVENT
DTSTART;TZID=Europe/Prague:20260422T183000
DTEND;TZID=Europe/Prague:20260422T203000
DTSTAMP:20260421T235701
CREATED:20260205T132756Z
LAST-MODIFIED:20260205T132830Z
UID:10008806-1776882600-1776889800@iwa-prague.com
SUMMARY:Choir
DESCRIPTION:
URL:https://iwa-prague.com/event/choir-2/2026-04-22/
CATEGORIES:Evening Groups
ATTACH;FMTTYPE=image/jpeg:https://iwa-prague.com/wp-content/uploads/2026/02/choir-OPT.jpg
ORGANIZER;CN="Leslie Nicholson":MAILTO:choir@iwa-prague.com
END:VEVENT
BEGIN:VEVENT
DTSTART;TZID=Europe/Prague:20260422T190000
DTEND;TZID=Europe/Prague:20260422T220000
DTSTAMP:20260421T235702
CREATED:20250328T121338Z
LAST-MODIFIED:20250605T143738Z
UID:10006105-1776884400-1776895200@iwa-prague.com
SUMMARY:Evening Book Club
DESCRIPTION:
URL:https://iwa-prague.com/event/evening-book-club/2026-04-22/
CATEGORIES:Evening Groups
ATTACH;FMTTYPE=image/jpeg:https://iwa-prague.com/wp-content/uploads/2025/03/books-from-connie-OPT.jpg
ORGANIZER;CN="Connie Shattuck":MAILTO:interestgroups@iwa-prague.com
END:VEVENT
BEGIN:VEVENT
DTSTART;TZID=Europe/Prague:20260423T093000
DTEND;TZID=Europe/Prague:20260423T103000
DTSTAMP:20260421T235702
CREATED:20250107T113134Z
LAST-MODIFIED:20251209T160617Z
UID:10000538-1776936600-1776940200@iwa-prague.com
SUMMARY:Dance For Fun
DESCRIPTION:
URL:https://iwa-prague.com/event/dance-for-fun-2/2026-04-23/
CATEGORIES:Health & Wellness
ATTACH;FMTTYPE=image/jpeg:https://iwa-prague.com/wp-content/uploads/2024/09/dance-group.jpg
ORGANIZER;CN="Valerie Stulikova":MAILTO:dance@iwa-prague.com
END:VEVENT
BEGIN:VEVENT
DTSTART;TZID=Europe/Prague:20260423T100000
DTEND;TZID=Europe/Prague:20260423T113000
DTSTAMP:20260421T235702
CREATED:20251103T080712Z
LAST-MODIFIED:20260123T110731Z
UID:10008105-1776938400-1776943800@iwa-prague.com
SUMMARY:The History Group
DESCRIPTION:
URL:https://iwa-prague.com/event/the-history-group-2/2026-04-23/
CATEGORIES:Art & Culture
ATTACH;FMTTYPE=image/jpeg:https://iwa-prague.com/wp-content/uploads/2025/09/trebon-7221190_1280-OPT.jpg
ORGANIZER;CN="Petra Nykodym":MAILTO:history@iwa-prague.com
END:VEVENT
BEGIN:VEVENT
DTSTART;TZID=Europe/Prague:20260423T120000
DTEND;TZID=Europe/Prague:20260423T133000
DTSTAMP:20260421T235702
CREATED:20251002T155607Z
LAST-MODIFIED:20251209T155038Z
UID:10007554-1776945600-1776951000@iwa-prague.com
SUMMARY:Ping Pong
DESCRIPTION:
URL:https://iwa-prague.com/event/ping-pong-2/2026-04-23/
CATEGORIES:Health & Wellness
ATTACH;FMTTYPE=image/jpeg:https://iwa-prague.com/wp-content/uploads/2025/09/table-tennis-4046307_1280-OPT.jpg
ORGANIZER;CN="Pamela Starobin":MAILTO:pingpong@iwa-prague.com
END:VEVENT
BEGIN:VEVENT
DTSTART;TZID=Europe/Prague:20260424T100000
DTEND;TZID=Europe/Prague:20260424T120000
DTSTAMP:20260421T235702
CREATED:20240926T141157Z
LAST-MODIFIED:20240926T141157Z
UID:10002982-1777024800-1777032000@iwa-prague.com
SUMMARY:Tennis
DESCRIPTION:
URL:https://iwa-prague.com/event/tennis/2026-04-24/
CATEGORIES:Health & Wellness
ATTACH;FMTTYPE=image/jpeg:https://iwa-prague.com/wp-content/uploads/2024/09/tennis-group-sep-2024.jpg
ORGANIZER;CN="Renata Van%C4%9B%C4%8Dkov%C3%A1":MAILTO:tennis@iwa-prague.com
END:VEVENT
BEGIN:VEVENT
DTSTART;TZID=Europe/Prague:20260424T100000
DTEND;TZID=Europe/Prague:20260424T120000
DTSTAMP:20260421T235702
CREATED:20251212T150704Z
LAST-MODIFIED:20251218T074754Z
UID:10008634-1777024800-1777032000@iwa-prague.com
SUMMARY:Walking
DESCRIPTION:
URL:https://iwa-prague.com/event/walking1/2026-04-24/
CATEGORIES:Health & Wellness
ATTACH;FMTTYPE=image/jpeg:https://iwa-prague.com/wp-content/uploads/2019/05/WALKING-GROUP-009-OPT-FI.jpg
ORGANIZER;CN="Carmen Trankovsky":MAILTO:gallery@iwa-prague.com
END:VEVENT
BEGIN:VEVENT
DTSTART;TZID=Europe/Prague:20260427T080000
DTEND;TZID=Europe/Prague:20260427T130000
DTSTAMP:20260421T235702
CREATED:20240926T134840Z
LAST-MODIFIED:20240926T134840Z
UID:10001559-1777276800-1777294800@iwa-prague.com
SUMMARY:Golf
DESCRIPTION:
URL:https://iwa-prague.com/event/golf/2026-04-27/
CATEGORIES:Health & Wellness
ATTACH;FMTTYPE=image/jpeg:https://iwa-prague.com/wp-content/uploads/2021/03/Golf-May-2016-OPT.jpg
ORGANIZER;CN="Isolde Meinken":MAILTO:golf@iwa-prague.com
END:VEVENT
BEGIN:VEVENT
DTSTART;TZID=Europe/Prague:20260427T103000
DTEND;TZID=Europe/Prague:20260427T120000
DTSTAMP:20260421T235702
CREATED:20240926T134257Z
LAST-MODIFIED:20251209T154753Z
UID:10005727-1777285800-1777291200@iwa-prague.com
SUMMARY:French Conversation
DESCRIPTION:
URL:https://iwa-prague.com/event/french-conversation/2026-04-27/
CATEGORIES:Languages
ATTACH;FMTTYPE=image/jpeg:https://iwa-prague.com/wp-content/uploads/2021/05/French-Group-reading-2016-OPT3.jpg
ORGANIZER;CN="Dominic Kopecky":MAILTO:french@iwa-prague.com
END:VEVENT
BEGIN:VEVENT
DTSTART;TZID=Europe/Prague:20260428T090000
DTEND;TZID=Europe/Prague:20260428T100000
DTSTAMP:20260421T235702
CREATED:20240926T140857Z
LAST-MODIFIED:20241102T101214Z
UID:10002722-1777366800-1777370400@iwa-prague.com
SUMMARY:Tai Chi Chih
DESCRIPTION:
URL:https://iwa-prague.com/event/tai-chi-chih/2026-04-28/
CATEGORIES:Health & Wellness
ATTACH;FMTTYPE=image/jpeg:https://iwa-prague.com/wp-content/uploads/2022/10/TaiChi_Lebl_CMYK300.jpg
ORGANIZER;CN="Cheryl Caspe":MAILTO:taichi@iwa-prague.com
END:VEVENT
BEGIN:VEVENT
DTSTART;TZID=Europe/Prague:20260428T140000
DTEND;TZID=Europe/Prague:20260428T160000
DTSTAMP:20260421T235702
CREATED:20240926T140013Z
LAST-MODIFIED:20250605T154628Z
UID:10006798-1777384800-1777392000@iwa-prague.com
SUMMARY:Knit & Crochet
DESCRIPTION:
URL:https://iwa-prague.com/event/knitting-crochet-and-small-needlework/2026-04-28/
CATEGORIES:Creative Pursuits & Gourmet
ATTACH;FMTTYPE=image/jpeg:https://iwa-prague.com/wp-content/uploads/2017/02/Knitting-Jul-2021-OPT.jpg
ORGANIZER;CN="Charlotte Sommer":MAILTO:knitting@iwa-prague.com
END:VEVENT
BEGIN:VEVENT
DTSTART;TZID=Europe/Prague:20260429T100000
DTEND;TZID=Europe/Prague:20260429T140000
DTSTAMP:20260421T235702
CREATED:20260319T111959Z
LAST-MODIFIED:20260319T113110Z
UID:10008959-1777456800-1777471200@iwa-prague.com
SUMMARY:Bell Making Museum Visit
DESCRIPTION:We would like to invite you to a unique visit to a small bell-making museum in Praha–Zbraslav. We will explore a former bell workshop and learn about the craft and the story of the Manoušek family\, guided by third-generation bell-maker Mr. Petr R. Manoušek. Lunch will follow after the museum visit.  \nFor full details and how to sign up please read The Bridge Weekly Newsletter.
URL:https://iwa-prague.com/event/bell-making-museum-visit/
CATEGORIES:Cultural Events & Excursions
ATTACH;FMTTYPE=image/jpeg:https://iwa-prague.com/wp-content/uploads/2026/03/bells-OPT.jpg
ORGANIZER;CN="Brigitte Lintner":MAILTO:culturalevents@iwa-prague.com
END:VEVENT
BEGIN:VEVENT
DTSTART;TZID=Europe/Prague:20260430T093000
DTEND;TZID=Europe/Prague:20260430T103000
DTSTAMP:20260421T235702
CREATED:20250107T113134Z
LAST-MODIFIED:20251209T160617Z
UID:10000539-1777541400-1777545000@iwa-prague.com
SUMMARY:Dance For Fun
DESCRIPTION:
URL:https://iwa-prague.com/event/dance-for-fun-2/2026-04-30/
CATEGORIES:Health & Wellness
ATTACH;FMTTYPE=image/jpeg:https://iwa-prague.com/wp-content/uploads/2024/09/dance-group.jpg
ORGANIZER;CN="Valerie Stulikova":MAILTO:dance@iwa-prague.com
END:VEVENT
BEGIN:VEVENT
DTSTART;TZID=Europe/Prague:20260430T120000
DTEND;TZID=Europe/Prague:20260430T133000
DTSTAMP:20260421T235702
CREATED:20251002T155607Z
LAST-MODIFIED:20251209T155038Z
UID:10007555-1777550400-1777555800@iwa-prague.com
SUMMARY:Ping Pong
DESCRIPTION:
URL:https://iwa-prague.com/event/ping-pong-2/2026-04-30/
CATEGORIES:Health & Wellness
ATTACH;FMTTYPE=image/jpeg:https://iwa-prague.com/wp-content/uploads/2025/09/table-tennis-4046307_1280-OPT.jpg
ORGANIZER;CN="Pamela Starobin":MAILTO:pingpong@iwa-prague.com
END:VEVENT
BEGIN:VEVENT
DTSTART;TZID=Europe/Prague:20260430T120000
DTEND;TZID=Europe/Prague:20260430T140000
DTSTAMP:20260421T235702
CREATED:20241025T170844Z
LAST-MODIFIED:20260123T112956Z
UID:10008729-1777550400-1777557600@iwa-prague.com
SUMMARY:Lunch Bunch
DESCRIPTION:
URL:https://iwa-prague.com/event/lunch-bunch/2026-04-30/
CATEGORIES:Social Groups
ATTACH;FMTTYPE=image/jpeg:https://iwa-prague.com/wp-content/uploads/2024/10/lunchbunch-group-OPT.jpg
ORGANIZER;CN="Katerina Creedon":MAILTO:lunchbunch@iwa-prague.com
END:VEVENT
BEGIN:VEVENT
DTSTART;TZID=Europe/Prague:20260501T100000
DTEND;TZID=Europe/Prague:20260501T120000
DTSTAMP:20260421T235702
CREATED:20240926T141157Z
LAST-MODIFIED:20240926T141157Z
UID:10002983-1777629600-1777636800@iwa-prague.com
SUMMARY:Tennis
DESCRIPTION:
URL:https://iwa-prague.com/event/tennis/2026-05-01/
CATEGORIES:Health & Wellness
ATTACH;FMTTYPE=image/jpeg:https://iwa-prague.com/wp-content/uploads/2024/09/tennis-group-sep-2024.jpg
ORGANIZER;CN="Renata Van%C4%9B%C4%8Dkov%C3%A1":MAILTO:tennis@iwa-prague.com
END:VEVENT
BEGIN:VEVENT
DTSTART;TZID=Europe/Prague:20260501T100000
DTEND;TZID=Europe/Prague:20260501T120000
DTSTAMP:20260421T235702
CREATED:20251212T150704Z
LAST-MODIFIED:20251218T074754Z
UID:10008635-1777629600-1777636800@iwa-prague.com
SUMMARY:Walking
DESCRIPTION:
URL:https://iwa-prague.com/event/walking1/2026-05-01/
CATEGORIES:Health & Wellness
ATTACH;FMTTYPE=image/jpeg:https://iwa-prague.com/wp-content/uploads/2019/05/WALKING-GROUP-009-OPT-FI.jpg
ORGANIZER;CN="Carmen Trankovsky":MAILTO:gallery@iwa-prague.com
END:VEVENT
END:VCALENDAR