BEGIN:VCALENDAR
VERSION:2.0
PRODID:-//International Women&#039;s Association of Prague - ECPv6.15.20//NONSGML v1.0//EN
CALSCALE:GREGORIAN
METHOD:PUBLISH
X-ORIGINAL-URL:https://iwa-prague.com
X-WR-CALDESC:Events for International Women&#039;s Association of Prague
REFRESH-INTERVAL;VALUE=DURATION:PT1H
X-Robots-Tag:noindex
X-PUBLISHED-TTL:PT1H
BEGIN:VTIMEZONE
TZID:Europe/Prague
BEGIN:DAYLIGHT
TZOFFSETFROM:+0100
TZOFFSETTO:+0200
TZNAME:CEST
DTSTART:20240331T010000
END:DAYLIGHT
BEGIN:STANDARD
TZOFFSETFROM:+0200
TZOFFSETTO:+0100
TZNAME:CET
DTSTART:20241027T010000
END:STANDARD
BEGIN:DAYLIGHT
TZOFFSETFROM:+0100
TZOFFSETTO:+0200
TZNAME:CEST
DTSTART:20250330T010000
END:DAYLIGHT
BEGIN:STANDARD
TZOFFSETFROM:+0200
TZOFFSETTO:+0100
TZNAME:CET
DTSTART:20251026T010000
END:STANDARD
BEGIN:DAYLIGHT
TZOFFSETFROM:+0100
TZOFFSETTO:+0200
TZNAME:CEST
DTSTART:20260329T010000
END:DAYLIGHT
BEGIN:STANDARD
TZOFFSETFROM:+0200
TZOFFSETTO:+0100
TZNAME:CET
DTSTART:20261025T010000
END:STANDARD
END:VTIMEZONE
BEGIN:VEVENT
DTSTART;TZID=Europe/Prague:20251016T093000
DTEND;TZID=Europe/Prague:20251016T103000
DTSTAMP:20260425T160257
CREATED:20250107T113134Z
LAST-MODIFIED:20251209T160617Z
UID:10000511-1760607000-1760610600@iwa-prague.com
SUMMARY:Dance For Fun
DESCRIPTION:
URL:https://iwa-prague.com/event/dance-for-fun-2/2025-10-16/
CATEGORIES:Health & Wellness
ATTACH;FMTTYPE=image/jpeg:https://iwa-prague.com/wp-content/uploads/2024/09/dance-group.jpg
ORGANIZER;CN="Valerie Stulikova":MAILTO:dance@iwa-prague.com
END:VEVENT
BEGIN:VEVENT
DTSTART;TZID=Europe/Prague:20251016T120000
DTEND;TZID=Europe/Prague:20251016T133000
DTSTAMP:20260425T160257
CREATED:20251002T155607Z
LAST-MODIFIED:20251209T155038Z
UID:10007527-1760616000-1760621400@iwa-prague.com
SUMMARY:Ping Pong
DESCRIPTION:
URL:https://iwa-prague.com/event/ping-pong-2/2025-10-16/
CATEGORIES:Health & Wellness
ATTACH;FMTTYPE=image/jpeg:https://iwa-prague.com/wp-content/uploads/2025/09/table-tennis-4046307_1280-OPT.jpg
ORGANIZER;CN="Pamela Starobin":MAILTO:pingpong@iwa-prague.com
END:VEVENT
BEGIN:VEVENT
DTSTART;TZID=Europe/Prague:20251016T160000
DTEND;TZID=Europe/Prague:20251016T173000
DTSTAMP:20260425T160257
CREATED:20250114T074603Z
LAST-MODIFIED:20260413T153731Z
UID:10007789-1760630400-1760635800@iwa-prague.com
SUMMARY:Gallery Gang
DESCRIPTION:Please contact the group leader for more details on this specific event.
URL:https://iwa-prague.com/event/gallery-gang/2025-10-16/
CATEGORIES:Art & Culture
ATTACH;FMTTYPE=image/jpeg:https://iwa-prague.com/wp-content/uploads/2023/09/gallerygang-OPT.jpg
ORGANIZER;CN="Carmen Trankovsky":MAILTO:gallery@iwa-prague.com
END:VEVENT
BEGIN:VEVENT
DTSTART;TZID=Europe/Prague:20251016T180000
DTEND;TZID=Europe/Prague:20251016T200000
DTSTAMP:20260425T160257
CREATED:20240926T131356Z
LAST-MODIFIED:20260323T125606Z
UID:10000721-1760637600-1760644800@iwa-prague.com
SUMMARY:Dining Divas
DESCRIPTION:
URL:https://iwa-prague.com/event/dinner-divas-group/2025-10-16/
CATEGORIES:Evening Groups
ATTACH;FMTTYPE=image/png:https://iwa-prague.com/wp-content/uploads/2023/08/dinner-divas-01.png
ORGANIZER;CN="Lorna Phillipson":MAILTO:dinnerdivas@iwa-prague.com
END:VEVENT
BEGIN:VEVENT
DTSTART;TZID=Europe/Prague:20251017T100000
DTEND;TZID=Europe/Prague:20251017T120000
DTSTAMP:20260425T160257
CREATED:20240926T141157Z
LAST-MODIFIED:20240926T141157Z
UID:10002955-1760695200-1760702400@iwa-prague.com
SUMMARY:Tennis
DESCRIPTION:
URL:https://iwa-prague.com/event/tennis/2025-10-17/
CATEGORIES:Health & Wellness
ATTACH;FMTTYPE=image/jpeg:https://iwa-prague.com/wp-content/uploads/2024/09/tennis-group-sep-2024.jpg
ORGANIZER;CN="Renata Van%C4%9B%C4%8Dkov%C3%A1":MAILTO:tennis@iwa-prague.com
END:VEVENT
BEGIN:VEVENT
DTSTART;TZID=Europe/Prague:20251020T080000
DTEND;TZID=Europe/Prague:20251020T130000
DTSTAMP:20260425T160257
CREATED:20240926T134840Z
LAST-MODIFIED:20240926T134840Z
UID:10001532-1760947200-1760965200@iwa-prague.com
SUMMARY:Golf
DESCRIPTION:
URL:https://iwa-prague.com/event/golf/2025-10-20/
CATEGORIES:Health & Wellness
ATTACH;FMTTYPE=image/jpeg:https://iwa-prague.com/wp-content/uploads/2021/03/Golf-May-2016-OPT.jpg
ORGANIZER;CN="Isolde Meinken":MAILTO:golf@iwa-prague.com
END:VEVENT
BEGIN:VEVENT
DTSTART;TZID=Europe/Prague:20251020T103000
DTEND;TZID=Europe/Prague:20251020T120000
DTSTAMP:20260425T160257
CREATED:20240926T134257Z
LAST-MODIFIED:20251209T154753Z
UID:10005700-1760956200-1760961600@iwa-prague.com
SUMMARY:French Conversation
DESCRIPTION:
URL:https://iwa-prague.com/event/french-conversation/2025-10-20/
CATEGORIES:Languages
ATTACH;FMTTYPE=image/jpeg:https://iwa-prague.com/wp-content/uploads/2021/05/French-Group-reading-2016-OPT3.jpg
ORGANIZER;CN="Dominic Kopecky":MAILTO:french@iwa-prague.com
END:VEVENT
BEGIN:VEVENT
DTSTART;TZID=Europe/Prague:20251021T090000
DTEND;TZID=Europe/Prague:20251021T100000
DTSTAMP:20260425T160257
CREATED:20240926T140857Z
LAST-MODIFIED:20241102T101214Z
UID:10002695-1761037200-1761040800@iwa-prague.com
SUMMARY:Tai Chi Chih
DESCRIPTION:
URL:https://iwa-prague.com/event/tai-chi-chih/2025-10-21/
CATEGORIES:Health & Wellness
ATTACH;FMTTYPE=image/jpeg:https://iwa-prague.com/wp-content/uploads/2022/10/TaiChi_Lebl_CMYK300.jpg
ORGANIZER;CN="Cheryl Caspe":MAILTO:taichi@iwa-prague.com
END:VEVENT
BEGIN:VEVENT
DTSTART;TZID=Europe/Prague:20251021T093000
DTEND;TZID=Europe/Prague:20251021T113000
DTSTAMP:20260425T160257
CREATED:20251108T103811Z
LAST-MODIFIED:20251110T125832Z
UID:10008170-1761039000-1761046200@iwa-prague.com
SUMMARY:Monthly Meeting
DESCRIPTION:
URL:https://iwa-prague.com/event/monthly-meeting-4/2025-10-21/
LOCATION:Anglo American University\, Letenská 120/5\, Prague 1\, Czech Republic
CATEGORIES:Monthly Meeting
ATTACH;FMTTYPE=image/jpeg:https://iwa-prague.com/wp-content/uploads/2024/09/Monthly-Meeting-feature-image-OPT.jpg
ORGANIZER;CN="Leslie Nicholson":MAILTO:president@iwa-prague.com
END:VEVENT
BEGIN:VEVENT
DTSTART;TZID=Europe/Prague:20251021T140000
DTEND;TZID=Europe/Prague:20251021T160000
DTSTAMP:20260425T160257
CREATED:20240926T140013Z
LAST-MODIFIED:20250605T154628Z
UID:10006771-1761055200-1761062400@iwa-prague.com
SUMMARY:Knit & Crochet
DESCRIPTION:
URL:https://iwa-prague.com/event/knitting-crochet-and-small-needlework/2025-10-21/
CATEGORIES:Creative Pursuits & Gourmet
ATTACH;FMTTYPE=image/jpeg:https://iwa-prague.com/wp-content/uploads/2017/02/Knitting-Jul-2021-OPT.jpg
ORGANIZER;CN="Charlotte Sommer":MAILTO:knitting@iwa-prague.com
END:VEVENT
BEGIN:VEVENT
DTSTART;TZID=Europe/Prague:20251022T190000
DTEND;TZID=Europe/Prague:20251022T220000
DTSTAMP:20260425T160257
CREATED:20250328T121338Z
LAST-MODIFIED:20250605T143738Z
UID:10006099-1761159600-1761170400@iwa-prague.com
SUMMARY:Evening Book Club
DESCRIPTION:
URL:https://iwa-prague.com/event/evening-book-club/2025-10-22/
CATEGORIES:Evening Groups
ATTACH;FMTTYPE=image/jpeg:https://iwa-prague.com/wp-content/uploads/2025/03/books-from-connie-OPT.jpg
ORGANIZER;CN="Connie Shattuck":MAILTO:interestgroups@iwa-prague.com
END:VEVENT
BEGIN:VEVENT
DTSTART;TZID=Europe/Prague:20251023T093000
DTEND;TZID=Europe/Prague:20251023T103000
DTSTAMP:20260425T160257
CREATED:20250107T113134Z
LAST-MODIFIED:20251209T160617Z
UID:10000512-1761211800-1761215400@iwa-prague.com
SUMMARY:Dance For Fun
DESCRIPTION:
URL:https://iwa-prague.com/event/dance-for-fun-2/2025-10-23/
CATEGORIES:Health & Wellness
ATTACH;FMTTYPE=image/jpeg:https://iwa-prague.com/wp-content/uploads/2024/09/dance-group.jpg
ORGANIZER;CN="Valerie Stulikova":MAILTO:dance@iwa-prague.com
END:VEVENT
BEGIN:VEVENT
DTSTART;TZID=Europe/Prague:20251023T120000
DTEND;TZID=Europe/Prague:20251023T133000
DTSTAMP:20260425T160257
CREATED:20251002T155607Z
LAST-MODIFIED:20251209T155038Z
UID:10007528-1761220800-1761226200@iwa-prague.com
SUMMARY:Ping Pong
DESCRIPTION:
URL:https://iwa-prague.com/event/ping-pong-2/2025-10-23/
CATEGORIES:Health & Wellness
ATTACH;FMTTYPE=image/jpeg:https://iwa-prague.com/wp-content/uploads/2025/09/table-tennis-4046307_1280-OPT.jpg
ORGANIZER;CN="Pamela Starobin":MAILTO:pingpong@iwa-prague.com
END:VEVENT
BEGIN:VEVENT
DTSTART;TZID=Europe/Prague:20251023T120000
DTEND;TZID=Europe/Prague:20251023T140000
DTSTAMP:20260425T160257
CREATED:20241025T170844Z
LAST-MODIFIED:20260123T112956Z
UID:10007795-1761220800-1761228000@iwa-prague.com
SUMMARY:Lunch Bunch
DESCRIPTION:
URL:https://iwa-prague.com/event/lunch-bunch/2025-10-23/
CATEGORIES:Social Groups
ATTACH;FMTTYPE=image/jpeg:https://iwa-prague.com/wp-content/uploads/2024/10/lunchbunch-group-OPT.jpg
ORGANIZER;CN="Katerina Creedon":MAILTO:lunchbunch@iwa-prague.com
END:VEVENT
BEGIN:VEVENT
DTSTART;TZID=Europe/Prague:20251023T150000
DTEND;TZID=Europe/Prague:20251023T170000
DTSTAMP:20260425T160257
CREATED:20251003T095511Z
LAST-MODIFIED:20251003T095627Z
UID:10007788-1761231600-1761238800@iwa-prague.com
SUMMARY:Discussion on Artificial Intelligence
DESCRIPTION:Join for a session led by IWAP member\, Anna Marie Fifalda\, and current student at Unicorn University\, on an informal talk about Artificial Intelligence. We will explore AI’s history\, present and potential future together. Anna Marie looks forward to this discussion with you and answering any questions you may have. \nWhen: Thursday 23 October \nTime: 15:00 – 17:00 \nWhere: Restaurant Stecha\, Kremencova 7\, Prague 1 \nTo sign up please email culturalevents@iwa-prague.com by 21 October.
URL:https://iwa-prague.com/event/discussion-on-artificial-intelligence/
CATEGORIES:Cultural Events & Excursions
ATTACH;FMTTYPE=image/jpeg:https://iwa-prague.com/wp-content/uploads/2025/10/artificial-intelligence-4389372_1280-OPT.jpg
ORGANIZER;CN="Brigitte Lintner":MAILTO:culturalevents@iwa-prague.com
END:VEVENT
BEGIN:VEVENT
DTSTART;TZID=Europe/Prague:20251024T100000
DTEND;TZID=Europe/Prague:20251024T120000
DTSTAMP:20260425T160257
CREATED:20240926T141157Z
LAST-MODIFIED:20240926T141157Z
UID:10002956-1761300000-1761307200@iwa-prague.com
SUMMARY:Tennis
DESCRIPTION:
URL:https://iwa-prague.com/event/tennis/2025-10-24/
CATEGORIES:Health & Wellness
ATTACH;FMTTYPE=image/jpeg:https://iwa-prague.com/wp-content/uploads/2024/09/tennis-group-sep-2024.jpg
ORGANIZER;CN="Renata Van%C4%9B%C4%8Dkov%C3%A1":MAILTO:tennis@iwa-prague.com
END:VEVENT
BEGIN:VEVENT
DTSTART;TZID=Europe/Prague:20251024T110000
DTEND;TZID=Europe/Prague:20251024T130000
DTSTAMP:20260425T160257
CREATED:20250903T151333Z
LAST-MODIFIED:20250903T151333Z
UID:10007365-1761303600-1761310800@iwa-prague.com
SUMMARY:The History Group
DESCRIPTION:
URL:https://iwa-prague.com/event/the-history-group/2025-10-24/
CATEGORIES:Art & Culture
ATTACH;FMTTYPE=image/jpeg:https://iwa-prague.com/wp-content/uploads/2025/09/trebon-7221190_1280-OPT.jpg
ORGANIZER;CN="Petra Nykodym":MAILTO:history@iwa-prague.com
END:VEVENT
BEGIN:VEVENT
DTSTART;TZID=Europe/Prague:20251027T080000
DTEND;TZID=Europe/Prague:20251027T130000
DTSTAMP:20260425T160257
CREATED:20240926T134840Z
LAST-MODIFIED:20240926T134840Z
UID:10001533-1761552000-1761570000@iwa-prague.com
SUMMARY:Golf
DESCRIPTION:
URL:https://iwa-prague.com/event/golf/2025-10-27/
CATEGORIES:Health & Wellness
ATTACH;FMTTYPE=image/jpeg:https://iwa-prague.com/wp-content/uploads/2021/03/Golf-May-2016-OPT.jpg
ORGANIZER;CN="Isolde Meinken":MAILTO:golf@iwa-prague.com
END:VEVENT
BEGIN:VEVENT
DTSTART;TZID=Europe/Prague:20251028T090000
DTEND;TZID=Europe/Prague:20251028T100000
DTSTAMP:20260425T160257
CREATED:20240926T140857Z
LAST-MODIFIED:20241102T101214Z
UID:10002696-1761642000-1761645600@iwa-prague.com
SUMMARY:Tai Chi Chih
DESCRIPTION:
URL:https://iwa-prague.com/event/tai-chi-chih/2025-10-28/
CATEGORIES:Health & Wellness
ATTACH;FMTTYPE=image/jpeg:https://iwa-prague.com/wp-content/uploads/2022/10/TaiChi_Lebl_CMYK300.jpg
ORGANIZER;CN="Cheryl Caspe":MAILTO:taichi@iwa-prague.com
END:VEVENT
BEGIN:VEVENT
DTSTART;TZID=Europe/Prague:20251028T140000
DTEND;TZID=Europe/Prague:20251028T160000
DTSTAMP:20260425T160257
CREATED:20240926T140013Z
LAST-MODIFIED:20250605T154628Z
UID:10006772-1761660000-1761667200@iwa-prague.com
SUMMARY:Knit & Crochet
DESCRIPTION:
URL:https://iwa-prague.com/event/knitting-crochet-and-small-needlework/2025-10-28/
CATEGORIES:Creative Pursuits & Gourmet
ATTACH;FMTTYPE=image/jpeg:https://iwa-prague.com/wp-content/uploads/2017/02/Knitting-Jul-2021-OPT.jpg
ORGANIZER;CN="Charlotte Sommer":MAILTO:knitting@iwa-prague.com
END:VEVENT
BEGIN:VEVENT
DTSTART;TZID=Europe/Prague:20251029T103000
DTEND;TZID=Europe/Prague:20251029T120000
DTSTAMP:20260425T160257
CREATED:20251017T152738Z
LAST-MODIFIED:20251024T130240Z
UID:10007802-1761733800-1761739200@iwa-prague.com
SUMMARY:AAU History Class
DESCRIPTION:
URL:https://iwa-prague.com/event/aau-history-class/2025-10-29/
CATEGORIES:Cultural Events & Excursions
ORGANIZER;CN="Brigitte Lintner":MAILTO:culturalevents@iwa-prague.com
END:VEVENT
BEGIN:VEVENT
DTSTART;TZID=Europe/Prague:20251029T183000
DTEND;TZID=Europe/Prague:20251029T213000
DTSTAMP:20260425T160257
CREATED:20250523T142029Z
LAST-MODIFIED:20260421T145828Z
UID:10007525-1761762600-1761773400@iwa-prague.com
SUMMARY:Plus One
DESCRIPTION:
URL:https://iwa-prague.com/event/plus-one/2025-10-29/
CATEGORIES:Evening Groups
ATTACH;FMTTYPE=image/jpeg:https://iwa-prague.com/wp-content/uploads/2025/05/plusone-OPT.jpg
ORGANIZER;CN="Vivian Strang":MAILTO:plusone@iwa-prague.com
END:VEVENT
BEGIN:VEVENT
DTSTART;TZID=Europe/Prague:20251030T093000
DTEND;TZID=Europe/Prague:20251030T103000
DTSTAMP:20260425T160257
CREATED:20250107T113134Z
LAST-MODIFIED:20251209T160617Z
UID:10000513-1761816600-1761820200@iwa-prague.com
SUMMARY:Dance For Fun
DESCRIPTION:
URL:https://iwa-prague.com/event/dance-for-fun-2/2025-10-30/
CATEGORIES:Health & Wellness
ATTACH;FMTTYPE=image/jpeg:https://iwa-prague.com/wp-content/uploads/2024/09/dance-group.jpg
ORGANIZER;CN="Valerie Stulikova":MAILTO:dance@iwa-prague.com
END:VEVENT
BEGIN:VEVENT
DTSTART;TZID=Europe/Prague:20251030T120000
DTEND;TZID=Europe/Prague:20251030T133000
DTSTAMP:20260425T160257
CREATED:20251002T155607Z
LAST-MODIFIED:20251209T155038Z
UID:10007529-1761825600-1761831000@iwa-prague.com
SUMMARY:Ping Pong
DESCRIPTION:
URL:https://iwa-prague.com/event/ping-pong-2/2025-10-30/
CATEGORIES:Health & Wellness
ATTACH;FMTTYPE=image/jpeg:https://iwa-prague.com/wp-content/uploads/2025/09/table-tennis-4046307_1280-OPT.jpg
ORGANIZER;CN="Pamela Starobin":MAILTO:pingpong@iwa-prague.com
END:VEVENT
BEGIN:VEVENT
DTSTART;TZID=Europe/Prague:20251031T100000
DTEND;TZID=Europe/Prague:20251031T120000
DTSTAMP:20260425T160257
CREATED:20240926T141157Z
LAST-MODIFIED:20240926T141157Z
UID:10002957-1761904800-1761912000@iwa-prague.com
SUMMARY:Tennis
DESCRIPTION:
URL:https://iwa-prague.com/event/tennis/2025-10-31/
CATEGORIES:Health & Wellness
ATTACH;FMTTYPE=image/jpeg:https://iwa-prague.com/wp-content/uploads/2024/09/tennis-group-sep-2024.jpg
ORGANIZER;CN="Renata Van%C4%9B%C4%8Dkov%C3%A1":MAILTO:tennis@iwa-prague.com
END:VEVENT
BEGIN:VEVENT
DTSTART;TZID=Europe/Prague:20251031T110000
DTEND;TZID=Europe/Prague:20251031T123000
DTSTAMP:20260425T160257
CREATED:20251022T133521Z
LAST-MODIFIED:20260424T130538Z
UID:10007814-1761908400-1761913800@iwa-prague.com
SUMMARY:City Strolls
DESCRIPTION:
URL:https://iwa-prague.com/event/city-strolls/2025-10-31/
CATEGORIES:Health & Wellness
ATTACH;FMTTYPE=image/jpeg:https://iwa-prague.com/wp-content/uploads/2025/10/citystrolls-OPTpg.jpg
ORGANIZER;CN="Ramona Howerton":MAILTO:citystolls@iwa-prague.com
END:VEVENT
BEGIN:VEVENT
DTSTART;TZID=Europe/Prague:20251103T080000
DTEND;TZID=Europe/Prague:20251103T130000
DTSTAMP:20260425T160257
CREATED:20240926T134840Z
LAST-MODIFIED:20240926T134840Z
UID:10001534-1762156800-1762174800@iwa-prague.com
SUMMARY:Golf
DESCRIPTION:
URL:https://iwa-prague.com/event/golf/2025-11-03/
CATEGORIES:Health & Wellness
ATTACH;FMTTYPE=image/jpeg:https://iwa-prague.com/wp-content/uploads/2021/03/Golf-May-2016-OPT.jpg
ORGANIZER;CN="Isolde Meinken":MAILTO:golf@iwa-prague.com
END:VEVENT
BEGIN:VEVENT
DTSTART;TZID=Europe/Prague:20251103T103000
DTEND;TZID=Europe/Prague:20251103T120000
DTSTAMP:20260425T160257
CREATED:20240926T134257Z
LAST-MODIFIED:20251209T154753Z
UID:10005702-1762165800-1762171200@iwa-prague.com
SUMMARY:French Conversation
DESCRIPTION:
URL:https://iwa-prague.com/event/french-conversation/2025-11-03/
CATEGORIES:Languages
ATTACH;FMTTYPE=image/jpeg:https://iwa-prague.com/wp-content/uploads/2021/05/French-Group-reading-2016-OPT3.jpg
ORGANIZER;CN="Dominic Kopecky":MAILTO:french@iwa-prague.com
END:VEVENT
BEGIN:VEVENT
DTSTART;TZID=Europe/Prague:20251103T140000
DTEND;TZID=Europe/Prague:20251103T153000
DTSTAMP:20260425T160257
CREATED:20240926T135507Z
LAST-MODIFIED:20260311T103100Z
UID:10001811-1762178400-1762183800@iwa-prague.com
SUMMARY:Kavarna Hopping
DESCRIPTION:
URL:https://iwa-prague.com/event/kavarna-hopping/2025-11-03/
CATEGORIES:Social Groups
ATTACH;FMTTYPE=image/jpeg:https://iwa-prague.com/wp-content/uploads/2024/09/kavarna-hopping-mar-2023-003-scaled.jpg
ORGANIZER;CN="Kim Strebel / Cathy Meils":MAILTO:kavarna@iwa-prague.com
END:VEVENT
BEGIN:VEVENT
DTSTART;TZID=Europe/Prague:20251104T090000
DTEND;TZID=Europe/Prague:20251104T100000
DTSTAMP:20260425T160257
CREATED:20240926T140857Z
LAST-MODIFIED:20241102T101214Z
UID:10002697-1762246800-1762250400@iwa-prague.com
SUMMARY:Tai Chi Chih
DESCRIPTION:
URL:https://iwa-prague.com/event/tai-chi-chih/2025-11-04/
CATEGORIES:Health & Wellness
ATTACH;FMTTYPE=image/jpeg:https://iwa-prague.com/wp-content/uploads/2022/10/TaiChi_Lebl_CMYK300.jpg
ORGANIZER;CN="Cheryl Caspe":MAILTO:taichi@iwa-prague.com
END:VEVENT
END:VCALENDAR