BEGIN:VCALENDAR
VERSION:2.0
PRODID:-//International Women&#039;s Association of Prague - ECPv6.15.20//NONSGML v1.0//EN
CALSCALE:GREGORIAN
METHOD:PUBLISH
X-ORIGINAL-URL:https://iwa-prague.com
X-WR-CALDESC:Events for International Women&#039;s Association of Prague
REFRESH-INTERVAL;VALUE=DURATION:PT1H
X-Robots-Tag:noindex
X-PUBLISHED-TTL:PT1H
BEGIN:VTIMEZONE
TZID:Europe/Prague
BEGIN:DAYLIGHT
TZOFFSETFROM:+0100
TZOFFSETTO:+0200
TZNAME:CEST
DTSTART:20230326T010000
END:DAYLIGHT
BEGIN:STANDARD
TZOFFSETFROM:+0200
TZOFFSETTO:+0100
TZNAME:CET
DTSTART:20231029T010000
END:STANDARD
BEGIN:DAYLIGHT
TZOFFSETFROM:+0100
TZOFFSETTO:+0200
TZNAME:CEST
DTSTART:20240331T010000
END:DAYLIGHT
BEGIN:STANDARD
TZOFFSETFROM:+0200
TZOFFSETTO:+0100
TZNAME:CET
DTSTART:20241027T010000
END:STANDARD
BEGIN:DAYLIGHT
TZOFFSETFROM:+0100
TZOFFSETTO:+0200
TZNAME:CEST
DTSTART:20250330T010000
END:DAYLIGHT
BEGIN:STANDARD
TZOFFSETFROM:+0200
TZOFFSETTO:+0100
TZNAME:CET
DTSTART:20251026T010000
END:STANDARD
BEGIN:DAYLIGHT
TZOFFSETFROM:+0100
TZOFFSETTO:+0200
TZNAME:CEST
DTSTART:20260329T010000
END:DAYLIGHT
BEGIN:STANDARD
TZOFFSETFROM:+0200
TZOFFSETTO:+0100
TZNAME:CET
DTSTART:20261025T010000
END:STANDARD
BEGIN:DAYLIGHT
TZOFFSETFROM:+0100
TZOFFSETTO:+0200
TZNAME:CEST
DTSTART:20270328T010000
END:DAYLIGHT
BEGIN:STANDARD
TZOFFSETFROM:+0200
TZOFFSETTO:+0100
TZNAME:CET
DTSTART:20271031T010000
END:STANDARD
END:VTIMEZONE
BEGIN:VEVENT
DTSTART;TZID=Europe/Prague:20260228T150000
DTEND;TZID=Europe/Prague:20260228T180000
DTSTAMP:20260421T222610
CREATED:20260130T160603Z
LAST-MODIFIED:20260130T160603Z
UID:10008732-1772290800-1772301600@iwa-prague.com
SUMMARY:Galentine's Afternoon Tea & Bubbles
DESCRIPTION:
URL:https://iwa-prague.com/event/galentines-afternoon-tea-bubbles/
CATEGORIES:Special Events
ATTACH;FMTTYPE=image/png:https://iwa-prague.com/wp-content/uploads/2026/01/galentine-for-website-event.png
ORGANIZER;CN="Leslie Nicholson":MAILTO:president@iwa-prague.com
END:VEVENT
BEGIN:VEVENT
DTSTART;TZID=Europe/Prague:20251206T180000
DTEND;TZID=Europe/Prague:20251206T223000
DTSTAMP:20260421T222610
CREATED:20251010T130629Z
LAST-MODIFIED:20251122T101328Z
UID:10007793-1765044000-1765060200@iwa-prague.com
SUMMARY:Merry Mistletoe Party
DESCRIPTION:Full details of this fun festive occasion can be found in The Bridge Weekly Newsletter!
URL:https://iwa-prague.com/event/merry-mistletoe-party/
CATEGORIES:Special Events
ATTACH;FMTTYPE=image/jpeg:https://iwa-prague.com/wp-content/uploads/2025/10/mistletoe-party-for-web-cal-OPT.jpg
ORGANIZER;CN="Leslie Nicholson":MAILTO:president@iwa-prague.com
END:VEVENT
BEGIN:VEVENT
DTSTART;TZID=Europe/Prague:20250809T120000
DTEND;TZID=Europe/Prague:20250809T160000
DTSTAMP:20260421T222611
CREATED:20250724T151242Z
LAST-MODIFIED:20250724T151430Z
UID:10007307-1754740800-1754755200@iwa-prague.com
SUMMARY:Summer Charity Fundraiser Picnic and Games
DESCRIPTION:For full details of the event please click here. To sign up to this event please click here. \nAt SKP HOPO\, Křovinovo nám. 11/16\, 193 00 Praha 20  \nBUS STOP Třebešovská 141\, 171\, 209. These buses run from Letňany Metro C or Černý Most Metro B.  Please let us know if you would like any help with transport. \nFamily and friends of members are all invited. \nBarbara & Venetia – IWAP Charity Directors charity@iwa-prague.com and read all about how IWAP supports our charities here.
URL:https://iwa-prague.com/event/summer-fundraiser-picnic-and-games/
CATEGORIES:Charity,Special Events
ATTACH;FMTTYPE=image/jpeg:https://iwa-prague.com/wp-content/uploads/2025/07/picnic-8096102_1280-OPT.jpg
ORGANIZER;CN="Barbara Woodard":MAILTO:charity@iwa-prague.com
END:VEVENT
BEGIN:VEVENT
DTSTART;TZID=Europe/Prague:20250426T140000
DTEND;TZID=Europe/Prague:20250426T163000
DTSTAMP:20260421T222611
CREATED:20250328T154750Z
LAST-MODIFIED:20250328T155523Z
UID:10006683-1745676000-1745685000@iwa-prague.com
SUMMARY:Food Unites Us Special Event
DESCRIPTION:FOOD UNITES US  \nJoin us for this special event in the garden of the Pakistani Residence\, where IWAP together with the Pakistani Embassy will come together and celebrate food\, culture\, and community. We will have the opportunity to learn and share in Pakistani food and culture. We will celebrate 75 years of diplomatic cooperation between Prague and Islamabad and raise funds for providing meal vouchers for hunger relief in Prague in support of the charity Místní místním.   \nDon’t miss out on this unique opportunity to celebrate\, connect\, and contribute to the community. Let’s celebrate the spirit of togetherness and cultural exchange! \nSpouses/partners are welcome to join this event.  \nWhen: Saturday 26 April \nTime: 14:00 – 16:30 \nWhere: Pakistani Residence\, Prague \nTo sign up please click here by Saturday 12 April. 
URL:https://iwa-prague.com/event/food-unites-us/
CATEGORIES:Special Events
ATTACH;FMTTYPE=image/jpeg:https://iwa-prague.com/wp-content/uploads/2025/03/party-3655715_1280-OPT.jpg
ORGANIZER;CN="Leslie Nicholson":MAILTO:president@iwa-prague.com
END:VEVENT
BEGIN:VEVENT
DTSTART;TZID=Europe/Prague:20250307T180000
DTEND;TZID=Europe/Prague:20250307T220000
DTSTAMP:20260421T222611
CREATED:20250221T143402Z
LAST-MODIFIED:20250221T143535Z
UID:10006068-1741370400-1741384800@iwa-prague.com
SUMMARY:Jungle Queens Happy Hour
DESCRIPTION:Please refer to The Bridge Weekly Newsletter for more details.
URL:https://iwa-prague.com/event/jungle-queens-happy-hour/
CATEGORIES:Special Events
ATTACH;FMTTYPE=image/jpeg:https://iwa-prague.com/wp-content/uploads/2025/02/7.3-graphics-for-web-cal-OPT.jpg
ORGANIZER;CN="Leslie Nicholson":MAILTO:happyhour@iwa-prague.com
END:VEVENT
BEGIN:VEVENT
DTSTART;TZID=Europe/Prague:20241207T180000
DTEND;TZID=Europe/Prague:20241207T230000
DTSTAMP:20260421T222611
CREATED:20241012T063042Z
LAST-MODIFIED:20241028T154831Z
UID:10005233-1733594400-1733612400@iwa-prague.com
SUMMARY:IWAP Winter Party
DESCRIPTION:What is better than spending a pleasant and relaxing evening with your friends away from the pre-season frenzy? Come and join us for this year’s IWAP Winter Party. \nPerhaps visit the beautiful Christmas market at náměstí Míru on your way – the restaurant is a short walk from there. The evening starts with mulled wine whilst listening to the lovely voices of our IWAP Choir. The ticket price includes a welcome drink\, buffet style dinner of a delicious variety of starters\, a choice of two main courses\, dessert\, wine\, beer\, soft drinks and water. Have fun bidding on our Silent Auction items to raise money for Místní místním’s food vouchers. Maximum space for 40 so do not hesitate to sign up!  \nSpouses/partners are welcome.   \nPlease sign up HERE and payment is required by 27 November.  \nLook forward to seeing you there!
URL:https://iwa-prague.com/event/iwap-winter-party/
LOCATION:Restaurant Sapori\, Americká 875/20\, Prague 2\, 120 00\, Czech Republic
CATEGORIES:Special Events
ATTACH;FMTTYPE=image/jpeg:https://iwa-prague.com/wp-content/uploads/2024/10/winter-party-website-calendarnjpg-OPT.jpg
ORGANIZER;CN="Brigitte Lintner":MAILTO:culturalevents@iwa-prague.com
END:VEVENT
END:VCALENDAR