BEGIN:VCALENDAR
VERSION:2.0
PRODID:-//International Women&#039;s Association of Prague - ECPv6.15.20//NONSGML v1.0//EN
CALSCALE:GREGORIAN
METHOD:PUBLISH
X-WR-CALNAME:International Women&#039;s Association of Prague
X-ORIGINAL-URL:https://iwa-prague.com
X-WR-CALDESC:Events for International Women&#039;s Association of Prague
REFRESH-INTERVAL;VALUE=DURATION:PT1H
X-Robots-Tag:noindex
X-PUBLISHED-TTL:PT1H
BEGIN:VTIMEZONE
TZID:Europe/Prague
BEGIN:DAYLIGHT
TZOFFSETFROM:+0100
TZOFFSETTO:+0200
TZNAME:CEST
DTSTART:20250330T010000
END:DAYLIGHT
BEGIN:STANDARD
TZOFFSETFROM:+0200
TZOFFSETTO:+0100
TZNAME:CET
DTSTART:20251026T010000
END:STANDARD
BEGIN:DAYLIGHT
TZOFFSETFROM:+0100
TZOFFSETTO:+0200
TZNAME:CEST
DTSTART:20260329T010000
END:DAYLIGHT
BEGIN:STANDARD
TZOFFSETFROM:+0200
TZOFFSETTO:+0100
TZNAME:CET
DTSTART:20261025T010000
END:STANDARD
BEGIN:DAYLIGHT
TZOFFSETFROM:+0100
TZOFFSETTO:+0200
TZNAME:CEST
DTSTART:20270328T010000
END:DAYLIGHT
BEGIN:STANDARD
TZOFFSETFROM:+0200
TZOFFSETTO:+0100
TZNAME:CET
DTSTART:20271031T010000
END:STANDARD
BEGIN:DAYLIGHT
TZOFFSETFROM:+0100
TZOFFSETTO:+0200
TZNAME:CEST
DTSTART:20280326T010000
END:DAYLIGHT
BEGIN:STANDARD
TZOFFSETFROM:+0200
TZOFFSETTO:+0100
TZNAME:CET
DTSTART:20281029T010000
END:STANDARD
BEGIN:DAYLIGHT
TZOFFSETFROM:+0100
TZOFFSETTO:+0200
TZNAME:CEST
DTSTART:20290325T010000
END:DAYLIGHT
BEGIN:STANDARD
TZOFFSETFROM:+0200
TZOFFSETTO:+0100
TZNAME:CET
DTSTART:20291028T010000
END:STANDARD
END:VTIMEZONE
BEGIN:VEVENT
DTSTART;TZID=Europe/Prague:20260511T123000
DTEND;TZID=Europe/Prague:20260511T143000
DTSTAMP:20260422T030242
CREATED:20240926T142010Z
LAST-MODIFIED:20251125T135042Z
UID:10003180-1778502600-1778509800@iwa-prague.com
SUMMARY:Friends at the Table
DESCRIPTION:
URL:https://iwa-prague.com/event/newcomers-lunch-3/2026-05-11/
LOCATION:Manes Restaurant\, Masarykovo nábř. 250/1\, Czech Republic
CATEGORIES:Newcomers Lunch
ATTACH;FMTTYPE=image/jpeg:https://iwa-prague.com/wp-content/uploads/2024/09/newcomers-OPT.jpg
ORGANIZER;CN="Shirley Lanzieri":MAILTO:membership@iwa-prague.com
END:VEVENT
BEGIN:VEVENT
DTSTART;TZID=Europe/Prague:20260608T123000
DTEND;TZID=Europe/Prague:20260608T143000
DTSTAMP:20260422T030242
CREATED:20240926T142010Z
LAST-MODIFIED:20251125T135042Z
UID:10003181-1780921800-1780929000@iwa-prague.com
SUMMARY:Friends at the Table
DESCRIPTION:
URL:https://iwa-prague.com/event/newcomers-lunch-3/2026-06-08/
LOCATION:Manes Restaurant\, Masarykovo nábř. 250/1\, Czech Republic
CATEGORIES:Newcomers Lunch
ATTACH;FMTTYPE=image/jpeg:https://iwa-prague.com/wp-content/uploads/2024/09/newcomers-OPT.jpg
ORGANIZER;CN="Shirley Lanzieri":MAILTO:membership@iwa-prague.com
END:VEVENT
BEGIN:VEVENT
DTSTART;TZID=Europe/Prague:20260713T123000
DTEND;TZID=Europe/Prague:20260713T143000
DTSTAMP:20260422T030242
CREATED:20240926T142010Z
LAST-MODIFIED:20251125T135042Z
UID:10003182-1783945800-1783953000@iwa-prague.com
SUMMARY:Friends at the Table
DESCRIPTION:
URL:https://iwa-prague.com/event/newcomers-lunch-3/2026-07-13/
LOCATION:Manes Restaurant\, Masarykovo nábř. 250/1\, Czech Republic
CATEGORIES:Newcomers Lunch
ATTACH;FMTTYPE=image/jpeg:https://iwa-prague.com/wp-content/uploads/2024/09/newcomers-OPT.jpg
ORGANIZER;CN="Shirley Lanzieri":MAILTO:membership@iwa-prague.com
END:VEVENT
BEGIN:VEVENT
DTSTART;TZID=Europe/Prague:20260810T123000
DTEND;TZID=Europe/Prague:20260810T143000
DTSTAMP:20260422T030242
CREATED:20240926T142010Z
LAST-MODIFIED:20251125T135042Z
UID:10003183-1786365000-1786372200@iwa-prague.com
SUMMARY:Friends at the Table
DESCRIPTION:
URL:https://iwa-prague.com/event/newcomers-lunch-3/2026-08-10/
LOCATION:Manes Restaurant\, Masarykovo nábř. 250/1\, Czech Republic
CATEGORIES:Newcomers Lunch
ATTACH;FMTTYPE=image/jpeg:https://iwa-prague.com/wp-content/uploads/2024/09/newcomers-OPT.jpg
ORGANIZER;CN="Shirley Lanzieri":MAILTO:membership@iwa-prague.com
END:VEVENT
BEGIN:VEVENT
DTSTART;TZID=Europe/Prague:20260914T123000
DTEND;TZID=Europe/Prague:20260914T143000
DTSTAMP:20260422T030242
CREATED:20240926T142010Z
LAST-MODIFIED:20251125T135042Z
UID:10003184-1789389000-1789396200@iwa-prague.com
SUMMARY:Friends at the Table
DESCRIPTION:
URL:https://iwa-prague.com/event/newcomers-lunch-3/2026-09-14/
LOCATION:Manes Restaurant\, Masarykovo nábř. 250/1\, Czech Republic
CATEGORIES:Newcomers Lunch
ATTACH;FMTTYPE=image/jpeg:https://iwa-prague.com/wp-content/uploads/2024/09/newcomers-OPT.jpg
ORGANIZER;CN="Shirley Lanzieri":MAILTO:membership@iwa-prague.com
END:VEVENT
BEGIN:VEVENT
DTSTART;TZID=Europe/Prague:20261012T123000
DTEND;TZID=Europe/Prague:20261012T143000
DTSTAMP:20260422T030242
CREATED:20240926T142010Z
LAST-MODIFIED:20251125T135042Z
UID:10003185-1791808200-1791815400@iwa-prague.com
SUMMARY:Friends at the Table
DESCRIPTION:
URL:https://iwa-prague.com/event/newcomers-lunch-3/2026-10-12/
LOCATION:Manes Restaurant\, Masarykovo nábř. 250/1\, Czech Republic
CATEGORIES:Newcomers Lunch
ATTACH;FMTTYPE=image/jpeg:https://iwa-prague.com/wp-content/uploads/2024/09/newcomers-OPT.jpg
ORGANIZER;CN="Shirley Lanzieri":MAILTO:membership@iwa-prague.com
END:VEVENT
BEGIN:VEVENT
DTSTART;TZID=Europe/Prague:20261109T123000
DTEND;TZID=Europe/Prague:20261109T143000
DTSTAMP:20260422T030242
CREATED:20240926T142010Z
LAST-MODIFIED:20251125T135042Z
UID:10003186-1794227400-1794234600@iwa-prague.com
SUMMARY:Friends at the Table
DESCRIPTION:
URL:https://iwa-prague.com/event/newcomers-lunch-3/2026-11-09/
LOCATION:Manes Restaurant\, Masarykovo nábř. 250/1\, Czech Republic
CATEGORIES:Newcomers Lunch
ATTACH;FMTTYPE=image/jpeg:https://iwa-prague.com/wp-content/uploads/2024/09/newcomers-OPT.jpg
ORGANIZER;CN="Shirley Lanzieri":MAILTO:membership@iwa-prague.com
END:VEVENT
BEGIN:VEVENT
DTSTART;TZID=Europe/Prague:20261214T123000
DTEND;TZID=Europe/Prague:20261214T143000
DTSTAMP:20260422T030242
CREATED:20240926T142010Z
LAST-MODIFIED:20251125T135042Z
UID:10003187-1797251400-1797258600@iwa-prague.com
SUMMARY:Friends at the Table
DESCRIPTION:
URL:https://iwa-prague.com/event/newcomers-lunch-3/2026-12-14/
LOCATION:Manes Restaurant\, Masarykovo nábř. 250/1\, Czech Republic
CATEGORIES:Newcomers Lunch
ATTACH;FMTTYPE=image/jpeg:https://iwa-prague.com/wp-content/uploads/2024/09/newcomers-OPT.jpg
ORGANIZER;CN="Shirley Lanzieri":MAILTO:membership@iwa-prague.com
END:VEVENT
BEGIN:VEVENT
DTSTART;TZID=Europe/Prague:20270111T123000
DTEND;TZID=Europe/Prague:20270111T143000
DTSTAMP:20260422T030242
CREATED:20240926T142010Z
LAST-MODIFIED:20251125T135042Z
UID:10003188-1799670600-1799677800@iwa-prague.com
SUMMARY:Friends at the Table
DESCRIPTION:
URL:https://iwa-prague.com/event/newcomers-lunch-3/2027-01-11/
LOCATION:Manes Restaurant\, Masarykovo nábř. 250/1\, Czech Republic
CATEGORIES:Newcomers Lunch
ATTACH;FMTTYPE=image/jpeg:https://iwa-prague.com/wp-content/uploads/2024/09/newcomers-OPT.jpg
ORGANIZER;CN="Shirley Lanzieri":MAILTO:membership@iwa-prague.com
END:VEVENT
BEGIN:VEVENT
DTSTART;TZID=Europe/Prague:20270208T123000
DTEND;TZID=Europe/Prague:20270208T143000
DTSTAMP:20260422T030242
CREATED:20240926T142010Z
LAST-MODIFIED:20251125T135042Z
UID:10003189-1802089800-1802097000@iwa-prague.com
SUMMARY:Friends at the Table
DESCRIPTION:
URL:https://iwa-prague.com/event/newcomers-lunch-3/2027-02-08/
LOCATION:Manes Restaurant\, Masarykovo nábř. 250/1\, Czech Republic
CATEGORIES:Newcomers Lunch
ATTACH;FMTTYPE=image/jpeg:https://iwa-prague.com/wp-content/uploads/2024/09/newcomers-OPT.jpg
ORGANIZER;CN="Shirley Lanzieri":MAILTO:membership@iwa-prague.com
END:VEVENT
BEGIN:VEVENT
DTSTART;TZID=Europe/Prague:20270308T123000
DTEND;TZID=Europe/Prague:20270308T143000
DTSTAMP:20260422T030242
CREATED:20240926T142010Z
LAST-MODIFIED:20251125T135042Z
UID:10003190-1804509000-1804516200@iwa-prague.com
SUMMARY:Friends at the Table
DESCRIPTION:
URL:https://iwa-prague.com/event/newcomers-lunch-3/2027-03-08/
LOCATION:Manes Restaurant\, Masarykovo nábř. 250/1\, Czech Republic
CATEGORIES:Newcomers Lunch
ATTACH;FMTTYPE=image/jpeg:https://iwa-prague.com/wp-content/uploads/2024/09/newcomers-OPT.jpg
ORGANIZER;CN="Shirley Lanzieri":MAILTO:membership@iwa-prague.com
END:VEVENT
BEGIN:VEVENT
DTSTART;TZID=Europe/Prague:20270412T123000
DTEND;TZID=Europe/Prague:20270412T143000
DTSTAMP:20260422T030242
CREATED:20240926T142010Z
LAST-MODIFIED:20251125T135042Z
UID:10003191-1807533000-1807540200@iwa-prague.com
SUMMARY:Friends at the Table
DESCRIPTION:
URL:https://iwa-prague.com/event/newcomers-lunch-3/2027-04-12/
LOCATION:Manes Restaurant\, Masarykovo nábř. 250/1\, Czech Republic
CATEGORIES:Newcomers Lunch
ATTACH;FMTTYPE=image/jpeg:https://iwa-prague.com/wp-content/uploads/2024/09/newcomers-OPT.jpg
ORGANIZER;CN="Shirley Lanzieri":MAILTO:membership@iwa-prague.com
END:VEVENT
BEGIN:VEVENT
DTSTART;TZID=Europe/Prague:20270510T123000
DTEND;TZID=Europe/Prague:20270510T143000
DTSTAMP:20260422T030242
CREATED:20240926T142010Z
LAST-MODIFIED:20251125T135042Z
UID:10003192-1809952200-1809959400@iwa-prague.com
SUMMARY:Friends at the Table
DESCRIPTION:
URL:https://iwa-prague.com/event/newcomers-lunch-3/2027-05-10/
LOCATION:Manes Restaurant\, Masarykovo nábř. 250/1\, Czech Republic
CATEGORIES:Newcomers Lunch
ATTACH;FMTTYPE=image/jpeg:https://iwa-prague.com/wp-content/uploads/2024/09/newcomers-OPT.jpg
ORGANIZER;CN="Shirley Lanzieri":MAILTO:membership@iwa-prague.com
END:VEVENT
BEGIN:VEVENT
DTSTART;TZID=Europe/Prague:20270614T123000
DTEND;TZID=Europe/Prague:20270614T143000
DTSTAMP:20260422T030242
CREATED:20240926T142010Z
LAST-MODIFIED:20251125T135042Z
UID:10003193-1812976200-1812983400@iwa-prague.com
SUMMARY:Friends at the Table
DESCRIPTION:
URL:https://iwa-prague.com/event/newcomers-lunch-3/2027-06-14/
LOCATION:Manes Restaurant\, Masarykovo nábř. 250/1\, Czech Republic
CATEGORIES:Newcomers Lunch
ATTACH;FMTTYPE=image/jpeg:https://iwa-prague.com/wp-content/uploads/2024/09/newcomers-OPT.jpg
ORGANIZER;CN="Shirley Lanzieri":MAILTO:membership@iwa-prague.com
END:VEVENT
BEGIN:VEVENT
DTSTART;TZID=Europe/Prague:20270712T123000
DTEND;TZID=Europe/Prague:20270712T143000
DTSTAMP:20260422T030242
CREATED:20240926T142010Z
LAST-MODIFIED:20251125T135042Z
UID:10003194-1815395400-1815402600@iwa-prague.com
SUMMARY:Friends at the Table
DESCRIPTION:
URL:https://iwa-prague.com/event/newcomers-lunch-3/2027-07-12/
LOCATION:Manes Restaurant\, Masarykovo nábř. 250/1\, Czech Republic
CATEGORIES:Newcomers Lunch
ATTACH;FMTTYPE=image/jpeg:https://iwa-prague.com/wp-content/uploads/2024/09/newcomers-OPT.jpg
ORGANIZER;CN="Shirley Lanzieri":MAILTO:membership@iwa-prague.com
END:VEVENT
BEGIN:VEVENT
DTSTART;TZID=Europe/Prague:20270809T123000
DTEND;TZID=Europe/Prague:20270809T143000
DTSTAMP:20260422T030242
CREATED:20240926T142010Z
LAST-MODIFIED:20251125T135042Z
UID:10003195-1817814600-1817821800@iwa-prague.com
SUMMARY:Friends at the Table
DESCRIPTION:
URL:https://iwa-prague.com/event/newcomers-lunch-3/2027-08-09/
LOCATION:Manes Restaurant\, Masarykovo nábř. 250/1\, Czech Republic
CATEGORIES:Newcomers Lunch
ATTACH;FMTTYPE=image/jpeg:https://iwa-prague.com/wp-content/uploads/2024/09/newcomers-OPT.jpg
ORGANIZER;CN="Shirley Lanzieri":MAILTO:membership@iwa-prague.com
END:VEVENT
BEGIN:VEVENT
DTSTART;TZID=Europe/Prague:20270913T123000
DTEND;TZID=Europe/Prague:20270913T143000
DTSTAMP:20260422T030242
CREATED:20240926T142010Z
LAST-MODIFIED:20251125T135042Z
UID:10003196-1820838600-1820845800@iwa-prague.com
SUMMARY:Friends at the Table
DESCRIPTION:
URL:https://iwa-prague.com/event/newcomers-lunch-3/2027-09-13/
LOCATION:Manes Restaurant\, Masarykovo nábř. 250/1\, Czech Republic
CATEGORIES:Newcomers Lunch
ATTACH;FMTTYPE=image/jpeg:https://iwa-prague.com/wp-content/uploads/2024/09/newcomers-OPT.jpg
ORGANIZER;CN="Shirley Lanzieri":MAILTO:membership@iwa-prague.com
END:VEVENT
BEGIN:VEVENT
DTSTART;TZID=Europe/Prague:20271011T123000
DTEND;TZID=Europe/Prague:20271011T143000
DTSTAMP:20260422T030242
CREATED:20240926T142010Z
LAST-MODIFIED:20251125T135042Z
UID:10003197-1823257800-1823265000@iwa-prague.com
SUMMARY:Friends at the Table
DESCRIPTION:
URL:https://iwa-prague.com/event/newcomers-lunch-3/2027-10-11/
LOCATION:Manes Restaurant\, Masarykovo nábř. 250/1\, Czech Republic
CATEGORIES:Newcomers Lunch
ATTACH;FMTTYPE=image/jpeg:https://iwa-prague.com/wp-content/uploads/2024/09/newcomers-OPT.jpg
ORGANIZER;CN="Shirley Lanzieri":MAILTO:membership@iwa-prague.com
END:VEVENT
BEGIN:VEVENT
DTSTART;TZID=Europe/Prague:20271108T123000
DTEND;TZID=Europe/Prague:20271108T143000
DTSTAMP:20260422T030242
CREATED:20240926T142010Z
LAST-MODIFIED:20251125T135042Z
UID:10003198-1825677000-1825684200@iwa-prague.com
SUMMARY:Friends at the Table
DESCRIPTION:
URL:https://iwa-prague.com/event/newcomers-lunch-3/2027-11-08/
LOCATION:Manes Restaurant\, Masarykovo nábř. 250/1\, Czech Republic
CATEGORIES:Newcomers Lunch
ATTACH;FMTTYPE=image/jpeg:https://iwa-prague.com/wp-content/uploads/2024/09/newcomers-OPT.jpg
ORGANIZER;CN="Shirley Lanzieri":MAILTO:membership@iwa-prague.com
END:VEVENT
BEGIN:VEVENT
DTSTART;TZID=Europe/Prague:20271213T123000
DTEND;TZID=Europe/Prague:20271213T143000
DTSTAMP:20260422T030242
CREATED:20240926T142010Z
LAST-MODIFIED:20251125T135042Z
UID:10003199-1828701000-1828708200@iwa-prague.com
SUMMARY:Friends at the Table
DESCRIPTION:
URL:https://iwa-prague.com/event/newcomers-lunch-3/2027-12-13/
LOCATION:Manes Restaurant\, Masarykovo nábř. 250/1\, Czech Republic
CATEGORIES:Newcomers Lunch
ATTACH;FMTTYPE=image/jpeg:https://iwa-prague.com/wp-content/uploads/2024/09/newcomers-OPT.jpg
ORGANIZER;CN="Shirley Lanzieri":MAILTO:membership@iwa-prague.com
END:VEVENT
BEGIN:VEVENT
DTSTART;TZID=Europe/Prague:20280110T123000
DTEND;TZID=Europe/Prague:20280110T143000
DTSTAMP:20260422T030242
CREATED:20240926T142010Z
LAST-MODIFIED:20251125T135042Z
UID:10003200-1831120200-1831127400@iwa-prague.com
SUMMARY:Friends at the Table
DESCRIPTION:
URL:https://iwa-prague.com/event/newcomers-lunch-3/2028-01-10/
LOCATION:Manes Restaurant\, Masarykovo nábř. 250/1\, Czech Republic
CATEGORIES:Newcomers Lunch
ATTACH;FMTTYPE=image/jpeg:https://iwa-prague.com/wp-content/uploads/2024/09/newcomers-OPT.jpg
ORGANIZER;CN="Shirley Lanzieri":MAILTO:membership@iwa-prague.com
END:VEVENT
BEGIN:VEVENT
DTSTART;TZID=Europe/Prague:20280214T123000
DTEND;TZID=Europe/Prague:20280214T143000
DTSTAMP:20260422T030242
CREATED:20240926T142010Z
LAST-MODIFIED:20251125T135042Z
UID:10003201-1834144200-1834151400@iwa-prague.com
SUMMARY:Friends at the Table
DESCRIPTION:
URL:https://iwa-prague.com/event/newcomers-lunch-3/2028-02-14/
LOCATION:Manes Restaurant\, Masarykovo nábř. 250/1\, Czech Republic
CATEGORIES:Newcomers Lunch
ATTACH;FMTTYPE=image/jpeg:https://iwa-prague.com/wp-content/uploads/2024/09/newcomers-OPT.jpg
ORGANIZER;CN="Shirley Lanzieri":MAILTO:membership@iwa-prague.com
END:VEVENT
BEGIN:VEVENT
DTSTART;TZID=Europe/Prague:20280313T123000
DTEND;TZID=Europe/Prague:20280313T143000
DTSTAMP:20260422T030242
CREATED:20240926T142010Z
LAST-MODIFIED:20251125T135042Z
UID:10003202-1836563400-1836570600@iwa-prague.com
SUMMARY:Friends at the Table
DESCRIPTION:
URL:https://iwa-prague.com/event/newcomers-lunch-3/2028-03-13/
LOCATION:Manes Restaurant\, Masarykovo nábř. 250/1\, Czech Republic
CATEGORIES:Newcomers Lunch
ATTACH;FMTTYPE=image/jpeg:https://iwa-prague.com/wp-content/uploads/2024/09/newcomers-OPT.jpg
ORGANIZER;CN="Shirley Lanzieri":MAILTO:membership@iwa-prague.com
END:VEVENT
BEGIN:VEVENT
DTSTART;TZID=Europe/Prague:20280410T123000
DTEND;TZID=Europe/Prague:20280410T143000
DTSTAMP:20260422T030242
CREATED:20240926T142010Z
LAST-MODIFIED:20251125T135042Z
UID:10003203-1838982600-1838989800@iwa-prague.com
SUMMARY:Friends at the Table
DESCRIPTION:
URL:https://iwa-prague.com/event/newcomers-lunch-3/2028-04-10/
LOCATION:Manes Restaurant\, Masarykovo nábř. 250/1\, Czech Republic
CATEGORIES:Newcomers Lunch
ATTACH;FMTTYPE=image/jpeg:https://iwa-prague.com/wp-content/uploads/2024/09/newcomers-OPT.jpg
ORGANIZER;CN="Shirley Lanzieri":MAILTO:membership@iwa-prague.com
END:VEVENT
BEGIN:VEVENT
DTSTART;TZID=Europe/Prague:20280508T123000
DTEND;TZID=Europe/Prague:20280508T143000
DTSTAMP:20260422T030242
CREATED:20240926T142010Z
LAST-MODIFIED:20251125T135042Z
UID:10003204-1841401800-1841409000@iwa-prague.com
SUMMARY:Friends at the Table
DESCRIPTION:
URL:https://iwa-prague.com/event/newcomers-lunch-3/2028-05-08/
LOCATION:Manes Restaurant\, Masarykovo nábř. 250/1\, Czech Republic
CATEGORIES:Newcomers Lunch
ATTACH;FMTTYPE=image/jpeg:https://iwa-prague.com/wp-content/uploads/2024/09/newcomers-OPT.jpg
ORGANIZER;CN="Shirley Lanzieri":MAILTO:membership@iwa-prague.com
END:VEVENT
BEGIN:VEVENT
DTSTART;TZID=Europe/Prague:20280612T123000
DTEND;TZID=Europe/Prague:20280612T143000
DTSTAMP:20260422T030242
CREATED:20240926T142010Z
LAST-MODIFIED:20251125T135042Z
UID:10003205-1844425800-1844433000@iwa-prague.com
SUMMARY:Friends at the Table
DESCRIPTION:
URL:https://iwa-prague.com/event/newcomers-lunch-3/2028-06-12/
LOCATION:Manes Restaurant\, Masarykovo nábř. 250/1\, Czech Republic
CATEGORIES:Newcomers Lunch
ATTACH;FMTTYPE=image/jpeg:https://iwa-prague.com/wp-content/uploads/2024/09/newcomers-OPT.jpg
ORGANIZER;CN="Shirley Lanzieri":MAILTO:membership@iwa-prague.com
END:VEVENT
BEGIN:VEVENT
DTSTART;TZID=Europe/Prague:20280710T123000
DTEND;TZID=Europe/Prague:20280710T143000
DTSTAMP:20260422T030242
CREATED:20240926T142010Z
LAST-MODIFIED:20251125T135042Z
UID:10003206-1846845000-1846852200@iwa-prague.com
SUMMARY:Friends at the Table
DESCRIPTION:
URL:https://iwa-prague.com/event/newcomers-lunch-3/2028-07-10/
LOCATION:Manes Restaurant\, Masarykovo nábř. 250/1\, Czech Republic
CATEGORIES:Newcomers Lunch
ATTACH;FMTTYPE=image/jpeg:https://iwa-prague.com/wp-content/uploads/2024/09/newcomers-OPT.jpg
ORGANIZER;CN="Shirley Lanzieri":MAILTO:membership@iwa-prague.com
END:VEVENT
BEGIN:VEVENT
DTSTART;TZID=Europe/Prague:20280814T123000
DTEND;TZID=Europe/Prague:20280814T143000
DTSTAMP:20260422T030242
CREATED:20240926T142010Z
LAST-MODIFIED:20251125T135042Z
UID:10003207-1849869000-1849876200@iwa-prague.com
SUMMARY:Friends at the Table
DESCRIPTION:
URL:https://iwa-prague.com/event/newcomers-lunch-3/2028-08-14/
LOCATION:Manes Restaurant\, Masarykovo nábř. 250/1\, Czech Republic
CATEGORIES:Newcomers Lunch
ATTACH;FMTTYPE=image/jpeg:https://iwa-prague.com/wp-content/uploads/2024/09/newcomers-OPT.jpg
ORGANIZER;CN="Shirley Lanzieri":MAILTO:membership@iwa-prague.com
END:VEVENT
BEGIN:VEVENT
DTSTART;TZID=Europe/Prague:20280911T123000
DTEND;TZID=Europe/Prague:20280911T143000
DTSTAMP:20260422T030242
CREATED:20240926T142010Z
LAST-MODIFIED:20251125T135042Z
UID:10003208-1852288200-1852295400@iwa-prague.com
SUMMARY:Friends at the Table
DESCRIPTION:
URL:https://iwa-prague.com/event/newcomers-lunch-3/2028-09-11/
LOCATION:Manes Restaurant\, Masarykovo nábř. 250/1\, Czech Republic
CATEGORIES:Newcomers Lunch
ATTACH;FMTTYPE=image/jpeg:https://iwa-prague.com/wp-content/uploads/2024/09/newcomers-OPT.jpg
ORGANIZER;CN="Shirley Lanzieri":MAILTO:membership@iwa-prague.com
END:VEVENT
BEGIN:VEVENT
DTSTART;TZID=Europe/Prague:20281009T123000
DTEND;TZID=Europe/Prague:20281009T143000
DTSTAMP:20260422T030242
CREATED:20240926T142010Z
LAST-MODIFIED:20251125T135042Z
UID:10003209-1854707400-1854714600@iwa-prague.com
SUMMARY:Friends at the Table
DESCRIPTION:
URL:https://iwa-prague.com/event/newcomers-lunch-3/2028-10-09/
LOCATION:Manes Restaurant\, Masarykovo nábř. 250/1\, Czech Republic
CATEGORIES:Newcomers Lunch
ATTACH;FMTTYPE=image/jpeg:https://iwa-prague.com/wp-content/uploads/2024/09/newcomers-OPT.jpg
ORGANIZER;CN="Shirley Lanzieri":MAILTO:membership@iwa-prague.com
END:VEVENT
END:VCALENDAR