BEGIN:VCALENDAR
VERSION:2.0
PRODID:-//International Women&#039;s Association of Prague - ECPv6.15.20//NONSGML v1.0//EN
CALSCALE:GREGORIAN
METHOD:PUBLISH
X-ORIGINAL-URL:https://iwa-prague.com
X-WR-CALDESC:Events for International Women&#039;s Association of Prague
REFRESH-INTERVAL;VALUE=DURATION:PT1H
X-Robots-Tag:noindex
X-PUBLISHED-TTL:PT1H
BEGIN:VTIMEZONE
TZID:Europe/Prague
BEGIN:DAYLIGHT
TZOFFSETFROM:+0100
TZOFFSETTO:+0200
TZNAME:CEST
DTSTART:20230326T010000
END:DAYLIGHT
BEGIN:STANDARD
TZOFFSETFROM:+0200
TZOFFSETTO:+0100
TZNAME:CET
DTSTART:20231029T010000
END:STANDARD
BEGIN:DAYLIGHT
TZOFFSETFROM:+0100
TZOFFSETTO:+0200
TZNAME:CEST
DTSTART:20240331T010000
END:DAYLIGHT
BEGIN:STANDARD
TZOFFSETFROM:+0200
TZOFFSETTO:+0100
TZNAME:CET
DTSTART:20241027T010000
END:STANDARD
BEGIN:DAYLIGHT
TZOFFSETFROM:+0100
TZOFFSETTO:+0200
TZNAME:CEST
DTSTART:20250330T010000
END:DAYLIGHT
BEGIN:STANDARD
TZOFFSETFROM:+0200
TZOFFSETTO:+0100
TZNAME:CET
DTSTART:20251026T010000
END:STANDARD
BEGIN:DAYLIGHT
TZOFFSETFROM:+0100
TZOFFSETTO:+0200
TZNAME:CEST
DTSTART:20260329T010000
END:DAYLIGHT
BEGIN:STANDARD
TZOFFSETFROM:+0200
TZOFFSETTO:+0100
TZNAME:CET
DTSTART:20261025T010000
END:STANDARD
BEGIN:DAYLIGHT
TZOFFSETFROM:+0100
TZOFFSETTO:+0200
TZNAME:CEST
DTSTART:20270328T010000
END:DAYLIGHT
BEGIN:STANDARD
TZOFFSETFROM:+0200
TZOFFSETTO:+0100
TZNAME:CET
DTSTART:20271031T010000
END:STANDARD
END:VTIMEZONE
BEGIN:VEVENT
DTSTART;TZID=Europe/Prague:20260413T123000
DTEND;TZID=Europe/Prague:20260413T143000
DTSTAMP:20260422T061825
CREATED:20240926T142010Z
LAST-MODIFIED:20251125T135042Z
UID:10003179-1776083400-1776090600@iwa-prague.com
SUMMARY:Friends at the Table
DESCRIPTION:
URL:https://iwa-prague.com/event/newcomers-lunch-3/2026-04-13/
LOCATION:Manes Restaurant\, Masarykovo nábř. 250/1\, Czech Republic
CATEGORIES:Newcomers Lunch
ATTACH;FMTTYPE=image/jpeg:https://iwa-prague.com/wp-content/uploads/2024/09/newcomers-OPT.jpg
ORGANIZER;CN="Shirley Lanzieri":MAILTO:membership@iwa-prague.com
END:VEVENT
BEGIN:VEVENT
DTSTART;TZID=Europe/Prague:20260309T123000
DTEND;TZID=Europe/Prague:20260309T143000
DTSTAMP:20260422T061825
CREATED:20240926T142010Z
LAST-MODIFIED:20251125T135042Z
UID:10003178-1773059400-1773066600@iwa-prague.com
SUMMARY:Friends at the Table
DESCRIPTION:
URL:https://iwa-prague.com/event/newcomers-lunch-3/2026-03-09/
LOCATION:Manes Restaurant\, Masarykovo nábř. 250/1\, Czech Republic
CATEGORIES:Newcomers Lunch
ATTACH;FMTTYPE=image/jpeg:https://iwa-prague.com/wp-content/uploads/2024/09/newcomers-OPT.jpg
ORGANIZER;CN="Shirley Lanzieri":MAILTO:membership@iwa-prague.com
END:VEVENT
BEGIN:VEVENT
DTSTART;TZID=Europe/Prague:20260209T123000
DTEND;TZID=Europe/Prague:20260209T143000
DTSTAMP:20260422T061825
CREATED:20240926T142010Z
LAST-MODIFIED:20251125T135042Z
UID:10003177-1770640200-1770647400@iwa-prague.com
SUMMARY:Friends at the Table
DESCRIPTION:
URL:https://iwa-prague.com/event/newcomers-lunch-3/2026-02-09/
LOCATION:Manes Restaurant\, Masarykovo nábř. 250/1\, Czech Republic
CATEGORIES:Newcomers Lunch
ATTACH;FMTTYPE=image/jpeg:https://iwa-prague.com/wp-content/uploads/2024/09/newcomers-OPT.jpg
ORGANIZER;CN="Shirley Lanzieri":MAILTO:membership@iwa-prague.com
END:VEVENT
BEGIN:VEVENT
DTSTART;TZID=Europe/Prague:20251110T123000
DTEND;TZID=Europe/Prague:20251110T143000
DTSTAMP:20260422T061825
CREATED:20240926T142010Z
LAST-MODIFIED:20251125T135042Z
UID:10003174-1762777800-1762785000@iwa-prague.com
SUMMARY:Friends at the Table
DESCRIPTION:
URL:https://iwa-prague.com/event/newcomers-lunch-3/2025-11-10/
LOCATION:Manes Restaurant\, Masarykovo nábř. 250/1\, Czech Republic
CATEGORIES:Newcomers Lunch
ATTACH;FMTTYPE=image/jpeg:https://iwa-prague.com/wp-content/uploads/2024/09/newcomers-OPT.jpg
ORGANIZER;CN="Shirley Lanzieri":MAILTO:membership@iwa-prague.com
END:VEVENT
BEGIN:VEVENT
DTSTART;TZID=Europe/Prague:20251013T123000
DTEND;TZID=Europe/Prague:20251013T143000
DTSTAMP:20260422T061825
CREATED:20240926T142010Z
LAST-MODIFIED:20251125T135042Z
UID:10003173-1760358600-1760365800@iwa-prague.com
SUMMARY:Friends at the Table
DESCRIPTION:
URL:https://iwa-prague.com/event/newcomers-lunch-3/2025-10-13/
LOCATION:Manes Restaurant\, Masarykovo nábř. 250/1\, Czech Republic
CATEGORIES:Newcomers Lunch
ATTACH;FMTTYPE=image/jpeg:https://iwa-prague.com/wp-content/uploads/2024/09/newcomers-OPT.jpg
ORGANIZER;CN="Shirley Lanzieri":MAILTO:membership@iwa-prague.com
END:VEVENT
BEGIN:VEVENT
DTSTART;TZID=Europe/Prague:20250908T123000
DTEND;TZID=Europe/Prague:20250908T143000
DTSTAMP:20260422T061825
CREATED:20240926T142010Z
LAST-MODIFIED:20251125T135042Z
UID:10007346-1757334600-1757341800@iwa-prague.com
SUMMARY:Friends at the Table
DESCRIPTION:
URL:https://iwa-prague.com/event/newcomers-lunch-3/2025-09-08/
LOCATION:Manes Restaurant\, Masarykovo nábř. 250/1\, Czech Republic
CATEGORIES:Newcomers Lunch
ATTACH;FMTTYPE=image/jpeg:https://iwa-prague.com/wp-content/uploads/2024/09/newcomers-OPT.jpg
ORGANIZER;CN="Shirley Lanzieri":MAILTO:membership@iwa-prague.com
END:VEVENT
BEGIN:VEVENT
DTSTART;TZID=Europe/Prague:20250821T190000
DTEND;TZID=Europe/Prague:20250821T220000
DTSTAMP:20260422T061825
CREATED:20250707T143940Z
LAST-MODIFIED:20250801T140803Z
UID:10007304-1755802800-1755813600@iwa-prague.com
SUMMARY:Letna Meetup - Members & Newcomers
DESCRIPTION:This is a wonderful opportunity for all IWAP members to enjoy the views from Letna Park while sharing a relaxed summer evening with old and new IWAP friends. You can purchase soft drinks\, beer\, and wine\, as well as nibbles. \nWhen: Thursday 21 August  \nTime: from 19:00 \nWhere: Letna Beer Garden – for map location click here \nTransport: nearest tram stops are Chotkovy sady (trams 2\, 18) and walk through the park or Sparta (trams 8\, 12\, 25\, 26) \nTo sign up for this event or if you have any questions please email membership@iwa-prague.com. 
URL:https://iwa-prague.com/event/iwap-spontaneous-occasion-newcomers-welcome/
CATEGORIES:Newcomers Lunch
ATTACH;FMTTYPE=image/jpeg:https://iwa-prague.com/wp-content/uploads/2025/07/letna-OPT.jpg
ORGANIZER;CN="Shirley Lanzieri":MAILTO:membership@iwa-prague.com
END:VEVENT
BEGIN:VEVENT
DTSTART;TZID=Europe/Prague:20250609T123000
DTEND;TZID=Europe/Prague:20250609T143000
DTSTAMP:20260422T061825
CREATED:20240806T092221Z
LAST-MODIFIED:20250813T151048Z
UID:10007340-1749472200-1749479400@iwa-prague.com
SUMMARY:Newcomers' Lunch
DESCRIPTION:All welcome to join our lunch to mix and mingle with members and potential members.
URL:https://iwa-prague.com/event/newcomers-lunch/2025-06-09/2/
LOCATION:Manes Restaurant\, Masarykovo nábř. 250/1\, Czech Republic
CATEGORIES:Newcomers Lunch
ATTACH;FMTTYPE=image/jpeg:https://iwa-prague.com/wp-content/uploads/2024/05/Happy-Hour-400x276-1.jpg
ORGANIZER;CN="Shirley Lanzieri":MAILTO:membership@iwa-prague.com
END:VEVENT
BEGIN:VEVENT
DTSTART;TZID=Europe/Prague:20250609T080000
DTEND;TZID=Europe/Prague:20250609T170000
DTSTAMP:20260422T061825
CREATED:20240806T092221Z
LAST-MODIFIED:20250813T151048Z
UID:10007341-1749456000-1749488400@iwa-prague.com
SUMMARY:Newcomers' Lunch
DESCRIPTION:All welcome to join our lunch to mix and mingle with members and potential members.
URL:https://iwa-prague.com/event/newcomers-lunch/2025-06-09/1/
LOCATION:Manes Restaurant\, Masarykovo nábř. 250/1\, Czech Republic
CATEGORIES:Newcomers Lunch
ATTACH;FMTTYPE=image/jpeg:https://iwa-prague.com/wp-content/uploads/2024/05/Happy-Hour-400x276-1.jpg
ORGANIZER;CN="Shirley Lanzieri":MAILTO:membership@iwa-prague.com
END:VEVENT
BEGIN:VEVENT
DTSTART;TZID=Europe/Prague:20250512T123000
DTEND;TZID=Europe/Prague:20250512T143000
DTSTAMP:20260422T061825
CREATED:20240926T142010Z
LAST-MODIFIED:20251125T135042Z
UID:10003168-1747053000-1747060200@iwa-prague.com
SUMMARY:Friends at the Table
DESCRIPTION:
URL:https://iwa-prague.com/event/newcomers-lunch-3/2025-05-12/
LOCATION:Manes Restaurant\, Masarykovo nábř. 250/1\, Czech Republic
CATEGORIES:Newcomers Lunch
ATTACH;FMTTYPE=image/jpeg:https://iwa-prague.com/wp-content/uploads/2024/09/newcomers-OPT.jpg
ORGANIZER;CN="Shirley Lanzieri":MAILTO:membership@iwa-prague.com
END:VEVENT
BEGIN:VEVENT
DTSTART;TZID=Europe/Prague:20250414T123000
DTEND;TZID=Europe/Prague:20250414T143000
DTSTAMP:20260422T061825
CREATED:20240926T142010Z
LAST-MODIFIED:20251125T135042Z
UID:10003167-1744633800-1744641000@iwa-prague.com
SUMMARY:Friends at the Table
DESCRIPTION:
URL:https://iwa-prague.com/event/newcomers-lunch-3/2025-04-14/
LOCATION:Manes Restaurant\, Masarykovo nábř. 250/1\, Czech Republic
CATEGORIES:Newcomers Lunch
ATTACH;FMTTYPE=image/jpeg:https://iwa-prague.com/wp-content/uploads/2024/09/newcomers-OPT.jpg
ORGANIZER;CN="Shirley Lanzieri":MAILTO:membership@iwa-prague.com
END:VEVENT
BEGIN:VEVENT
DTSTART;TZID=Europe/Prague:20250310T123000
DTEND;TZID=Europe/Prague:20250310T143000
DTSTAMP:20260422T061825
CREATED:20240926T142010Z
LAST-MODIFIED:20251125T135042Z
UID:10003166-1741609800-1741617000@iwa-prague.com
SUMMARY:Friends at the Table
DESCRIPTION:
URL:https://iwa-prague.com/event/newcomers-lunch-3/2025-03-10/
LOCATION:Manes Restaurant\, Masarykovo nábř. 250/1\, Czech Republic
CATEGORIES:Newcomers Lunch
ATTACH;FMTTYPE=image/jpeg:https://iwa-prague.com/wp-content/uploads/2024/09/newcomers-OPT.jpg
ORGANIZER;CN="Shirley Lanzieri":MAILTO:membership@iwa-prague.com
END:VEVENT
BEGIN:VEVENT
DTSTART;TZID=Europe/Prague:20250210T123000
DTEND;TZID=Europe/Prague:20250210T143000
DTSTAMP:20260422T061825
CREATED:20240926T142010Z
LAST-MODIFIED:20251125T135042Z
UID:10003165-1739190600-1739197800@iwa-prague.com
SUMMARY:Friends at the Table
DESCRIPTION:
URL:https://iwa-prague.com/event/newcomers-lunch-3/2025-02-10/
LOCATION:Manes Restaurant\, Masarykovo nábř. 250/1\, Czech Republic
CATEGORIES:Newcomers Lunch
ATTACH;FMTTYPE=image/jpeg:https://iwa-prague.com/wp-content/uploads/2024/09/newcomers-OPT.jpg
ORGANIZER;CN="Shirley Lanzieri":MAILTO:membership@iwa-prague.com
END:VEVENT
BEGIN:VEVENT
DTSTART;TZID=Europe/Prague:20250113T123000
DTEND;TZID=Europe/Prague:20250113T143000
DTSTAMP:20260422T061825
CREATED:20240926T142010Z
LAST-MODIFIED:20251125T135042Z
UID:10003164-1736771400-1736778600@iwa-prague.com
SUMMARY:Friends at the Table
DESCRIPTION:
URL:https://iwa-prague.com/event/newcomers-lunch-3/2025-01-13/
LOCATION:Manes Restaurant\, Masarykovo nábř. 250/1\, Czech Republic
CATEGORIES:Newcomers Lunch
ATTACH;FMTTYPE=image/jpeg:https://iwa-prague.com/wp-content/uploads/2024/09/newcomers-OPT.jpg
ORGANIZER;CN="Shirley Lanzieri":MAILTO:membership@iwa-prague.com
END:VEVENT
BEGIN:VEVENT
DTSTART;TZID=Europe/Prague:20241209T123000
DTEND;TZID=Europe/Prague:20241209T143000
DTSTAMP:20260422T061825
CREATED:20240926T142010Z
LAST-MODIFIED:20251125T135042Z
UID:10003163-1733747400-1733754600@iwa-prague.com
SUMMARY:Friends at the Table
DESCRIPTION:
URL:https://iwa-prague.com/event/newcomers-lunch-3/2024-12-09/
LOCATION:Manes Restaurant\, Masarykovo nábř. 250/1\, Czech Republic
CATEGORIES:Newcomers Lunch
ATTACH;FMTTYPE=image/jpeg:https://iwa-prague.com/wp-content/uploads/2024/09/newcomers-OPT.jpg
ORGANIZER;CN="Shirley Lanzieri":MAILTO:membership@iwa-prague.com
END:VEVENT
BEGIN:VEVENT
DTSTART;TZID=Europe/Prague:20241111T123000
DTEND;TZID=Europe/Prague:20241111T143000
DTSTAMP:20260422T061825
CREATED:20240926T142010Z
LAST-MODIFIED:20251125T135042Z
UID:10003162-1731328200-1731335400@iwa-prague.com
SUMMARY:Friends at the Table
DESCRIPTION:
URL:https://iwa-prague.com/event/newcomers-lunch-3/2024-11-11/
LOCATION:Manes Restaurant\, Masarykovo nábř. 250/1\, Czech Republic
CATEGORIES:Newcomers Lunch
ATTACH;FMTTYPE=image/jpeg:https://iwa-prague.com/wp-content/uploads/2024/09/newcomers-OPT.jpg
ORGANIZER;CN="Shirley Lanzieri":MAILTO:membership@iwa-prague.com
END:VEVENT
BEGIN:VEVENT
DTSTART;TZID=Europe/Prague:20241007T123000
DTEND;TZID=Europe/Prague:20241007T143000
DTSTAMP:20260422T061825
CREATED:20240926T141640Z
LAST-MODIFIED:20250813T160648Z
UID:10000019-1728304200-1728311400@iwa-prague.com
SUMMARY:Newcomers' Lunch
DESCRIPTION:All welcome to join our lunch to mix and mingle with members and potential members.
URL:https://iwa-prague.com/event/newcomers-lunch-2/
LOCATION:Manes Restaurant\, Masarykovo nábř. 250/1\, Czech Republic
CATEGORIES:Newcomers Lunch
ATTACH;FMTTYPE=image/jpeg:https://iwa-prague.com/wp-content/uploads/2024/09/newcomers-OPT.jpg
ORGANIZER;CN="Shirley Lanzieri":MAILTO:membership@iwa-prague.com
END:VEVENT
END:VCALENDAR