BEGIN:VCALENDAR
VERSION:2.0
PRODID:-//International Women&#039;s Association of Prague - ECPv6.15.20//NONSGML v1.0//EN
CALSCALE:GREGORIAN
METHOD:PUBLISH
X-WR-CALNAME:International Women&#039;s Association of Prague
X-ORIGINAL-URL:https://iwa-prague.com
X-WR-CALDESC:Events for International Women&#039;s Association of Prague
REFRESH-INTERVAL;VALUE=DURATION:PT1H
X-Robots-Tag:noindex
X-PUBLISHED-TTL:PT1H
BEGIN:VTIMEZONE
TZID:Europe/Prague
BEGIN:DAYLIGHT
TZOFFSETFROM:+0100
TZOFFSETTO:+0200
TZNAME:CEST
DTSTART:20240331T010000
END:DAYLIGHT
BEGIN:STANDARD
TZOFFSETFROM:+0200
TZOFFSETTO:+0100
TZNAME:CET
DTSTART:20241027T010000
END:STANDARD
BEGIN:DAYLIGHT
TZOFFSETFROM:+0100
TZOFFSETTO:+0200
TZNAME:CEST
DTSTART:20250330T010000
END:DAYLIGHT
BEGIN:STANDARD
TZOFFSETFROM:+0200
TZOFFSETTO:+0100
TZNAME:CET
DTSTART:20251026T010000
END:STANDARD
BEGIN:DAYLIGHT
TZOFFSETFROM:+0100
TZOFFSETTO:+0200
TZNAME:CEST
DTSTART:20260329T010000
END:DAYLIGHT
BEGIN:STANDARD
TZOFFSETFROM:+0200
TZOFFSETTO:+0100
TZNAME:CET
DTSTART:20261025T010000
END:STANDARD
END:VTIMEZONE
BEGIN:VEVENT
DTSTART;TZID=Europe/Prague:20251218T103000
DTEND;TZID=Europe/Prague:20251218T120000
DTSTAMP:20260424T191317
CREATED:20251120T144736Z
LAST-MODIFIED:20251120T144736Z
UID:10008316-1766053800-1766059200@iwa-prague.com
SUMMARY:German Language
DESCRIPTION:
URL:https://iwa-prague.com/event/german-language/2025-12-18/
CATEGORIES:Languages
END:VEVENT
BEGIN:VEVENT
DTSTART;TZID=Europe/Prague:20251208T103000
DTEND;TZID=Europe/Prague:20251208T120000
DTSTAMP:20260424T191317
CREATED:20240926T134257Z
LAST-MODIFIED:20251209T154753Z
UID:10005707-1765189800-1765195200@iwa-prague.com
SUMMARY:French Conversation
DESCRIPTION:
URL:https://iwa-prague.com/event/french-conversation/2025-12-08/
CATEGORIES:Languages
ATTACH;FMTTYPE=image/jpeg:https://iwa-prague.com/wp-content/uploads/2021/05/French-Group-reading-2016-OPT3.jpg
ORGANIZER;CN="Dominic Kopecky":MAILTO:french@iwa-prague.com
END:VEVENT
BEGIN:VEVENT
DTSTART;TZID=Europe/Prague:20251204T133000
DTEND;TZID=Europe/Prague:20251204T153000
DTSTAMP:20260424T191317
CREATED:20240926T133557Z
LAST-MODIFIED:20260402T183752Z
UID:10001100-1764855000-1764862200@iwa-prague.com
SUMMARY:English Chat
DESCRIPTION:
URL:https://iwa-prague.com/event/english-chat/2025-12-04/
CATEGORIES:Languages
ATTACH;FMTTYPE=image/jpeg:https://iwa-prague.com/wp-content/uploads/2024/09/engchat-OPT.jpg
ORGANIZER;CN="Maria Fadian":MAILTO:englishchat@iwa-prague.com
END:VEVENT
BEGIN:VEVENT
DTSTART;TZID=Europe/Prague:20251204T103000
DTEND;TZID=Europe/Prague:20251204T120000
DTSTAMP:20260424T191317
CREATED:20240926T131826Z
LAST-MODIFIED:20251128T155416Z
UID:10008466-1764844200-1764849600@iwa-prague.com
SUMMARY:German Language
DESCRIPTION:
URL:https://iwa-prague.com/event/german-language-group/2025-12-04/
CATEGORIES:Languages
ATTACH;FMTTYPE=image/jpeg:https://iwa-prague.com/wp-content/uploads/2021/05/IMG_6063-OPT.jpg
ORGANIZER;CN="Petra Nykod%C3%BDm":MAILTO:germanlanguage@iwa-prague.com
END:VEVENT
BEGIN:VEVENT
DTSTART;TZID=Europe/Prague:20251202T140000
DTEND;TZID=Europe/Prague:20251202T160000
DTSTAMP:20260424T191317
CREATED:20241007T162706Z
LAST-MODIFIED:20260224T161337Z
UID:10005076-1764684000-1764691200@iwa-prague.com
SUMMARY:Czech Conversation
DESCRIPTION:We practice communicating in the Czech language in a casual surrounding and with the help of native speakers\, topics vary each week.
URL:https://iwa-prague.com/event/czech-conversation-2/2025-12-02/
CATEGORIES:Languages
ATTACH;FMTTYPE=image/jpeg:https://iwa-prague.com/wp-content/uploads/2021/05/Czech-Jun-2020-OPT.jpg
ORGANIZER;CN="Iva %C4%8Cvandov%C3%A1":MAILTO:czechconversation@iwa-prague.com
END:VEVENT
BEGIN:VEVENT
DTSTART;TZID=Europe/Prague:20251201T103000
DTEND;TZID=Europe/Prague:20251201T120000
DTSTAMP:20260424T191317
CREATED:20240926T134257Z
LAST-MODIFIED:20251209T154753Z
UID:10005706-1764585000-1764590400@iwa-prague.com
SUMMARY:French Conversation
DESCRIPTION:
URL:https://iwa-prague.com/event/french-conversation/2025-12-01/
CATEGORIES:Languages
ATTACH;FMTTYPE=image/jpeg:https://iwa-prague.com/wp-content/uploads/2021/05/French-Group-reading-2016-OPT3.jpg
ORGANIZER;CN="Dominic Kopecky":MAILTO:french@iwa-prague.com
END:VEVENT
BEGIN:VEVENT
DTSTART;TZID=Europe/Prague:20251124T103000
DTEND;TZID=Europe/Prague:20251124T120000
DTSTAMP:20260424T191317
CREATED:20240926T134257Z
LAST-MODIFIED:20251209T154753Z
UID:10005705-1763980200-1763985600@iwa-prague.com
SUMMARY:French Conversation
DESCRIPTION:
URL:https://iwa-prague.com/event/french-conversation/2025-11-24/
CATEGORIES:Languages
ATTACH;FMTTYPE=image/jpeg:https://iwa-prague.com/wp-content/uploads/2021/05/French-Group-reading-2016-OPT3.jpg
ORGANIZER;CN="Dominic Kopecky":MAILTO:french@iwa-prague.com
END:VEVENT
BEGIN:VEVENT
DTSTART;TZID=Europe/Prague:20251118T120000
DTEND;TZID=Europe/Prague:20251118T140000
DTSTAMP:20260424T191317
CREATED:20241007T162220Z
LAST-MODIFIED:20251212T132644Z
UID:10008240-1763467200-1763474400@iwa-prague.com
SUMMARY:Czech Conversation
DESCRIPTION:We practice communicating in the Czech language in a casual surrounding and with the help of native speakers\, topics vary each week.
URL:https://iwa-prague.com/event/czech-conversation/2025-11-18/
CATEGORIES:Languages
ATTACH;FMTTYPE=image/jpeg:https://iwa-prague.com/wp-content/uploads/2021/05/Czech-Jun-2020-OPT.jpg
ORGANIZER;CN="Iva %C4%8Cvandov%C3%A1":MAILTO:czechconversation@iwa-prague.com
END:VEVENT
BEGIN:VEVENT
DTSTART;TZID=Europe/Prague:20251117T103000
DTEND;TZID=Europe/Prague:20251117T120000
DTSTAMP:20260424T191317
CREATED:20240926T134257Z
LAST-MODIFIED:20251209T154753Z
UID:10005704-1763375400-1763380800@iwa-prague.com
SUMMARY:French Conversation
DESCRIPTION:
URL:https://iwa-prague.com/event/french-conversation/2025-11-17/
CATEGORIES:Languages
ATTACH;FMTTYPE=image/jpeg:https://iwa-prague.com/wp-content/uploads/2021/05/French-Group-reading-2016-OPT3.jpg
ORGANIZER;CN="Dominic Kopecky":MAILTO:french@iwa-prague.com
END:VEVENT
BEGIN:VEVENT
DTSTART;TZID=Europe/Prague:20251110T103000
DTEND;TZID=Europe/Prague:20251110T120000
DTSTAMP:20260424T191317
CREATED:20240926T134257Z
LAST-MODIFIED:20251209T154753Z
UID:10005703-1762770600-1762776000@iwa-prague.com
SUMMARY:French Conversation
DESCRIPTION:
URL:https://iwa-prague.com/event/french-conversation/2025-11-10/
CATEGORIES:Languages
ATTACH;FMTTYPE=image/jpeg:https://iwa-prague.com/wp-content/uploads/2021/05/French-Group-reading-2016-OPT3.jpg
ORGANIZER;CN="Dominic Kopecky":MAILTO:french@iwa-prague.com
END:VEVENT
BEGIN:VEVENT
DTSTART;TZID=Europe/Prague:20251106T133000
DTEND;TZID=Europe/Prague:20251106T153000
DTSTAMP:20260424T191317
CREATED:20240926T133557Z
LAST-MODIFIED:20260402T183752Z
UID:10001099-1762435800-1762443000@iwa-prague.com
SUMMARY:English Chat
DESCRIPTION:
URL:https://iwa-prague.com/event/english-chat/2025-11-06/
CATEGORIES:Languages
ATTACH;FMTTYPE=image/jpeg:https://iwa-prague.com/wp-content/uploads/2024/09/engchat-OPT.jpg
ORGANIZER;CN="Maria Fadian":MAILTO:englishchat@iwa-prague.com
END:VEVENT
BEGIN:VEVENT
DTSTART;TZID=Europe/Prague:20251106T103000
DTEND;TZID=Europe/Prague:20251106T120000
DTSTAMP:20260424T191317
CREATED:20240926T131826Z
LAST-MODIFIED:20251128T155416Z
UID:10008465-1762425000-1762430400@iwa-prague.com
SUMMARY:German Language
DESCRIPTION:
URL:https://iwa-prague.com/event/german-language-group/2025-11-06/
CATEGORIES:Languages
ATTACH;FMTTYPE=image/jpeg:https://iwa-prague.com/wp-content/uploads/2021/05/IMG_6063-OPT.jpg
ORGANIZER;CN="Petra Nykod%C3%BDm":MAILTO:germanlanguage@iwa-prague.com
END:VEVENT
BEGIN:VEVENT
DTSTART;TZID=Europe/Prague:20251103T103000
DTEND;TZID=Europe/Prague:20251103T120000
DTSTAMP:20260424T191317
CREATED:20240926T134257Z
LAST-MODIFIED:20251209T154753Z
UID:10005702-1762165800-1762171200@iwa-prague.com
SUMMARY:French Conversation
DESCRIPTION:
URL:https://iwa-prague.com/event/french-conversation/2025-11-03/
CATEGORIES:Languages
ATTACH;FMTTYPE=image/jpeg:https://iwa-prague.com/wp-content/uploads/2021/05/French-Group-reading-2016-OPT3.jpg
ORGANIZER;CN="Dominic Kopecky":MAILTO:french@iwa-prague.com
END:VEVENT
BEGIN:VEVENT
DTSTART;TZID=Europe/Prague:20251020T103000
DTEND;TZID=Europe/Prague:20251020T120000
DTSTAMP:20260424T191317
CREATED:20240926T134257Z
LAST-MODIFIED:20251209T154753Z
UID:10005700-1760956200-1760961600@iwa-prague.com
SUMMARY:French Conversation
DESCRIPTION:
URL:https://iwa-prague.com/event/french-conversation/2025-10-20/
CATEGORIES:Languages
ATTACH;FMTTYPE=image/jpeg:https://iwa-prague.com/wp-content/uploads/2021/05/French-Group-reading-2016-OPT3.jpg
ORGANIZER;CN="Dominic Kopecky":MAILTO:french@iwa-prague.com
END:VEVENT
BEGIN:VEVENT
DTSTART;TZID=Europe/Prague:20251013T103000
DTEND;TZID=Europe/Prague:20251013T120000
DTSTAMP:20260424T191317
CREATED:20240926T134257Z
LAST-MODIFIED:20251209T154753Z
UID:10005699-1760351400-1760356800@iwa-prague.com
SUMMARY:French Conversation
DESCRIPTION:
URL:https://iwa-prague.com/event/french-conversation/2025-10-13/
CATEGORIES:Languages
ATTACH;FMTTYPE=image/jpeg:https://iwa-prague.com/wp-content/uploads/2021/05/French-Group-reading-2016-OPT3.jpg
ORGANIZER;CN="Dominic Kopecky":MAILTO:french@iwa-prague.com
END:VEVENT
BEGIN:VEVENT
DTSTART;TZID=Europe/Prague:20251006T103000
DTEND;TZID=Europe/Prague:20251006T120000
DTSTAMP:20260424T191317
CREATED:20240926T134257Z
LAST-MODIFIED:20251209T154753Z
UID:10005698-1759746600-1759752000@iwa-prague.com
SUMMARY:French Conversation
DESCRIPTION:
URL:https://iwa-prague.com/event/french-conversation/2025-10-06/
CATEGORIES:Languages
ATTACH;FMTTYPE=image/jpeg:https://iwa-prague.com/wp-content/uploads/2021/05/French-Group-reading-2016-OPT3.jpg
ORGANIZER;CN="Dominic Kopecky":MAILTO:french@iwa-prague.com
END:VEVENT
BEGIN:VEVENT
DTSTART;TZID=Europe/Prague:20251002T133000
DTEND;TZID=Europe/Prague:20251002T153000
DTSTAMP:20260424T191317
CREATED:20240926T133557Z
LAST-MODIFIED:20260402T183752Z
UID:10001098-1759411800-1759419000@iwa-prague.com
SUMMARY:English Chat
DESCRIPTION:
URL:https://iwa-prague.com/event/english-chat/2025-10-02/
CATEGORIES:Languages
ATTACH;FMTTYPE=image/jpeg:https://iwa-prague.com/wp-content/uploads/2024/09/engchat-OPT.jpg
ORGANIZER;CN="Maria Fadian":MAILTO:englishchat@iwa-prague.com
END:VEVENT
BEGIN:VEVENT
DTSTART;TZID=Europe/Prague:20251002T103000
DTEND;TZID=Europe/Prague:20251002T120000
DTSTAMP:20260424T191317
CREATED:20240926T131826Z
LAST-MODIFIED:20251128T155416Z
UID:10008464-1759401000-1759406400@iwa-prague.com
SUMMARY:German Language
DESCRIPTION:
URL:https://iwa-prague.com/event/german-language-group/2025-10-02/
CATEGORIES:Languages
ATTACH;FMTTYPE=image/jpeg:https://iwa-prague.com/wp-content/uploads/2021/05/IMG_6063-OPT.jpg
ORGANIZER;CN="Petra Nykod%C3%BDm":MAILTO:germanlanguage@iwa-prague.com
END:VEVENT
BEGIN:VEVENT
DTSTART;TZID=Europe/Prague:20250929T103000
DTEND;TZID=Europe/Prague:20250929T120000
DTSTAMP:20260424T191317
CREATED:20240926T134257Z
LAST-MODIFIED:20251209T154753Z
UID:10005697-1759141800-1759147200@iwa-prague.com
SUMMARY:French Conversation
DESCRIPTION:
URL:https://iwa-prague.com/event/french-conversation/2025-09-29/
CATEGORIES:Languages
ATTACH;FMTTYPE=image/jpeg:https://iwa-prague.com/wp-content/uploads/2021/05/French-Group-reading-2016-OPT3.jpg
ORGANIZER;CN="Dominic Kopecky":MAILTO:french@iwa-prague.com
END:VEVENT
BEGIN:VEVENT
DTSTART;TZID=Europe/Prague:20250923T123000
DTEND;TZID=Europe/Prague:20250923T140000
DTSTAMP:20260424T191317
CREATED:20241007T162220Z
LAST-MODIFIED:20251212T132644Z
UID:10007501-1758630600-1758636000@iwa-prague.com
SUMMARY:Czech Conversation
DESCRIPTION:We practice communicating in the Czech language in a casual surrounding and with the help of native speakers\, topics vary each week.
URL:https://iwa-prague.com/event/czech-conversation/2025-09-23/
CATEGORIES:Languages
ATTACH;FMTTYPE=image/jpeg:https://iwa-prague.com/wp-content/uploads/2021/05/Czech-Jun-2020-OPT.jpg
ORGANIZER;CN="Iva %C4%8Cvandov%C3%A1":MAILTO:czechconversation@iwa-prague.com
END:VEVENT
BEGIN:VEVENT
DTSTART;TZID=Europe/Prague:20250922T103000
DTEND;TZID=Europe/Prague:20250922T120000
DTSTAMP:20260424T191317
CREATED:20240926T134257Z
LAST-MODIFIED:20251209T154753Z
UID:10005696-1758537000-1758542400@iwa-prague.com
SUMMARY:French Conversation
DESCRIPTION:
URL:https://iwa-prague.com/event/french-conversation/2025-09-22/
CATEGORIES:Languages
ATTACH;FMTTYPE=image/jpeg:https://iwa-prague.com/wp-content/uploads/2021/05/French-Group-reading-2016-OPT3.jpg
ORGANIZER;CN="Dominic Kopecky":MAILTO:french@iwa-prague.com
END:VEVENT
BEGIN:VEVENT
DTSTART;TZID=Europe/Prague:20250916T120000
DTEND;TZID=Europe/Prague:20250916T140000
DTSTAMP:20260424T191317
CREATED:20241007T162220Z
LAST-MODIFIED:20251212T132644Z
UID:10008239-1758024000-1758031200@iwa-prague.com
SUMMARY:Czech Conversation
DESCRIPTION:We practice communicating in the Czech language in a casual surrounding and with the help of native speakers\, topics vary each week.
URL:https://iwa-prague.com/event/czech-conversation/2025-09-16/
CATEGORIES:Languages
ATTACH;FMTTYPE=image/jpeg:https://iwa-prague.com/wp-content/uploads/2021/05/Czech-Jun-2020-OPT.jpg
ORGANIZER;CN="Iva %C4%8Cvandov%C3%A1":MAILTO:czechconversation@iwa-prague.com
END:VEVENT
BEGIN:VEVENT
DTSTART;TZID=Europe/Prague:20250915T103000
DTEND;TZID=Europe/Prague:20250915T120000
DTSTAMP:20260424T191317
CREATED:20240926T134257Z
LAST-MODIFIED:20251209T154753Z
UID:10005695-1757932200-1757937600@iwa-prague.com
SUMMARY:French Conversation
DESCRIPTION:
URL:https://iwa-prague.com/event/french-conversation/2025-09-15/
CATEGORIES:Languages
ATTACH;FMTTYPE=image/jpeg:https://iwa-prague.com/wp-content/uploads/2021/05/French-Group-reading-2016-OPT3.jpg
ORGANIZER;CN="Dominic Kopecky":MAILTO:french@iwa-prague.com
END:VEVENT
BEGIN:VEVENT
DTSTART;TZID=Europe/Prague:20250904T133000
DTEND;TZID=Europe/Prague:20250904T153000
DTSTAMP:20260424T191317
CREATED:20240926T133557Z
LAST-MODIFIED:20260402T183752Z
UID:10001097-1756992600-1756999800@iwa-prague.com
SUMMARY:English Chat
DESCRIPTION:
URL:https://iwa-prague.com/event/english-chat/2025-09-04/
CATEGORIES:Languages
ATTACH;FMTTYPE=image/jpeg:https://iwa-prague.com/wp-content/uploads/2024/09/engchat-OPT.jpg
ORGANIZER;CN="Maria Fadian":MAILTO:englishchat@iwa-prague.com
END:VEVENT
BEGIN:VEVENT
DTSTART;TZID=Europe/Prague:20250904T103000
DTEND;TZID=Europe/Prague:20250904T120000
DTSTAMP:20260424T191317
CREATED:20240926T131826Z
LAST-MODIFIED:20251128T155416Z
UID:10008463-1756981800-1756987200@iwa-prague.com
SUMMARY:German Language
DESCRIPTION:
URL:https://iwa-prague.com/event/german-language-group/2025-09-04/
CATEGORIES:Languages
ATTACH;FMTTYPE=image/jpeg:https://iwa-prague.com/wp-content/uploads/2021/05/IMG_6063-OPT.jpg
ORGANIZER;CN="Petra Nykod%C3%BDm":MAILTO:germanlanguage@iwa-prague.com
END:VEVENT
BEGIN:VEVENT
DTSTART;TZID=Europe/Prague:20250902T140000
DTEND;TZID=Europe/Prague:20250902T160000
DTSTAMP:20260424T191317
CREATED:20241007T162706Z
LAST-MODIFIED:20260224T161337Z
UID:10005073-1756821600-1756828800@iwa-prague.com
SUMMARY:Czech Conversation
DESCRIPTION:We practice communicating in the Czech language in a casual surrounding and with the help of native speakers\, topics vary each week.
URL:https://iwa-prague.com/event/czech-conversation-2/2025-09-02/
CATEGORIES:Languages
ATTACH;FMTTYPE=image/jpeg:https://iwa-prague.com/wp-content/uploads/2021/05/Czech-Jun-2020-OPT.jpg
ORGANIZER;CN="Iva %C4%8Cvandov%C3%A1":MAILTO:czechconversation@iwa-prague.com
END:VEVENT
BEGIN:VEVENT
DTSTART;TZID=Europe/Prague:20250819T120000
DTEND;TZID=Europe/Prague:20250819T140000
DTSTAMP:20260424T191317
CREATED:20241007T162220Z
LAST-MODIFIED:20251212T132644Z
UID:10008238-1755604800-1755612000@iwa-prague.com
SUMMARY:Czech Conversation
DESCRIPTION:We practice communicating in the Czech language in a casual surrounding and with the help of native speakers\, topics vary each week.
URL:https://iwa-prague.com/event/czech-conversation/2025-08-19/
CATEGORIES:Languages
ATTACH;FMTTYPE=image/jpeg:https://iwa-prague.com/wp-content/uploads/2021/05/Czech-Jun-2020-OPT.jpg
ORGANIZER;CN="Iva %C4%8Cvandov%C3%A1":MAILTO:czechconversation@iwa-prague.com
END:VEVENT
BEGIN:VEVENT
DTSTART;TZID=Europe/Prague:20250807T133000
DTEND;TZID=Europe/Prague:20250807T153000
DTSTAMP:20260424T191317
CREATED:20240926T133557Z
LAST-MODIFIED:20260402T183752Z
UID:10001096-1754573400-1754580600@iwa-prague.com
SUMMARY:English Chat
DESCRIPTION:
URL:https://iwa-prague.com/event/english-chat/2025-08-07/
CATEGORIES:Languages
ATTACH;FMTTYPE=image/jpeg:https://iwa-prague.com/wp-content/uploads/2024/09/engchat-OPT.jpg
ORGANIZER;CN="Maria Fadian":MAILTO:englishchat@iwa-prague.com
END:VEVENT
BEGIN:VEVENT
DTSTART;TZID=Europe/Prague:20250807T103000
DTEND;TZID=Europe/Prague:20250807T120000
DTSTAMP:20260424T191317
CREATED:20240926T131826Z
LAST-MODIFIED:20251128T155416Z
UID:10008462-1754562600-1754568000@iwa-prague.com
SUMMARY:German Language
DESCRIPTION:
URL:https://iwa-prague.com/event/german-language-group/2025-08-07/
CATEGORIES:Languages
ATTACH;FMTTYPE=image/jpeg:https://iwa-prague.com/wp-content/uploads/2021/05/IMG_6063-OPT.jpg
ORGANIZER;CN="Petra Nykod%C3%BDm":MAILTO:germanlanguage@iwa-prague.com
END:VEVENT
BEGIN:VEVENT
DTSTART;TZID=Europe/Prague:20250805T140000
DTEND;TZID=Europe/Prague:20250805T160000
DTSTAMP:20260424T191317
CREATED:20241007T162706Z
LAST-MODIFIED:20260224T161337Z
UID:10005072-1754402400-1754409600@iwa-prague.com
SUMMARY:Czech Conversation
DESCRIPTION:We practice communicating in the Czech language in a casual surrounding and with the help of native speakers\, topics vary each week.
URL:https://iwa-prague.com/event/czech-conversation-2/2025-08-05/
CATEGORIES:Languages
ATTACH;FMTTYPE=image/jpeg:https://iwa-prague.com/wp-content/uploads/2021/05/Czech-Jun-2020-OPT.jpg
ORGANIZER;CN="Iva %C4%8Cvandov%C3%A1":MAILTO:czechconversation@iwa-prague.com
END:VEVENT
END:VCALENDAR