BEGIN:VCALENDAR
VERSION:2.0
PRODID:-//International Women&#039;s Association of Prague - ECPv6.15.20//NONSGML v1.0//EN
CALSCALE:GREGORIAN
METHOD:PUBLISH
X-ORIGINAL-URL:https://iwa-prague.com
X-WR-CALDESC:Events for International Women&#039;s Association of Prague
REFRESH-INTERVAL;VALUE=DURATION:PT1H
X-Robots-Tag:noindex
X-PUBLISHED-TTL:PT1H
BEGIN:VTIMEZONE
TZID:Europe/Prague
BEGIN:DAYLIGHT
TZOFFSETFROM:+0100
TZOFFSETTO:+0200
TZNAME:CEST
DTSTART:20250330T010000
END:DAYLIGHT
BEGIN:STANDARD
TZOFFSETFROM:+0200
TZOFFSETTO:+0100
TZNAME:CET
DTSTART:20251026T010000
END:STANDARD
BEGIN:DAYLIGHT
TZOFFSETFROM:+0100
TZOFFSETTO:+0200
TZNAME:CEST
DTSTART:20260329T010000
END:DAYLIGHT
BEGIN:STANDARD
TZOFFSETFROM:+0200
TZOFFSETTO:+0100
TZNAME:CET
DTSTART:20261025T010000
END:STANDARD
BEGIN:DAYLIGHT
TZOFFSETFROM:+0100
TZOFFSETTO:+0200
TZNAME:CEST
DTSTART:20270328T010000
END:DAYLIGHT
BEGIN:STANDARD
TZOFFSETFROM:+0200
TZOFFSETTO:+0100
TZNAME:CET
DTSTART:20271031T010000
END:STANDARD
END:VTIMEZONE
BEGIN:VEVENT
DTSTART;TZID=Europe/Prague:20260402T103000
DTEND;TZID=Europe/Prague:20260402T120000
DTSTAMP:20260422T010259
CREATED:20240926T131826Z
LAST-MODIFIED:20251128T155416Z
UID:10008469-1775125800-1775131200@iwa-prague.com
SUMMARY:German Language
DESCRIPTION:
URL:https://iwa-prague.com/event/german-language-group/2026-04-02/
CATEGORIES:Languages
ATTACH;FMTTYPE=image/jpeg:https://iwa-prague.com/wp-content/uploads/2021/05/IMG_6063-OPT.jpg
ORGANIZER;CN="Petra Nykod%C3%BDm":MAILTO:germanlanguage@iwa-prague.com
END:VEVENT
BEGIN:VEVENT
DTSTART;TZID=Europe/Prague:20260402T133000
DTEND;TZID=Europe/Prague:20260402T153000
DTSTAMP:20260422T010259
CREATED:20240926T133557Z
LAST-MODIFIED:20260402T183752Z
UID:10001104-1775136600-1775143800@iwa-prague.com
SUMMARY:English Chat
DESCRIPTION:
URL:https://iwa-prague.com/event/english-chat/2026-04-02/
CATEGORIES:Languages
ATTACH;FMTTYPE=image/jpeg:https://iwa-prague.com/wp-content/uploads/2024/09/engchat-OPT.jpg
ORGANIZER;CN="Maria Fadian":MAILTO:englishchat@iwa-prague.com
END:VEVENT
END:VCALENDAR