BEGIN:VCALENDAR
VERSION:2.0
PRODID:-//International Women&#039;s Association of Prague - ECPv6.15.20//NONSGML v1.0//EN
CALSCALE:GREGORIAN
METHOD:PUBLISH
X-WR-CALNAME:International Women&#039;s Association of Prague
X-ORIGINAL-URL:https://iwa-prague.com
X-WR-CALDESC:Events for International Women&#039;s Association of Prague
REFRESH-INTERVAL;VALUE=DURATION:PT1H
X-Robots-Tag:noindex
X-PUBLISHED-TTL:PT1H
BEGIN:VTIMEZONE
TZID:Europe/Prague
BEGIN:DAYLIGHT
TZOFFSETFROM:+0100
TZOFFSETTO:+0200
TZNAME:CEST
DTSTART:20250330T010000
END:DAYLIGHT
BEGIN:STANDARD
TZOFFSETFROM:+0200
TZOFFSETTO:+0100
TZNAME:CET
DTSTART:20251026T010000
END:STANDARD
BEGIN:DAYLIGHT
TZOFFSETFROM:+0100
TZOFFSETTO:+0200
TZNAME:CEST
DTSTART:20260329T010000
END:DAYLIGHT
BEGIN:STANDARD
TZOFFSETFROM:+0200
TZOFFSETTO:+0100
TZNAME:CET
DTSTART:20261025T010000
END:STANDARD
BEGIN:DAYLIGHT
TZOFFSETFROM:+0100
TZOFFSETTO:+0200
TZNAME:CEST
DTSTART:20270328T010000
END:DAYLIGHT
BEGIN:STANDARD
TZOFFSETFROM:+0200
TZOFFSETTO:+0100
TZNAME:CET
DTSTART:20271031T010000
END:STANDARD
END:VTIMEZONE
BEGIN:VEVENT
DTSTART;TZID=Europe/Prague:20260504T103000
DTEND;TZID=Europe/Prague:20260504T120000
DTSTAMP:20260421T190912
CREATED:20240926T134257Z
LAST-MODIFIED:20251209T154753Z
UID:10005728-1777890600-1777896000@iwa-prague.com
SUMMARY:French Conversation
DESCRIPTION:
URL:https://iwa-prague.com/event/french-conversation/2026-05-04/
CATEGORIES:Languages
ATTACH;FMTTYPE=image/jpeg:https://iwa-prague.com/wp-content/uploads/2021/05/French-Group-reading-2016-OPT3.jpg
ORGANIZER;CN="Dominic Kopecky":MAILTO:french@iwa-prague.com
END:VEVENT
BEGIN:VEVENT
DTSTART;TZID=Europe/Prague:20260505T140000
DTEND;TZID=Europe/Prague:20260505T160000
DTSTAMP:20260421T190912
CREATED:20241007T162706Z
LAST-MODIFIED:20260224T161337Z
UID:10005081-1777989600-1777996800@iwa-prague.com
SUMMARY:Czech Conversation
DESCRIPTION:We practice communicating in the Czech language in a casual surrounding and with the help of native speakers\, topics vary each week.
URL:https://iwa-prague.com/event/czech-conversation-2/2026-05-05/
CATEGORIES:Languages
ATTACH;FMTTYPE=image/jpeg:https://iwa-prague.com/wp-content/uploads/2021/05/Czech-Jun-2020-OPT.jpg
ORGANIZER;CN="Iva %C4%8Cvandov%C3%A1":MAILTO:czechconversation@iwa-prague.com
END:VEVENT
BEGIN:VEVENT
DTSTART;TZID=Europe/Prague:20260507T103000
DTEND;TZID=Europe/Prague:20260507T120000
DTSTAMP:20260421T190912
CREATED:20240926T131826Z
LAST-MODIFIED:20251128T155416Z
UID:10008470-1778149800-1778155200@iwa-prague.com
SUMMARY:German Language
DESCRIPTION:
URL:https://iwa-prague.com/event/german-language-group/2026-05-07/
CATEGORIES:Languages
ATTACH;FMTTYPE=image/jpeg:https://iwa-prague.com/wp-content/uploads/2021/05/IMG_6063-OPT.jpg
ORGANIZER;CN="Petra Nykod%C3%BDm":MAILTO:germanlanguage@iwa-prague.com
END:VEVENT
BEGIN:VEVENT
DTSTART;TZID=Europe/Prague:20260507T133000
DTEND;TZID=Europe/Prague:20260507T153000
DTSTAMP:20260421T190912
CREATED:20240926T133557Z
LAST-MODIFIED:20260402T183752Z
UID:10001105-1778160600-1778167800@iwa-prague.com
SUMMARY:English Chat
DESCRIPTION:
URL:https://iwa-prague.com/event/english-chat/2026-05-07/
CATEGORIES:Languages
ATTACH;FMTTYPE=image/jpeg:https://iwa-prague.com/wp-content/uploads/2024/09/engchat-OPT.jpg
ORGANIZER;CN="Maria Fadian":MAILTO:englishchat@iwa-prague.com
END:VEVENT
BEGIN:VEVENT
DTSTART;TZID=Europe/Prague:20260511T103000
DTEND;TZID=Europe/Prague:20260511T120000
DTSTAMP:20260421T190912
CREATED:20240926T134257Z
LAST-MODIFIED:20251209T154753Z
UID:10005729-1778495400-1778500800@iwa-prague.com
SUMMARY:French Conversation
DESCRIPTION:
URL:https://iwa-prague.com/event/french-conversation/2026-05-11/
CATEGORIES:Languages
ATTACH;FMTTYPE=image/jpeg:https://iwa-prague.com/wp-content/uploads/2021/05/French-Group-reading-2016-OPT3.jpg
ORGANIZER;CN="Dominic Kopecky":MAILTO:french@iwa-prague.com
END:VEVENT
BEGIN:VEVENT
DTSTART;TZID=Europe/Prague:20260512T180000
DTEND;TZID=Europe/Prague:20260512T193000
DTSTAMP:20260421T190912
CREATED:20241025T165737Z
LAST-MODIFIED:20260413T153119Z
UID:10009040-1778608800-1778614200@iwa-prague.com
SUMMARY:Spanish Conversation
DESCRIPTION:
URL:https://iwa-prague.com/event/spanish-conversation/2026-05-12/
CATEGORIES:Languages
ATTACH;FMTTYPE=image/jpeg:https://iwa-prague.com/wp-content/uploads/2024/10/spanish-group-OPT.jpg
ORGANIZER;CN="Sue Urbanicova":MAILTO:spanish@iwa-prague.com
END:VEVENT
BEGIN:VEVENT
DTSTART;TZID=Europe/Prague:20260518T103000
DTEND;TZID=Europe/Prague:20260518T120000
DTSTAMP:20260421T190912
CREATED:20240926T134257Z
LAST-MODIFIED:20251209T154753Z
UID:10005730-1779100200-1779105600@iwa-prague.com
SUMMARY:French Conversation
DESCRIPTION:
URL:https://iwa-prague.com/event/french-conversation/2026-05-18/
CATEGORIES:Languages
ATTACH;FMTTYPE=image/jpeg:https://iwa-prague.com/wp-content/uploads/2021/05/French-Group-reading-2016-OPT3.jpg
ORGANIZER;CN="Dominic Kopecky":MAILTO:french@iwa-prague.com
END:VEVENT
BEGIN:VEVENT
DTSTART;TZID=Europe/Prague:20260519T120000
DTEND;TZID=Europe/Prague:20260519T140000
DTSTAMP:20260421T190912
CREATED:20241007T162220Z
LAST-MODIFIED:20251212T132644Z
UID:10008246-1779192000-1779199200@iwa-prague.com
SUMMARY:Czech Conversation
DESCRIPTION:We practice communicating in the Czech language in a casual surrounding and with the help of native speakers\, topics vary each week.
URL:https://iwa-prague.com/event/czech-conversation/2026-05-19/
CATEGORIES:Languages
ATTACH;FMTTYPE=image/jpeg:https://iwa-prague.com/wp-content/uploads/2021/05/Czech-Jun-2020-OPT.jpg
ORGANIZER;CN="Iva %C4%8Cvandov%C3%A1":MAILTO:czechconversation@iwa-prague.com
END:VEVENT
BEGIN:VEVENT
DTSTART;TZID=Europe/Prague:20260521T103000
DTEND;TZID=Europe/Prague:20260521T120000
DTSTAMP:20260421T190912
CREATED:20251120T144736Z
LAST-MODIFIED:20251120T144736Z
UID:10008321-1779359400-1779364800@iwa-prague.com
SUMMARY:German Language
DESCRIPTION:
URL:https://iwa-prague.com/event/german-language/2026-05-21/
CATEGORIES:Languages
END:VEVENT
BEGIN:VEVENT
DTSTART;TZID=Europe/Prague:20260525T103000
DTEND;TZID=Europe/Prague:20260525T120000
DTSTAMP:20260421T190912
CREATED:20240926T134257Z
LAST-MODIFIED:20251209T154753Z
UID:10005731-1779705000-1779710400@iwa-prague.com
SUMMARY:French Conversation
DESCRIPTION:
URL:https://iwa-prague.com/event/french-conversation/2026-05-25/
CATEGORIES:Languages
ATTACH;FMTTYPE=image/jpeg:https://iwa-prague.com/wp-content/uploads/2021/05/French-Group-reading-2016-OPT3.jpg
ORGANIZER;CN="Dominic Kopecky":MAILTO:french@iwa-prague.com
END:VEVENT
END:VCALENDAR