BEGIN:VCALENDAR
VERSION:2.0
PRODID:-//International Women&#039;s Association of Prague - ECPv6.15.20//NONSGML v1.0//EN
CALSCALE:GREGORIAN
METHOD:PUBLISH
X-ORIGINAL-URL:https://iwa-prague.com
X-WR-CALDESC:Events for International Women&#039;s Association of Prague
REFRESH-INTERVAL;VALUE=DURATION:PT1H
X-Robots-Tag:noindex
X-PUBLISHED-TTL:PT1H
BEGIN:VTIMEZONE
TZID:Europe/Prague
BEGIN:DAYLIGHT
TZOFFSETFROM:+0100
TZOFFSETTO:+0200
TZNAME:CEST
DTSTART:20250330T010000
END:DAYLIGHT
BEGIN:STANDARD
TZOFFSETFROM:+0200
TZOFFSETTO:+0100
TZNAME:CET
DTSTART:20251026T010000
END:STANDARD
BEGIN:DAYLIGHT
TZOFFSETFROM:+0100
TZOFFSETTO:+0200
TZNAME:CEST
DTSTART:20260329T010000
END:DAYLIGHT
BEGIN:STANDARD
TZOFFSETFROM:+0200
TZOFFSETTO:+0100
TZNAME:CET
DTSTART:20261025T010000
END:STANDARD
BEGIN:DAYLIGHT
TZOFFSETFROM:+0100
TZOFFSETTO:+0200
TZNAME:CEST
DTSTART:20270328T010000
END:DAYLIGHT
BEGIN:STANDARD
TZOFFSETFROM:+0200
TZOFFSETTO:+0100
TZNAME:CET
DTSTART:20271031T010000
END:STANDARD
END:VTIMEZONE
BEGIN:VEVENT
DTSTART;TZID=Europe/Prague:20260224T090000
DTEND;TZID=Europe/Prague:20260224T100000
DTSTAMP:20260425T221527
CREATED:20240926T140857Z
LAST-MODIFIED:20241102T101214Z
UID:10002713-1771923600-1771927200@iwa-prague.com
SUMMARY:Tai Chi Chih
DESCRIPTION:
URL:https://iwa-prague.com/event/tai-chi-chih/2026-02-24/
CATEGORIES:Health & Wellness
ATTACH;FMTTYPE=image/jpeg:https://iwa-prague.com/wp-content/uploads/2022/10/TaiChi_Lebl_CMYK300.jpg
ORGANIZER;CN="Cheryl Caspe":MAILTO:taichi@iwa-prague.com
END:VEVENT
BEGIN:VEVENT
DTSTART;TZID=Europe/Prague:20260226T093000
DTEND;TZID=Europe/Prague:20260226T103000
DTSTAMP:20260425T221527
CREATED:20250107T113134Z
LAST-MODIFIED:20251209T160617Z
UID:10000530-1772098200-1772101800@iwa-prague.com
SUMMARY:Dance For Fun
DESCRIPTION:
URL:https://iwa-prague.com/event/dance-for-fun-2/2026-02-26/
CATEGORIES:Health & Wellness
ATTACH;FMTTYPE=image/jpeg:https://iwa-prague.com/wp-content/uploads/2024/09/dance-group.jpg
ORGANIZER;CN="Valerie Stulikova":MAILTO:dance@iwa-prague.com
END:VEVENT
BEGIN:VEVENT
DTSTART;TZID=Europe/Prague:20260226T120000
DTEND;TZID=Europe/Prague:20260226T133000
DTSTAMP:20260425T221527
CREATED:20251002T155607Z
LAST-MODIFIED:20251209T155038Z
UID:10007546-1772107200-1772112600@iwa-prague.com
SUMMARY:Ping Pong
DESCRIPTION:
URL:https://iwa-prague.com/event/ping-pong-2/2026-02-26/
CATEGORIES:Health & Wellness
ATTACH;FMTTYPE=image/jpeg:https://iwa-prague.com/wp-content/uploads/2025/09/table-tennis-4046307_1280-OPT.jpg
ORGANIZER;CN="Pamela Starobin":MAILTO:pingpong@iwa-prague.com
END:VEVENT
BEGIN:VEVENT
DTSTART;TZID=Europe/Prague:20260227T100000
DTEND;TZID=Europe/Prague:20260227T120000
DTSTAMP:20260425T221527
CREATED:20240926T141157Z
LAST-MODIFIED:20240926T141157Z
UID:10002974-1772186400-1772193600@iwa-prague.com
SUMMARY:Tennis
DESCRIPTION:
URL:https://iwa-prague.com/event/tennis/2026-02-27/
CATEGORIES:Health & Wellness
ATTACH;FMTTYPE=image/jpeg:https://iwa-prague.com/wp-content/uploads/2024/09/tennis-group-sep-2024.jpg
ORGANIZER;CN="Renata Van%C4%9B%C4%8Dkov%C3%A1":MAILTO:tennis@iwa-prague.com
END:VEVENT
BEGIN:VEVENT
DTSTART;TZID=Europe/Prague:20260227T100000
DTEND;TZID=Europe/Prague:20260227T120000
DTSTAMP:20260425T221527
CREATED:20251212T150704Z
LAST-MODIFIED:20251218T074754Z
UID:10008626-1772186400-1772193600@iwa-prague.com
SUMMARY:Walking
DESCRIPTION:
URL:https://iwa-prague.com/event/walking1/2026-02-27/
CATEGORIES:Health & Wellness
ATTACH;FMTTYPE=image/jpeg:https://iwa-prague.com/wp-content/uploads/2019/05/WALKING-GROUP-009-OPT-FI.jpg
ORGANIZER;CN="Carmen Trankovsky":MAILTO:gallery@iwa-prague.com
END:VEVENT
BEGIN:VEVENT
DTSTART;TZID=Europe/Prague:20260302T080000
DTEND;TZID=Europe/Prague:20260302T130000
DTSTAMP:20260425T221527
CREATED:20240926T134840Z
LAST-MODIFIED:20240926T134840Z
UID:10001551-1772438400-1772456400@iwa-prague.com
SUMMARY:Golf
DESCRIPTION:
URL:https://iwa-prague.com/event/golf/2026-03-02/
CATEGORIES:Health & Wellness
ATTACH;FMTTYPE=image/jpeg:https://iwa-prague.com/wp-content/uploads/2021/03/Golf-May-2016-OPT.jpg
ORGANIZER;CN="Isolde Meinken":MAILTO:golf@iwa-prague.com
END:VEVENT
BEGIN:VEVENT
DTSTART;TZID=Europe/Prague:20260302T133000
DTEND;TZID=Europe/Prague:20260302T153000
DTSTAMP:20260425T221527
CREATED:20251022T133521Z
LAST-MODIFIED:20260424T130538Z
UID:10008877-1772458200-1772465400@iwa-prague.com
SUMMARY:City Strolls
DESCRIPTION:
URL:https://iwa-prague.com/event/city-strolls/2026-03-02/
CATEGORIES:Health & Wellness
ATTACH;FMTTYPE=image/jpeg:https://iwa-prague.com/wp-content/uploads/2025/10/citystrolls-OPTpg.jpg
ORGANIZER;CN="Ramona Howerton":MAILTO:citystolls@iwa-prague.com
END:VEVENT
BEGIN:VEVENT
DTSTART;TZID=Europe/Prague:20260303T090000
DTEND;TZID=Europe/Prague:20260303T100000
DTSTAMP:20260425T221527
CREATED:20240926T140857Z
LAST-MODIFIED:20241102T101214Z
UID:10002714-1772528400-1772532000@iwa-prague.com
SUMMARY:Tai Chi Chih
DESCRIPTION:
URL:https://iwa-prague.com/event/tai-chi-chih/2026-03-03/
CATEGORIES:Health & Wellness
ATTACH;FMTTYPE=image/jpeg:https://iwa-prague.com/wp-content/uploads/2022/10/TaiChi_Lebl_CMYK300.jpg
ORGANIZER;CN="Cheryl Caspe":MAILTO:taichi@iwa-prague.com
END:VEVENT
BEGIN:VEVENT
DTSTART;TZID=Europe/Prague:20260304T100000
DTEND;TZID=Europe/Prague:20260304T120000
DTSTAMP:20260425T221527
CREATED:20251212T150704Z
LAST-MODIFIED:20251218T074754Z
UID:10008627-1772618400-1772625600@iwa-prague.com
SUMMARY:Walking
DESCRIPTION:
URL:https://iwa-prague.com/event/walking1/2026-03-04/
CATEGORIES:Health & Wellness
ATTACH;FMTTYPE=image/jpeg:https://iwa-prague.com/wp-content/uploads/2019/05/WALKING-GROUP-009-OPT-FI.jpg
ORGANIZER;CN="Carmen Trankovsky":MAILTO:gallery@iwa-prague.com
END:VEVENT
BEGIN:VEVENT
DTSTART;TZID=Europe/Prague:20260305T093000
DTEND;TZID=Europe/Prague:20260305T103000
DTSTAMP:20260425T221527
CREATED:20250107T113134Z
LAST-MODIFIED:20251209T160617Z
UID:10000531-1772703000-1772706600@iwa-prague.com
SUMMARY:Dance For Fun
DESCRIPTION:
URL:https://iwa-prague.com/event/dance-for-fun-2/2026-03-05/
CATEGORIES:Health & Wellness
ATTACH;FMTTYPE=image/jpeg:https://iwa-prague.com/wp-content/uploads/2024/09/dance-group.jpg
ORGANIZER;CN="Valerie Stulikova":MAILTO:dance@iwa-prague.com
END:VEVENT
BEGIN:VEVENT
DTSTART;TZID=Europe/Prague:20260305T120000
DTEND;TZID=Europe/Prague:20260305T133000
DTSTAMP:20260425T221527
CREATED:20251002T155607Z
LAST-MODIFIED:20251209T155038Z
UID:10007547-1772712000-1772717400@iwa-prague.com
SUMMARY:Ping Pong
DESCRIPTION:
URL:https://iwa-prague.com/event/ping-pong-2/2026-03-05/
CATEGORIES:Health & Wellness
ATTACH;FMTTYPE=image/jpeg:https://iwa-prague.com/wp-content/uploads/2025/09/table-tennis-4046307_1280-OPT.jpg
ORGANIZER;CN="Pamela Starobin":MAILTO:pingpong@iwa-prague.com
END:VEVENT
BEGIN:VEVENT
DTSTART;TZID=Europe/Prague:20260306T100000
DTEND;TZID=Europe/Prague:20260306T120000
DTSTAMP:20260425T221527
CREATED:20240926T141157Z
LAST-MODIFIED:20240926T141157Z
UID:10002975-1772791200-1772798400@iwa-prague.com
SUMMARY:Tennis
DESCRIPTION:
URL:https://iwa-prague.com/event/tennis/2026-03-06/
CATEGORIES:Health & Wellness
ATTACH;FMTTYPE=image/jpeg:https://iwa-prague.com/wp-content/uploads/2024/09/tennis-group-sep-2024.jpg
ORGANIZER;CN="Renata Van%C4%9B%C4%8Dkov%C3%A1":MAILTO:tennis@iwa-prague.com
END:VEVENT
BEGIN:VEVENT
DTSTART;TZID=Europe/Prague:20260309T080000
DTEND;TZID=Europe/Prague:20260309T130000
DTSTAMP:20260425T221527
CREATED:20240926T134840Z
LAST-MODIFIED:20240926T134840Z
UID:10001552-1773043200-1773061200@iwa-prague.com
SUMMARY:Golf
DESCRIPTION:
URL:https://iwa-prague.com/event/golf/2026-03-09/
CATEGORIES:Health & Wellness
ATTACH;FMTTYPE=image/jpeg:https://iwa-prague.com/wp-content/uploads/2021/03/Golf-May-2016-OPT.jpg
ORGANIZER;CN="Isolde Meinken":MAILTO:golf@iwa-prague.com
END:VEVENT
BEGIN:VEVENT
DTSTART;TZID=Europe/Prague:20260310T090000
DTEND;TZID=Europe/Prague:20260310T100000
DTSTAMP:20260425T221527
CREATED:20240926T140857Z
LAST-MODIFIED:20241102T101214Z
UID:10002715-1773133200-1773136800@iwa-prague.com
SUMMARY:Tai Chi Chih
DESCRIPTION:
URL:https://iwa-prague.com/event/tai-chi-chih/2026-03-10/
CATEGORIES:Health & Wellness
ATTACH;FMTTYPE=image/jpeg:https://iwa-prague.com/wp-content/uploads/2022/10/TaiChi_Lebl_CMYK300.jpg
ORGANIZER;CN="Cheryl Caspe":MAILTO:taichi@iwa-prague.com
END:VEVENT
BEGIN:VEVENT
DTSTART;TZID=Europe/Prague:20260311T100000
DTEND;TZID=Europe/Prague:20260311T120000
DTSTAMP:20260425T221527
CREATED:20251212T150704Z
LAST-MODIFIED:20251218T074754Z
UID:10008628-1773223200-1773230400@iwa-prague.com
SUMMARY:Walking
DESCRIPTION:
URL:https://iwa-prague.com/event/walking1/2026-03-11/
CATEGORIES:Health & Wellness
ATTACH;FMTTYPE=image/jpeg:https://iwa-prague.com/wp-content/uploads/2019/05/WALKING-GROUP-009-OPT-FI.jpg
ORGANIZER;CN="Carmen Trankovsky":MAILTO:gallery@iwa-prague.com
END:VEVENT
BEGIN:VEVENT
DTSTART;TZID=Europe/Prague:20260312T093000
DTEND;TZID=Europe/Prague:20260312T103000
DTSTAMP:20260425T221527
CREATED:20250107T113134Z
LAST-MODIFIED:20251209T160617Z
UID:10000532-1773307800-1773311400@iwa-prague.com
SUMMARY:Dance For Fun
DESCRIPTION:
URL:https://iwa-prague.com/event/dance-for-fun-2/2026-03-12/
CATEGORIES:Health & Wellness
ATTACH;FMTTYPE=image/jpeg:https://iwa-prague.com/wp-content/uploads/2024/09/dance-group.jpg
ORGANIZER;CN="Valerie Stulikova":MAILTO:dance@iwa-prague.com
END:VEVENT
BEGIN:VEVENT
DTSTART;TZID=Europe/Prague:20260312T120000
DTEND;TZID=Europe/Prague:20260312T133000
DTSTAMP:20260425T221527
CREATED:20251002T155607Z
LAST-MODIFIED:20251209T155038Z
UID:10007548-1773316800-1773322200@iwa-prague.com
SUMMARY:Ping Pong
DESCRIPTION:
URL:https://iwa-prague.com/event/ping-pong-2/2026-03-12/
CATEGORIES:Health & Wellness
ATTACH;FMTTYPE=image/jpeg:https://iwa-prague.com/wp-content/uploads/2025/09/table-tennis-4046307_1280-OPT.jpg
ORGANIZER;CN="Pamela Starobin":MAILTO:pingpong@iwa-prague.com
END:VEVENT
BEGIN:VEVENT
DTSTART;TZID=Europe/Prague:20260313T100000
DTEND;TZID=Europe/Prague:20260313T120000
DTSTAMP:20260425T221527
CREATED:20240926T141157Z
LAST-MODIFIED:20240926T141157Z
UID:10002976-1773396000-1773403200@iwa-prague.com
SUMMARY:Tennis
DESCRIPTION:
URL:https://iwa-prague.com/event/tennis/2026-03-13/
CATEGORIES:Health & Wellness
ATTACH;FMTTYPE=image/jpeg:https://iwa-prague.com/wp-content/uploads/2024/09/tennis-group-sep-2024.jpg
ORGANIZER;CN="Renata Van%C4%9B%C4%8Dkov%C3%A1":MAILTO:tennis@iwa-prague.com
END:VEVENT
BEGIN:VEVENT
DTSTART;TZID=Europe/Prague:20260316T080000
DTEND;TZID=Europe/Prague:20260316T130000
DTSTAMP:20260425T221527
CREATED:20240926T134840Z
LAST-MODIFIED:20240926T134840Z
UID:10001553-1773648000-1773666000@iwa-prague.com
SUMMARY:Golf
DESCRIPTION:
URL:https://iwa-prague.com/event/golf/2026-03-16/
CATEGORIES:Health & Wellness
ATTACH;FMTTYPE=image/jpeg:https://iwa-prague.com/wp-content/uploads/2021/03/Golf-May-2016-OPT.jpg
ORGANIZER;CN="Isolde Meinken":MAILTO:golf@iwa-prague.com
END:VEVENT
BEGIN:VEVENT
DTSTART;TZID=Europe/Prague:20260317T090000
DTEND;TZID=Europe/Prague:20260317T100000
DTSTAMP:20260425T221527
CREATED:20240926T140857Z
LAST-MODIFIED:20241102T101214Z
UID:10002716-1773738000-1773741600@iwa-prague.com
SUMMARY:Tai Chi Chih
DESCRIPTION:
URL:https://iwa-prague.com/event/tai-chi-chih/2026-03-17/
CATEGORIES:Health & Wellness
ATTACH;FMTTYPE=image/jpeg:https://iwa-prague.com/wp-content/uploads/2022/10/TaiChi_Lebl_CMYK300.jpg
ORGANIZER;CN="Cheryl Caspe":MAILTO:taichi@iwa-prague.com
END:VEVENT
BEGIN:VEVENT
DTSTART;TZID=Europe/Prague:20260319T093000
DTEND;TZID=Europe/Prague:20260319T103000
DTSTAMP:20260425T221527
CREATED:20250107T113134Z
LAST-MODIFIED:20251209T160617Z
UID:10000533-1773912600-1773916200@iwa-prague.com
SUMMARY:Dance For Fun
DESCRIPTION:
URL:https://iwa-prague.com/event/dance-for-fun-2/2026-03-19/
CATEGORIES:Health & Wellness
ATTACH;FMTTYPE=image/jpeg:https://iwa-prague.com/wp-content/uploads/2024/09/dance-group.jpg
ORGANIZER;CN="Valerie Stulikova":MAILTO:dance@iwa-prague.com
END:VEVENT
BEGIN:VEVENT
DTSTART;TZID=Europe/Prague:20260319T120000
DTEND;TZID=Europe/Prague:20260319T133000
DTSTAMP:20260425T221527
CREATED:20251002T155607Z
LAST-MODIFIED:20251209T155038Z
UID:10007549-1773921600-1773927000@iwa-prague.com
SUMMARY:Ping Pong
DESCRIPTION:
URL:https://iwa-prague.com/event/ping-pong-2/2026-03-19/
CATEGORIES:Health & Wellness
ATTACH;FMTTYPE=image/jpeg:https://iwa-prague.com/wp-content/uploads/2025/09/table-tennis-4046307_1280-OPT.jpg
ORGANIZER;CN="Pamela Starobin":MAILTO:pingpong@iwa-prague.com
END:VEVENT
BEGIN:VEVENT
DTSTART;TZID=Europe/Prague:20260320T100000
DTEND;TZID=Europe/Prague:20260320T120000
DTSTAMP:20260425T221527
CREATED:20240926T141157Z
LAST-MODIFIED:20240926T141157Z
UID:10002977-1774000800-1774008000@iwa-prague.com
SUMMARY:Tennis
DESCRIPTION:
URL:https://iwa-prague.com/event/tennis/2026-03-20/
CATEGORIES:Health & Wellness
ATTACH;FMTTYPE=image/jpeg:https://iwa-prague.com/wp-content/uploads/2024/09/tennis-group-sep-2024.jpg
ORGANIZER;CN="Renata Van%C4%9B%C4%8Dkov%C3%A1":MAILTO:tennis@iwa-prague.com
END:VEVENT
BEGIN:VEVENT
DTSTART;TZID=Europe/Prague:20260320T100000
DTEND;TZID=Europe/Prague:20260320T120000
DTSTAMP:20260425T221527
CREATED:20251212T150704Z
LAST-MODIFIED:20251218T074754Z
UID:10008629-1774000800-1774008000@iwa-prague.com
SUMMARY:Walking
DESCRIPTION:
URL:https://iwa-prague.com/event/walking1/2026-03-20/
CATEGORIES:Health & Wellness
ATTACH;FMTTYPE=image/jpeg:https://iwa-prague.com/wp-content/uploads/2019/05/WALKING-GROUP-009-OPT-FI.jpg
ORGANIZER;CN="Carmen Trankovsky":MAILTO:gallery@iwa-prague.com
END:VEVENT
BEGIN:VEVENT
DTSTART;TZID=Europe/Prague:20260323T080000
DTEND;TZID=Europe/Prague:20260323T130000
DTSTAMP:20260425T221527
CREATED:20240926T134840Z
LAST-MODIFIED:20240926T134840Z
UID:10001554-1774252800-1774270800@iwa-prague.com
SUMMARY:Golf
DESCRIPTION:
URL:https://iwa-prague.com/event/golf/2026-03-23/
CATEGORIES:Health & Wellness
ATTACH;FMTTYPE=image/jpeg:https://iwa-prague.com/wp-content/uploads/2021/03/Golf-May-2016-OPT.jpg
ORGANIZER;CN="Isolde Meinken":MAILTO:golf@iwa-prague.com
END:VEVENT
BEGIN:VEVENT
DTSTART;TZID=Europe/Prague:20260324T090000
DTEND;TZID=Europe/Prague:20260324T100000
DTSTAMP:20260425T221527
CREATED:20240926T140857Z
LAST-MODIFIED:20241102T101214Z
UID:10002717-1774342800-1774346400@iwa-prague.com
SUMMARY:Tai Chi Chih
DESCRIPTION:
URL:https://iwa-prague.com/event/tai-chi-chih/2026-03-24/
CATEGORIES:Health & Wellness
ATTACH;FMTTYPE=image/jpeg:https://iwa-prague.com/wp-content/uploads/2022/10/TaiChi_Lebl_CMYK300.jpg
ORGANIZER;CN="Cheryl Caspe":MAILTO:taichi@iwa-prague.com
END:VEVENT
BEGIN:VEVENT
DTSTART;TZID=Europe/Prague:20260326T093000
DTEND;TZID=Europe/Prague:20260326T103000
DTSTAMP:20260425T221527
CREATED:20250107T113134Z
LAST-MODIFIED:20251209T160617Z
UID:10000534-1774517400-1774521000@iwa-prague.com
SUMMARY:Dance For Fun
DESCRIPTION:
URL:https://iwa-prague.com/event/dance-for-fun-2/2026-03-26/
CATEGORIES:Health & Wellness
ATTACH;FMTTYPE=image/jpeg:https://iwa-prague.com/wp-content/uploads/2024/09/dance-group.jpg
ORGANIZER;CN="Valerie Stulikova":MAILTO:dance@iwa-prague.com
END:VEVENT
BEGIN:VEVENT
DTSTART;TZID=Europe/Prague:20260326T120000
DTEND;TZID=Europe/Prague:20260326T133000
DTSTAMP:20260425T221527
CREATED:20251002T155607Z
LAST-MODIFIED:20251209T155038Z
UID:10007550-1774526400-1774531800@iwa-prague.com
SUMMARY:Ping Pong
DESCRIPTION:
URL:https://iwa-prague.com/event/ping-pong-2/2026-03-26/
CATEGORIES:Health & Wellness
ATTACH;FMTTYPE=image/jpeg:https://iwa-prague.com/wp-content/uploads/2025/09/table-tennis-4046307_1280-OPT.jpg
ORGANIZER;CN="Pamela Starobin":MAILTO:pingpong@iwa-prague.com
END:VEVENT
BEGIN:VEVENT
DTSTART;TZID=Europe/Prague:20260327T100000
DTEND;TZID=Europe/Prague:20260327T120000
DTSTAMP:20260425T221527
CREATED:20240926T141157Z
LAST-MODIFIED:20240926T141157Z
UID:10002978-1774605600-1774612800@iwa-prague.com
SUMMARY:Tennis
DESCRIPTION:
URL:https://iwa-prague.com/event/tennis/2026-03-27/
CATEGORIES:Health & Wellness
ATTACH;FMTTYPE=image/jpeg:https://iwa-prague.com/wp-content/uploads/2024/09/tennis-group-sep-2024.jpg
ORGANIZER;CN="Renata Van%C4%9B%C4%8Dkov%C3%A1":MAILTO:tennis@iwa-prague.com
END:VEVENT
BEGIN:VEVENT
DTSTART;TZID=Europe/Prague:20260327T100000
DTEND;TZID=Europe/Prague:20260327T120000
DTSTAMP:20260425T221527
CREATED:20251212T150704Z
LAST-MODIFIED:20251218T074754Z
UID:10008630-1774605600-1774612800@iwa-prague.com
SUMMARY:Walking
DESCRIPTION:
URL:https://iwa-prague.com/event/walking1/2026-03-27/
CATEGORIES:Health & Wellness
ATTACH;FMTTYPE=image/jpeg:https://iwa-prague.com/wp-content/uploads/2019/05/WALKING-GROUP-009-OPT-FI.jpg
ORGANIZER;CN="Carmen Trankovsky":MAILTO:gallery@iwa-prague.com
END:VEVENT
END:VCALENDAR