BEGIN:VCALENDAR
VERSION:2.0
PRODID:-//International Women&#039;s Association of Prague - ECPv6.15.20//NONSGML v1.0//EN
CALSCALE:GREGORIAN
METHOD:PUBLISH
X-WR-CALNAME:International Women&#039;s Association of Prague
X-ORIGINAL-URL:https://iwa-prague.com
X-WR-CALDESC:Events for International Women&#039;s Association of Prague
REFRESH-INTERVAL;VALUE=DURATION:PT1H
X-Robots-Tag:noindex
X-PUBLISHED-TTL:PT1H
BEGIN:VTIMEZONE
TZID:Europe/Prague
BEGIN:DAYLIGHT
TZOFFSETFROM:+0100
TZOFFSETTO:+0200
TZNAME:CEST
DTSTART:20230326T010000
END:DAYLIGHT
BEGIN:STANDARD
TZOFFSETFROM:+0200
TZOFFSETTO:+0100
TZNAME:CET
DTSTART:20231029T010000
END:STANDARD
BEGIN:DAYLIGHT
TZOFFSETFROM:+0100
TZOFFSETTO:+0200
TZNAME:CEST
DTSTART:20240331T010000
END:DAYLIGHT
BEGIN:STANDARD
TZOFFSETFROM:+0200
TZOFFSETTO:+0100
TZNAME:CET
DTSTART:20241027T010000
END:STANDARD
BEGIN:DAYLIGHT
TZOFFSETFROM:+0100
TZOFFSETTO:+0200
TZNAME:CEST
DTSTART:20250330T010000
END:DAYLIGHT
BEGIN:STANDARD
TZOFFSETFROM:+0200
TZOFFSETTO:+0100
TZNAME:CET
DTSTART:20251026T010000
END:STANDARD
BEGIN:DAYLIGHT
TZOFFSETFROM:+0100
TZOFFSETTO:+0200
TZNAME:CEST
DTSTART:20260329T010000
END:DAYLIGHT
BEGIN:STANDARD
TZOFFSETFROM:+0200
TZOFFSETTO:+0100
TZNAME:CET
DTSTART:20261025T010000
END:STANDARD
END:VTIMEZONE
BEGIN:VEVENT
DTSTART;TZID=Europe/Prague:20250220T180000
DTEND;TZID=Europe/Prague:20250220T200000
DTSTAMP:20260425T210859
CREATED:20240926T131356Z
LAST-MODIFIED:20260323T125606Z
UID:10005194-1740074400-1740081600@iwa-prague.com
SUMMARY:Dining Divas
DESCRIPTION:
URL:https://iwa-prague.com/event/dinner-divas-group/2025-02-20/
CATEGORIES:Evening Groups
ATTACH;FMTTYPE=image/png:https://iwa-prague.com/wp-content/uploads/2023/08/dinner-divas-01.png
ORGANIZER;CN="Lorna Phillipson":MAILTO:dinnerdivas@iwa-prague.com
END:VEVENT
BEGIN:VEVENT
DTSTART;TZID=Europe/Prague:20250207T173000
DTEND;TZID=Europe/Prague:20250207T190000
DTSTAMP:20260425T210859
CREATED:20240926T135133Z
LAST-MODIFIED:20260320T111626Z
UID:10001742-1738949400-1738954800@iwa-prague.com
SUMMARY:Happy Hour
DESCRIPTION:
URL:https://iwa-prague.com/event/happy-hour/2025-02-07/
CATEGORIES:Evening Groups
ATTACH;FMTTYPE=image/jpeg:https://iwa-prague.com/wp-content/uploads/2021/05/HH-Aug-2017-OPT.jpg
ORGANIZER;CN="Leslie Nicholson":MAILTO:happyhour@iwa-prague.com
END:VEVENT
BEGIN:VEVENT
DTSTART;TZID=Europe/Prague:20250205T194000
DTEND;TZID=Europe/Prague:20250205T223000
DTSTAMP:20260425T210859
CREATED:20240806T090730Z
LAST-MODIFIED:20250131T162103Z
UID:10005923-1738784400-1738794600@iwa-prague.com
SUMMARY:Evening Cinema
DESCRIPTION:Please email the group leader for more details.
URL:https://iwa-prague.com/event/evening-cinema/2025-02-05/
CATEGORIES:Evening Groups
ATTACH;FMTTYPE=image/jpeg:https://iwa-prague.com/wp-content/uploads/2024/05/evening-activities.jpg
ORGANIZER;CN="Sandra Hill":MAILTO:eveningcinema@iwa-prague.com
END:VEVENT
BEGIN:VEVENT
DTSTART;TZID=Europe/Prague:20250116T180000
DTEND;TZID=Europe/Prague:20250116T200000
DTSTAMP:20260425T210859
CREATED:20240926T131356Z
LAST-MODIFIED:20260323T125606Z
UID:10008963-1737050400-1737057600@iwa-prague.com
SUMMARY:Dining Divas
DESCRIPTION:
URL:https://iwa-prague.com/event/dinner-divas-group/2025-01-16/
CATEGORIES:Evening Groups
ATTACH;FMTTYPE=image/png:https://iwa-prague.com/wp-content/uploads/2023/08/dinner-divas-01.png
ORGANIZER;CN="Lorna Phillipson":MAILTO:dinnerdivas@iwa-prague.com
END:VEVENT
BEGIN:VEVENT
DTSTART;TZID=Europe/Prague:20250115T180000
DTEND;TZID=Europe/Prague:20250115T200000
DTSTAMP:20260425T210859
CREATED:20250111T084157Z
LAST-MODIFIED:20260304T161244Z
UID:10006045-1736964000-1736971200@iwa-prague.com
SUMMARY:Wellness
DESCRIPTION:
URL:https://iwa-prague.com/event/wellness/2025-01-15/
CATEGORIES:Evening Groups
ATTACH;FMTTYPE=image/jpeg:https://iwa-prague.com/wp-content/uploads/2022/10/wellness-OPT-scaled.jpg
ORGANIZER;CN="Fernanda Escobar Illoldi":MAILTO:wellness@iwa-prague.com
END:VEVENT
BEGIN:VEVENT
DTSTART;TZID=Europe/Prague:20241219T180000
DTEND;TZID=Europe/Prague:20241219T200000
DTSTAMP:20260425T210859
CREATED:20240926T131356Z
LAST-MODIFIED:20260323T125606Z
UID:10008962-1734631200-1734638400@iwa-prague.com
SUMMARY:Dining Divas
DESCRIPTION:
URL:https://iwa-prague.com/event/dinner-divas-group/2024-12-19/
CATEGORIES:Evening Groups
ATTACH;FMTTYPE=image/png:https://iwa-prague.com/wp-content/uploads/2023/08/dinner-divas-01.png
ORGANIZER;CN="Lorna Phillipson":MAILTO:dinnerdivas@iwa-prague.com
END:VEVENT
BEGIN:VEVENT
DTSTART;TZID=Europe/Prague:20241216T173000
DTEND;TZID=Europe/Prague:20241216T210000
DTSTAMP:20260425T210859
CREATED:20240806T090730Z
LAST-MODIFIED:20250131T162103Z
UID:10005568-1734370200-1734382800@iwa-prague.com
SUMMARY:Evening Cinema
DESCRIPTION:Please email the group leader for more details.
URL:https://iwa-prague.com/event/evening-cinema/2024-12-16/
CATEGORIES:Evening Groups
ATTACH;FMTTYPE=image/jpeg:https://iwa-prague.com/wp-content/uploads/2024/05/evening-activities.jpg
ORGANIZER;CN="Sandra Hill":MAILTO:eveningcinema@iwa-prague.com
END:VEVENT
BEGIN:VEVENT
DTSTART;TZID=Europe/Prague:20241205T173000
DTEND;TZID=Europe/Prague:20241205T190000
DTSTAMP:20260425T210859
CREATED:20240926T135133Z
LAST-MODIFIED:20260320T111626Z
UID:10005552-1733419800-1733425200@iwa-prague.com
SUMMARY:Happy Hour
DESCRIPTION:
URL:https://iwa-prague.com/event/happy-hour/2024-12-05/
CATEGORIES:Evening Groups
ATTACH;FMTTYPE=image/jpeg:https://iwa-prague.com/wp-content/uploads/2021/05/HH-Aug-2017-OPT.jpg
ORGANIZER;CN="Leslie Nicholson":MAILTO:happyhour@iwa-prague.com
END:VEVENT
BEGIN:VEVENT
DTSTART;TZID=Europe/Prague:20241128T180000
DTEND;TZID=Europe/Prague:20241128T200000
DTSTAMP:20260425T210859
CREATED:20240926T131356Z
LAST-MODIFIED:20260323T125606Z
UID:10005546-1732816800-1732824000@iwa-prague.com
SUMMARY:Dining Divas
DESCRIPTION:
URL:https://iwa-prague.com/event/dinner-divas-group/2024-11-28/
CATEGORIES:Evening Groups
ATTACH;FMTTYPE=image/png:https://iwa-prague.com/wp-content/uploads/2023/08/dinner-divas-01.png
ORGANIZER;CN="Lorna Phillipson":MAILTO:dinnerdivas@iwa-prague.com
END:VEVENT
BEGIN:VEVENT
DTSTART;TZID=Europe/Prague:20241101T173000
DTEND;TZID=Europe/Prague:20241101T190000
DTSTAMP:20260425T210859
CREATED:20240926T135133Z
LAST-MODIFIED:20260320T111626Z
UID:10001739-1730482200-1730487600@iwa-prague.com
SUMMARY:Happy Hour
DESCRIPTION:
URL:https://iwa-prague.com/event/happy-hour/2024-11-01/
CATEGORIES:Evening Groups
ATTACH;FMTTYPE=image/jpeg:https://iwa-prague.com/wp-content/uploads/2021/05/HH-Aug-2017-OPT.jpg
ORGANIZER;CN="Leslie Nicholson":MAILTO:happyhour@iwa-prague.com
END:VEVENT
BEGIN:VEVENT
DTSTART;TZID=Europe/Prague:20241024T180000
DTEND;TZID=Europe/Prague:20241024T200000
DTSTAMP:20260425T210859
CREATED:20240926T131356Z
LAST-MODIFIED:20260323T125606Z
UID:10005191-1729792800-1729800000@iwa-prague.com
SUMMARY:Dining Divas
DESCRIPTION:
URL:https://iwa-prague.com/event/dinner-divas-group/2024-10-24/
CATEGORIES:Evening Groups
ATTACH;FMTTYPE=image/png:https://iwa-prague.com/wp-content/uploads/2023/08/dinner-divas-01.png
ORGANIZER;CN="Lorna Phillipson":MAILTO:dinnerdivas@iwa-prague.com
END:VEVENT
BEGIN:VEVENT
DTSTART;TZID=Europe/Prague:20241017T180000
DTEND;TZID=Europe/Prague:20241017T200000
DTSTAMP:20260425T210859
CREATED:20240926T131356Z
LAST-MODIFIED:20260323T125606Z
UID:10005545-1729188000-1729195200@iwa-prague.com
SUMMARY:Dining Divas
DESCRIPTION:
URL:https://iwa-prague.com/event/dinner-divas-group/2024-10-17/
CATEGORIES:Evening Groups
ATTACH;FMTTYPE=image/png:https://iwa-prague.com/wp-content/uploads/2023/08/dinner-divas-01.png
ORGANIZER;CN="Lorna Phillipson":MAILTO:dinnerdivas@iwa-prague.com
END:VEVENT
BEGIN:VEVENT
DTSTART;TZID=Europe/Prague:20241004T173000
DTEND;TZID=Europe/Prague:20241004T190000
DTSTAMP:20260425T210859
CREATED:20240926T135133Z
LAST-MODIFIED:20260320T111626Z
UID:10001738-1728063000-1728068400@iwa-prague.com
SUMMARY:Happy Hour
DESCRIPTION:
URL:https://iwa-prague.com/event/happy-hour/2024-10-04/
CATEGORIES:Evening Groups
ATTACH;FMTTYPE=image/jpeg:https://iwa-prague.com/wp-content/uploads/2021/05/HH-Aug-2017-OPT.jpg
ORGANIZER;CN="Leslie Nicholson":MAILTO:happyhour@iwa-prague.com
END:VEVENT
BEGIN:VEVENT
DTSTART;TZID=Europe/Prague:20240919T180000
DTEND;TZID=Europe/Prague:20240919T200000
DTSTAMP:20260425T210859
CREATED:20240926T131356Z
LAST-MODIFIED:20260323T125606Z
UID:10005232-1726768800-1726776000@iwa-prague.com
SUMMARY:Dining Divas
DESCRIPTION:
URL:https://iwa-prague.com/event/dinner-divas-group/2024-09-19/
CATEGORIES:Evening Groups
ATTACH;FMTTYPE=image/png:https://iwa-prague.com/wp-content/uploads/2023/08/dinner-divas-01.png
ORGANIZER;CN="Lorna Phillipson":MAILTO:dinnerdivas@iwa-prague.com
END:VEVENT
BEGIN:VEVENT
DTSTART;TZID=Europe/Prague:20240830T183000
DTEND;TZID=Europe/Prague:20240830T210000
DTSTAMP:20260425T210859
CREATED:20240806T090730Z
LAST-MODIFIED:20250131T162103Z
UID:10000017-1725042600-1725051600@iwa-prague.com
SUMMARY:Evening Cinema
DESCRIPTION:Please email the group leader for more details.
URL:https://iwa-prague.com/event/evening-cinema/2024-08-30/
CATEGORIES:Evening Groups
ATTACH;FMTTYPE=image/jpeg:https://iwa-prague.com/wp-content/uploads/2024/05/evening-activities.jpg
ORGANIZER;CN="Sandra Hill":MAILTO:eveningcinema@iwa-prague.com
END:VEVENT
END:VCALENDAR