BEGIN:VCALENDAR
VERSION:2.0
PRODID:-//International Women&#039;s Association of Prague - ECPv6.15.20//NONSGML v1.0//EN
CALSCALE:GREGORIAN
METHOD:PUBLISH
X-WR-CALNAME:International Women&#039;s Association of Prague
X-ORIGINAL-URL:https://iwa-prague.com
X-WR-CALDESC:Events for International Women&#039;s Association of Prague
REFRESH-INTERVAL;VALUE=DURATION:PT1H
X-Robots-Tag:noindex
X-PUBLISHED-TTL:PT1H
BEGIN:VTIMEZONE
TZID:Europe/Prague
BEGIN:DAYLIGHT
TZOFFSETFROM:+0100
TZOFFSETTO:+0200
TZNAME:CEST
DTSTART:20240331T010000
END:DAYLIGHT
BEGIN:STANDARD
TZOFFSETFROM:+0200
TZOFFSETTO:+0100
TZNAME:CET
DTSTART:20241027T010000
END:STANDARD
BEGIN:DAYLIGHT
TZOFFSETFROM:+0100
TZOFFSETTO:+0200
TZNAME:CEST
DTSTART:20250330T010000
END:DAYLIGHT
BEGIN:STANDARD
TZOFFSETFROM:+0200
TZOFFSETTO:+0100
TZNAME:CET
DTSTART:20251026T010000
END:STANDARD
BEGIN:DAYLIGHT
TZOFFSETFROM:+0100
TZOFFSETTO:+0200
TZNAME:CEST
DTSTART:20260329T010000
END:DAYLIGHT
BEGIN:STANDARD
TZOFFSETFROM:+0200
TZOFFSETTO:+0100
TZNAME:CET
DTSTART:20261025T010000
END:STANDARD
BEGIN:DAYLIGHT
TZOFFSETFROM:+0100
TZOFFSETTO:+0200
TZNAME:CEST
DTSTART:20270328T010000
END:DAYLIGHT
BEGIN:STANDARD
TZOFFSETFROM:+0200
TZOFFSETTO:+0100
TZNAME:CET
DTSTART:20271031T010000
END:STANDARD
END:VTIMEZONE
BEGIN:VEVENT
DTSTART;TZID=Europe/Prague:20260109T173000
DTEND;TZID=Europe/Prague:20260109T190000
DTSTAMP:20260424T123243
CREATED:20240926T135133Z
LAST-MODIFIED:20260320T111626Z
UID:10008619-1767979800-1767985200@iwa-prague.com
SUMMARY:Happy Hour
DESCRIPTION:
URL:https://iwa-prague.com/event/happy-hour/2026-01-09/
CATEGORIES:Evening Groups
ATTACH;FMTTYPE=image/jpeg:https://iwa-prague.com/wp-content/uploads/2021/05/HH-Aug-2017-OPT.jpg
ORGANIZER;CN="Leslie Nicholson":MAILTO:happyhour@iwa-prague.com
END:VEVENT
BEGIN:VEVENT
DTSTART;TZID=Europe/Prague:20251218T180000
DTEND;TZID=Europe/Prague:20251218T200000
DTSTAMP:20260424T123243
CREATED:20240926T131356Z
LAST-MODIFIED:20260323T125606Z
UID:10005201-1766080800-1766088000@iwa-prague.com
SUMMARY:Dining Divas
DESCRIPTION:
URL:https://iwa-prague.com/event/dinner-divas-group/2025-12-18/
CATEGORIES:Evening Groups
ATTACH;FMTTYPE=image/png:https://iwa-prague.com/wp-content/uploads/2023/08/dinner-divas-01.png
ORGANIZER;CN="Lorna Phillipson":MAILTO:dinnerdivas@iwa-prague.com
END:VEVENT
BEGIN:VEVENT
DTSTART;TZID=Europe/Prague:20251126T190000
DTEND;TZID=Europe/Prague:20251126T220000
DTSTAMP:20260424T123243
CREATED:20250328T121338Z
LAST-MODIFIED:20250605T143738Z
UID:10006100-1764183600-1764194400@iwa-prague.com
SUMMARY:Evening Book Club
DESCRIPTION:
URL:https://iwa-prague.com/event/evening-book-club/2025-11-26/
CATEGORIES:Evening Groups
ATTACH;FMTTYPE=image/jpeg:https://iwa-prague.com/wp-content/uploads/2025/03/books-from-connie-OPT.jpg
ORGANIZER;CN="Connie Shattuck":MAILTO:interestgroups@iwa-prague.com
END:VEVENT
BEGIN:VEVENT
DTSTART;TZID=Europe/Prague:20251122T153000
DTEND;TZID=Europe/Prague:20251122T183000
DTSTAMP:20260424T123243
CREATED:20250523T142029Z
LAST-MODIFIED:20260421T145828Z
UID:10008166-1763825400-1763836200@iwa-prague.com
SUMMARY:Plus One
DESCRIPTION:
URL:https://iwa-prague.com/event/plus-one/2025-11-22/
CATEGORIES:Evening Groups
ATTACH;FMTTYPE=image/jpeg:https://iwa-prague.com/wp-content/uploads/2025/05/plusone-OPT.jpg
ORGANIZER;CN="Vivian Strang":MAILTO:plusone@iwa-prague.com
END:VEVENT
BEGIN:VEVENT
DTSTART;TZID=Europe/Prague:20251120T180000
DTEND;TZID=Europe/Prague:20251120T200000
DTSTAMP:20260424T123243
CREATED:20240926T131356Z
LAST-MODIFIED:20260323T125606Z
UID:10008967-1763661600-1763668800@iwa-prague.com
SUMMARY:Dining Divas
DESCRIPTION:
URL:https://iwa-prague.com/event/dinner-divas-group/2025-11-20/
CATEGORIES:Evening Groups
ATTACH;FMTTYPE=image/png:https://iwa-prague.com/wp-content/uploads/2023/08/dinner-divas-01.png
ORGANIZER;CN="Lorna Phillipson":MAILTO:dinnerdivas@iwa-prague.com
END:VEVENT
BEGIN:VEVENT
DTSTART;TZID=Europe/Prague:20251107T173000
DTEND;TZID=Europe/Prague:20251107T190000
DTSTAMP:20260424T123243
CREATED:20240926T135133Z
LAST-MODIFIED:20260320T111626Z
UID:10001751-1762536600-1762542000@iwa-prague.com
SUMMARY:Happy Hour
DESCRIPTION:
URL:https://iwa-prague.com/event/happy-hour/2025-11-07/
CATEGORIES:Evening Groups
ATTACH;FMTTYPE=image/jpeg:https://iwa-prague.com/wp-content/uploads/2021/05/HH-Aug-2017-OPT.jpg
ORGANIZER;CN="Leslie Nicholson":MAILTO:happyhour@iwa-prague.com
END:VEVENT
BEGIN:VEVENT
DTSTART;TZID=Europe/Prague:20251029T183000
DTEND;TZID=Europe/Prague:20251029T213000
DTSTAMP:20260424T123243
CREATED:20250523T142029Z
LAST-MODIFIED:20260421T145828Z
UID:10007525-1761762600-1761773400@iwa-prague.com
SUMMARY:Plus One
DESCRIPTION:
URL:https://iwa-prague.com/event/plus-one/2025-10-29/
CATEGORIES:Evening Groups
ATTACH;FMTTYPE=image/jpeg:https://iwa-prague.com/wp-content/uploads/2025/05/plusone-OPT.jpg
ORGANIZER;CN="Vivian Strang":MAILTO:plusone@iwa-prague.com
END:VEVENT
BEGIN:VEVENT
DTSTART;TZID=Europe/Prague:20251022T190000
DTEND;TZID=Europe/Prague:20251022T220000
DTSTAMP:20260424T123243
CREATED:20250328T121338Z
LAST-MODIFIED:20250605T143738Z
UID:10006099-1761159600-1761170400@iwa-prague.com
SUMMARY:Evening Book Club
DESCRIPTION:
URL:https://iwa-prague.com/event/evening-book-club/2025-10-22/
CATEGORIES:Evening Groups
ATTACH;FMTTYPE=image/jpeg:https://iwa-prague.com/wp-content/uploads/2025/03/books-from-connie-OPT.jpg
ORGANIZER;CN="Connie Shattuck":MAILTO:interestgroups@iwa-prague.com
END:VEVENT
BEGIN:VEVENT
DTSTART;TZID=Europe/Prague:20251016T180000
DTEND;TZID=Europe/Prague:20251016T200000
DTSTAMP:20260424T123243
CREATED:20240926T131356Z
LAST-MODIFIED:20260323T125606Z
UID:10000721-1760637600-1760644800@iwa-prague.com
SUMMARY:Dining Divas
DESCRIPTION:
URL:https://iwa-prague.com/event/dinner-divas-group/2025-10-16/
CATEGORIES:Evening Groups
ATTACH;FMTTYPE=image/png:https://iwa-prague.com/wp-content/uploads/2023/08/dinner-divas-01.png
ORGANIZER;CN="Lorna Phillipson":MAILTO:dinnerdivas@iwa-prague.com
END:VEVENT
BEGIN:VEVENT
DTSTART;TZID=Europe/Prague:20251015T180000
DTEND;TZID=Europe/Prague:20251015T193000
DTSTAMP:20260424T123243
CREATED:20250111T084157Z
LAST-MODIFIED:20260304T161244Z
UID:10007506-1760551200-1760556600@iwa-prague.com
SUMMARY:Wellness
DESCRIPTION:
URL:https://iwa-prague.com/event/wellness/2025-10-15/
CATEGORIES:Evening Groups
ATTACH;FMTTYPE=image/jpeg:https://iwa-prague.com/wp-content/uploads/2022/10/wellness-OPT-scaled.jpg
ORGANIZER;CN="Fernanda Escobar Illoldi":MAILTO:wellness@iwa-prague.com
END:VEVENT
BEGIN:VEVENT
DTSTART;TZID=Europe/Prague:20251003T173000
DTEND;TZID=Europe/Prague:20251003T190000
DTSTAMP:20260424T123243
CREATED:20240926T135133Z
LAST-MODIFIED:20260320T111626Z
UID:10001750-1759512600-1759518000@iwa-prague.com
SUMMARY:Happy Hour
DESCRIPTION:
URL:https://iwa-prague.com/event/happy-hour/2025-10-03/
CATEGORIES:Evening Groups
ATTACH;FMTTYPE=image/jpeg:https://iwa-prague.com/wp-content/uploads/2021/05/HH-Aug-2017-OPT.jpg
ORGANIZER;CN="Leslie Nicholson":MAILTO:happyhour@iwa-prague.com
END:VEVENT
BEGIN:VEVENT
DTSTART;TZID=Europe/Prague:20250924T190000
DTEND;TZID=Europe/Prague:20250924T220000
DTSTAMP:20260424T123243
CREATED:20250328T121338Z
LAST-MODIFIED:20250605T143738Z
UID:10006098-1758740400-1758751200@iwa-prague.com
SUMMARY:Evening Book Club
DESCRIPTION:
URL:https://iwa-prague.com/event/evening-book-club/2025-09-24/
CATEGORIES:Evening Groups
ATTACH;FMTTYPE=image/jpeg:https://iwa-prague.com/wp-content/uploads/2025/03/books-from-connie-OPT.jpg
ORGANIZER;CN="Connie Shattuck":MAILTO:interestgroups@iwa-prague.com
END:VEVENT
BEGIN:VEVENT
DTSTART;TZID=Europe/Prague:20250920T160000
DTEND;TZID=Europe/Prague:20250920T200000
DTSTAMP:20260424T123243
CREATED:20250523T142029Z
LAST-MODIFIED:20260421T145828Z
UID:10007349-1758384000-1758398400@iwa-prague.com
SUMMARY:Plus One
DESCRIPTION:
URL:https://iwa-prague.com/event/plus-one/2025-09-20/
CATEGORIES:Evening Groups
ATTACH;FMTTYPE=image/jpeg:https://iwa-prague.com/wp-content/uploads/2025/05/plusone-OPT.jpg
ORGANIZER;CN="Vivian Strang":MAILTO:plusone@iwa-prague.com
END:VEVENT
BEGIN:VEVENT
DTSTART;TZID=Europe/Prague:20250918T180000
DTEND;TZID=Europe/Prague:20250918T200000
DTSTAMP:20260424T123243
CREATED:20240926T131356Z
LAST-MODIFIED:20260323T125606Z
UID:10005199-1758218400-1758225600@iwa-prague.com
SUMMARY:Dining Divas
DESCRIPTION:
URL:https://iwa-prague.com/event/dinner-divas-group/2025-09-18/
CATEGORIES:Evening Groups
ATTACH;FMTTYPE=image/png:https://iwa-prague.com/wp-content/uploads/2023/08/dinner-divas-01.png
ORGANIZER;CN="Lorna Phillipson":MAILTO:dinnerdivas@iwa-prague.com
END:VEVENT
BEGIN:VEVENT
DTSTART;TZID=Europe/Prague:20250916T173000
DTEND;TZID=Europe/Prague:20250916T200000
DTSTAMP:20260424T123243
CREATED:20250219T141857Z
LAST-MODIFIED:20260218T171048Z
UID:10007496-1758043800-1758052800@iwa-prague.com
SUMMARY:Evening Cinema
DESCRIPTION:
URL:https://iwa-prague.com/event/evening-cinema-2/2025-09-16/
CATEGORIES:Evening Groups
ATTACH;FMTTYPE=image/jpeg:https://iwa-prague.com/wp-content/uploads/2017/03/evecinema2-OPT-scaled.jpg
ORGANIZER;CN="Sandra Hill":MAILTO:eveningcinema@iwa-prague.com
END:VEVENT
BEGIN:VEVENT
DTSTART;TZID=Europe/Prague:20250911T180000
DTEND;TZID=Europe/Prague:20250911T193000
DTSTAMP:20260424T123243
CREATED:20250111T084157Z
LAST-MODIFIED:20260304T161244Z
UID:10007363-1757613600-1757619000@iwa-prague.com
SUMMARY:Wellness
DESCRIPTION:
URL:https://iwa-prague.com/event/wellness/2025-09-11/
CATEGORIES:Evening Groups
ATTACH;FMTTYPE=image/jpeg:https://iwa-prague.com/wp-content/uploads/2022/10/wellness-OPT-scaled.jpg
ORGANIZER;CN="Fernanda Escobar Illoldi":MAILTO:wellness@iwa-prague.com
END:VEVENT
BEGIN:VEVENT
DTSTART;TZID=Europe/Prague:20250905T173000
DTEND;TZID=Europe/Prague:20250905T190000
DTSTAMP:20260424T123243
CREATED:20240926T135133Z
LAST-MODIFIED:20260320T111626Z
UID:10001749-1757093400-1757098800@iwa-prague.com
SUMMARY:Happy Hour
DESCRIPTION:
URL:https://iwa-prague.com/event/happy-hour/2025-09-05/
CATEGORIES:Evening Groups
ATTACH;FMTTYPE=image/jpeg:https://iwa-prague.com/wp-content/uploads/2021/05/HH-Aug-2017-OPT.jpg
ORGANIZER;CN="Leslie Nicholson":MAILTO:happyhour@iwa-prague.com
END:VEVENT
BEGIN:VEVENT
DTSTART;TZID=Europe/Prague:20250827T190000
DTEND;TZID=Europe/Prague:20250827T220000
DTSTAMP:20260424T123243
CREATED:20250328T121338Z
LAST-MODIFIED:20250605T143738Z
UID:10006097-1756321200-1756332000@iwa-prague.com
SUMMARY:Evening Book Club
DESCRIPTION:
URL:https://iwa-prague.com/event/evening-book-club/2025-08-27/
CATEGORIES:Evening Groups
ATTACH;FMTTYPE=image/jpeg:https://iwa-prague.com/wp-content/uploads/2025/03/books-from-connie-OPT.jpg
ORGANIZER;CN="Connie Shattuck":MAILTO:interestgroups@iwa-prague.com
END:VEVENT
BEGIN:VEVENT
DTSTART;TZID=Europe/Prague:20250825T180000
DTEND;TZID=Europe/Prague:20250825T213000
DTSTAMP:20260424T123243
CREATED:20250219T141857Z
LAST-MODIFIED:20260218T171048Z
UID:10007351-1756144800-1756157400@iwa-prague.com
SUMMARY:Evening Cinema
DESCRIPTION:
URL:https://iwa-prague.com/event/evening-cinema-2/2025-08-25/
CATEGORIES:Evening Groups
ATTACH;FMTTYPE=image/jpeg:https://iwa-prague.com/wp-content/uploads/2017/03/evecinema2-OPT-scaled.jpg
ORGANIZER;CN="Sandra Hill":MAILTO:eveningcinema@iwa-prague.com
END:VEVENT
BEGIN:VEVENT
DTSTART;TZID=Europe/Prague:20250821T180000
DTEND;TZID=Europe/Prague:20250821T200000
DTSTAMP:20260424T123243
CREATED:20240926T131356Z
LAST-MODIFIED:20260323T125606Z
UID:10008966-1755799200-1755806400@iwa-prague.com
SUMMARY:Dining Divas
DESCRIPTION:
URL:https://iwa-prague.com/event/dinner-divas-group/2025-08-21/
CATEGORIES:Evening Groups
ATTACH;FMTTYPE=image/png:https://iwa-prague.com/wp-content/uploads/2023/08/dinner-divas-01.png
ORGANIZER;CN="Lorna Phillipson":MAILTO:dinnerdivas@iwa-prague.com
END:VEVENT
BEGIN:VEVENT
DTSTART;TZID=Europe/Prague:20250717T180000
DTEND;TZID=Europe/Prague:20250717T200000
DTSTAMP:20260424T123243
CREATED:20240926T131356Z
LAST-MODIFIED:20260323T125606Z
UID:10000720-1752775200-1752782400@iwa-prague.com
SUMMARY:Dining Divas
DESCRIPTION:
URL:https://iwa-prague.com/event/dinner-divas-group/2025-07-17/
CATEGORIES:Evening Groups
ATTACH;FMTTYPE=image/png:https://iwa-prague.com/wp-content/uploads/2023/08/dinner-divas-01.png
ORGANIZER;CN="Lorna Phillipson":MAILTO:dinnerdivas@iwa-prague.com
END:VEVENT
BEGIN:VEVENT
DTSTART;TZID=Europe/Prague:20250625T190000
DTEND;TZID=Europe/Prague:20250625T220000
DTSTAMP:20260424T123243
CREATED:20250328T121338Z
LAST-MODIFIED:20250605T143738Z
UID:10006095-1750878000-1750888800@iwa-prague.com
SUMMARY:Evening Book Club
DESCRIPTION:
URL:https://iwa-prague.com/event/evening-book-club/2025-06-25/
CATEGORIES:Evening Groups
ATTACH;FMTTYPE=image/jpeg:https://iwa-prague.com/wp-content/uploads/2025/03/books-from-connie-OPT.jpg
ORGANIZER;CN="Connie Shattuck":MAILTO:interestgroups@iwa-prague.com
END:VEVENT
BEGIN:VEVENT
DTSTART;TZID=Europe/Prague:20250619T180000
DTEND;TZID=Europe/Prague:20250619T200000
DTSTAMP:20260424T123243
CREATED:20240926T131356Z
LAST-MODIFIED:20260323T125606Z
UID:10005197-1750356000-1750363200@iwa-prague.com
SUMMARY:Dining Divas
DESCRIPTION:
URL:https://iwa-prague.com/event/dinner-divas-group/2025-06-19/
CATEGORIES:Evening Groups
ATTACH;FMTTYPE=image/png:https://iwa-prague.com/wp-content/uploads/2023/08/dinner-divas-01.png
ORGANIZER;CN="Lorna Phillipson":MAILTO:dinnerdivas@iwa-prague.com
END:VEVENT
BEGIN:VEVENT
DTSTART;TZID=Europe/Prague:20250606T173000
DTEND;TZID=Europe/Prague:20250606T190000
DTSTAMP:20260424T123243
CREATED:20240926T135133Z
LAST-MODIFIED:20260320T111626Z
UID:10001746-1749231000-1749236400@iwa-prague.com
SUMMARY:Happy Hour
DESCRIPTION:
URL:https://iwa-prague.com/event/happy-hour/2025-06-06/
CATEGORIES:Evening Groups
ATTACH;FMTTYPE=image/jpeg:https://iwa-prague.com/wp-content/uploads/2021/05/HH-Aug-2017-OPT.jpg
ORGANIZER;CN="Leslie Nicholson":MAILTO:happyhour@iwa-prague.com
END:VEVENT
BEGIN:VEVENT
DTSTART;TZID=Europe/Prague:20250528T190000
DTEND;TZID=Europe/Prague:20250528T220000
DTSTAMP:20260424T123243
CREATED:20250328T121338Z
LAST-MODIFIED:20250605T143738Z
UID:10006094-1748458800-1748469600@iwa-prague.com
SUMMARY:Evening Book Club
DESCRIPTION:
URL:https://iwa-prague.com/event/evening-book-club/2025-05-28/
CATEGORIES:Evening Groups
ATTACH;FMTTYPE=image/jpeg:https://iwa-prague.com/wp-content/uploads/2025/03/books-from-connie-OPT.jpg
ORGANIZER;CN="Connie Shattuck":MAILTO:interestgroups@iwa-prague.com
END:VEVENT
BEGIN:VEVENT
DTSTART;TZID=Europe/Prague:20250515T180000
DTEND;TZID=Europe/Prague:20250515T200000
DTSTAMP:20260424T123243
CREATED:20240926T131356Z
LAST-MODIFIED:20260323T125606Z
UID:10008965-1747332000-1747339200@iwa-prague.com
SUMMARY:Dining Divas
DESCRIPTION:
URL:https://iwa-prague.com/event/dinner-divas-group/2025-05-15/
CATEGORIES:Evening Groups
ATTACH;FMTTYPE=image/png:https://iwa-prague.com/wp-content/uploads/2023/08/dinner-divas-01.png
ORGANIZER;CN="Lorna Phillipson":MAILTO:dinnerdivas@iwa-prague.com
END:VEVENT
BEGIN:VEVENT
DTSTART;TZID=Europe/Prague:20250510T193000
DTEND;TZID=Europe/Prague:20250510T223000
DTSTAMP:20260424T123243
CREATED:20250523T142029Z
LAST-MODIFIED:20260421T145828Z
UID:10007163-1746905400-1746916200@iwa-prague.com
SUMMARY:Plus One
DESCRIPTION:
URL:https://iwa-prague.com/event/plus-one/2025-05-10/
CATEGORIES:Evening Groups
ATTACH;FMTTYPE=image/jpeg:https://iwa-prague.com/wp-content/uploads/2025/05/plusone-OPT.jpg
ORGANIZER;CN="Vivian Strang":MAILTO:plusone@iwa-prague.com
END:VEVENT
BEGIN:VEVENT
DTSTART;TZID=Europe/Prague:20250502T173000
DTEND;TZID=Europe/Prague:20250502T190000
DTSTAMP:20260424T123243
CREATED:20240926T135133Z
LAST-MODIFIED:20260320T111626Z
UID:10001745-1746207000-1746212400@iwa-prague.com
SUMMARY:Happy Hour
DESCRIPTION:
URL:https://iwa-prague.com/event/happy-hour/2025-05-02/
CATEGORIES:Evening Groups
ATTACH;FMTTYPE=image/jpeg:https://iwa-prague.com/wp-content/uploads/2021/05/HH-Aug-2017-OPT.jpg
ORGANIZER;CN="Leslie Nicholson":MAILTO:happyhour@iwa-prague.com
END:VEVENT
BEGIN:VEVENT
DTSTART;TZID=Europe/Prague:20250423T190000
DTEND;TZID=Europe/Prague:20250423T220000
DTSTAMP:20260424T123243
CREATED:20250328T121338Z
LAST-MODIFIED:20250605T143738Z
UID:10006093-1745434800-1745445600@iwa-prague.com
SUMMARY:Evening Book Club
DESCRIPTION:
URL:https://iwa-prague.com/event/evening-book-club/2025-04-23/
CATEGORIES:Evening Groups
ATTACH;FMTTYPE=image/jpeg:https://iwa-prague.com/wp-content/uploads/2025/03/books-from-connie-OPT.jpg
ORGANIZER;CN="Connie Shattuck":MAILTO:interestgroups@iwa-prague.com
END:VEVENT
BEGIN:VEVENT
DTSTART;TZID=Europe/Prague:20250422T193000
DTEND;TZID=Europe/Prague:20250422T220000
DTSTAMP:20260424T123243
CREATED:20250219T141857Z
LAST-MODIFIED:20260218T171048Z
UID:10007014-1745350200-1745359200@iwa-prague.com
SUMMARY:Evening Cinema
DESCRIPTION:
URL:https://iwa-prague.com/event/evening-cinema-2/2025-04-22/
CATEGORIES:Evening Groups
ATTACH;FMTTYPE=image/jpeg:https://iwa-prague.com/wp-content/uploads/2017/03/evecinema2-OPT-scaled.jpg
ORGANIZER;CN="Sandra Hill":MAILTO:eveningcinema@iwa-prague.com
END:VEVENT
END:VCALENDAR