BEGIN:VCALENDAR
VERSION:2.0
PRODID:-//International Women&#039;s Association of Prague - ECPv6.15.20//NONSGML v1.0//EN
CALSCALE:GREGORIAN
METHOD:PUBLISH
X-ORIGINAL-URL:https://iwa-prague.com
X-WR-CALDESC:Events for International Women&#039;s Association of Prague
REFRESH-INTERVAL;VALUE=DURATION:PT1H
X-Robots-Tag:noindex
X-PUBLISHED-TTL:PT1H
BEGIN:VTIMEZONE
TZID:Europe/Prague
BEGIN:DAYLIGHT
TZOFFSETFROM:+0100
TZOFFSETTO:+0200
TZNAME:CEST
DTSTART:20250330T010000
END:DAYLIGHT
BEGIN:STANDARD
TZOFFSETFROM:+0200
TZOFFSETTO:+0100
TZNAME:CET
DTSTART:20251026T010000
END:STANDARD
BEGIN:DAYLIGHT
TZOFFSETFROM:+0100
TZOFFSETTO:+0200
TZNAME:CEST
DTSTART:20260329T010000
END:DAYLIGHT
BEGIN:STANDARD
TZOFFSETFROM:+0200
TZOFFSETTO:+0100
TZNAME:CET
DTSTART:20261025T010000
END:STANDARD
BEGIN:DAYLIGHT
TZOFFSETFROM:+0100
TZOFFSETTO:+0200
TZNAME:CEST
DTSTART:20270328T010000
END:DAYLIGHT
BEGIN:STANDARD
TZOFFSETFROM:+0200
TZOFFSETTO:+0100
TZNAME:CET
DTSTART:20271031T010000
END:STANDARD
END:VTIMEZONE
BEGIN:VEVENT
DTSTART;TZID=Europe/Prague:20260422T183000
DTEND;TZID=Europe/Prague:20260422T203000
DTSTAMP:20260421T221238
CREATED:20260205T132756Z
LAST-MODIFIED:20260205T132830Z
UID:10008806-1776882600-1776889800@iwa-prague.com
SUMMARY:Choir
DESCRIPTION:
URL:https://iwa-prague.com/event/choir-2/2026-04-22/
CATEGORIES:Evening Groups
ATTACH;FMTTYPE=image/jpeg:https://iwa-prague.com/wp-content/uploads/2026/02/choir-OPT.jpg
ORGANIZER;CN="Leslie Nicholson":MAILTO:choir@iwa-prague.com
END:VEVENT
BEGIN:VEVENT
DTSTART;TZID=Europe/Prague:20260422T190000
DTEND;TZID=Europe/Prague:20260422T220000
DTSTAMP:20260421T221238
CREATED:20250328T121338Z
LAST-MODIFIED:20250605T143738Z
UID:10006105-1776884400-1776895200@iwa-prague.com
SUMMARY:Evening Book Club
DESCRIPTION:
URL:https://iwa-prague.com/event/evening-book-club/2026-04-22/
CATEGORIES:Evening Groups
ATTACH;FMTTYPE=image/jpeg:https://iwa-prague.com/wp-content/uploads/2025/03/books-from-connie-OPT.jpg
ORGANIZER;CN="Connie Shattuck":MAILTO:interestgroups@iwa-prague.com
END:VEVENT
BEGIN:VEVENT
DTSTART;TZID=Europe/Prague:20260501T173000
DTEND;TZID=Europe/Prague:20260501T190000
DTSTAMP:20260421T221238
CREATED:20240926T135133Z
LAST-MODIFIED:20260320T111626Z
UID:10001757-1777656600-1777662000@iwa-prague.com
SUMMARY:Happy Hour
DESCRIPTION:
URL:https://iwa-prague.com/event/happy-hour/2026-05-01/
CATEGORIES:Evening Groups
ATTACH;FMTTYPE=image/jpeg:https://iwa-prague.com/wp-content/uploads/2021/05/HH-Aug-2017-OPT.jpg
ORGANIZER;CN="Leslie Nicholson":MAILTO:happyhour@iwa-prague.com
END:VEVENT
BEGIN:VEVENT
DTSTART;TZID=Europe/Prague:20260513T183000
DTEND;TZID=Europe/Prague:20260513T203000
DTSTAMP:20260421T221238
CREATED:20260205T132538Z
LAST-MODIFIED:20260205T132949Z
UID:10008747-1778697000-1778704200@iwa-prague.com
SUMMARY:Choir
DESCRIPTION:
URL:https://iwa-prague.com/event/choir/2026-05-13/
CATEGORIES:Evening Groups
ATTACH;FMTTYPE=image/jpeg:https://iwa-prague.com/wp-content/uploads/2026/02/choir-OPT.jpg
ORGANIZER;CN="Leslie Nicholson":MAILTO:choir@iwa-prague.com
END:VEVENT
BEGIN:VEVENT
DTSTART;TZID=Europe/Prague:20260521T180000
DTEND;TZID=Europe/Prague:20260521T200000
DTSTAMP:20260421T221238
CREATED:20240926T131356Z
LAST-MODIFIED:20260323T125606Z
UID:10005204-1779386400-1779393600@iwa-prague.com
SUMMARY:Dining Divas
DESCRIPTION:
URL:https://iwa-prague.com/event/dinner-divas-group/2026-05-21/
CATEGORIES:Evening Groups
ATTACH;FMTTYPE=image/png:https://iwa-prague.com/wp-content/uploads/2023/08/dinner-divas-01.png
ORGANIZER;CN="Lorna Phillipson":MAILTO:dinnerdivas@iwa-prague.com
END:VEVENT
BEGIN:VEVENT
DTSTART;TZID=Europe/Prague:20260527T183000
DTEND;TZID=Europe/Prague:20260527T203000
DTSTAMP:20260421T221238
CREATED:20260205T132756Z
LAST-MODIFIED:20260205T132830Z
UID:10008807-1779906600-1779913800@iwa-prague.com
SUMMARY:Choir
DESCRIPTION:
URL:https://iwa-prague.com/event/choir-2/2026-05-27/
CATEGORIES:Evening Groups
ATTACH;FMTTYPE=image/jpeg:https://iwa-prague.com/wp-content/uploads/2026/02/choir-OPT.jpg
ORGANIZER;CN="Leslie Nicholson":MAILTO:choir@iwa-prague.com
END:VEVENT
BEGIN:VEVENT
DTSTART;TZID=Europe/Prague:20260527T190000
DTEND;TZID=Europe/Prague:20260527T220000
DTSTAMP:20260421T221238
CREATED:20250328T121338Z
LAST-MODIFIED:20250605T143738Z
UID:10006106-1779908400-1779919200@iwa-prague.com
SUMMARY:Evening Book Club
DESCRIPTION:
URL:https://iwa-prague.com/event/evening-book-club/2026-05-27/
CATEGORIES:Evening Groups
ATTACH;FMTTYPE=image/jpeg:https://iwa-prague.com/wp-content/uploads/2025/03/books-from-connie-OPT.jpg
ORGANIZER;CN="Connie Shattuck":MAILTO:interestgroups@iwa-prague.com
END:VEVENT
BEGIN:VEVENT
DTSTART;TZID=Europe/Prague:20260530T160000
DTEND;TZID=Europe/Prague:20260530T203000
DTSTAMP:20260421T221238
CREATED:20250523T142029Z
LAST-MODIFIED:20260421T145828Z
UID:10009103-1780156800-1780173000@iwa-prague.com
SUMMARY:Plus One
DESCRIPTION:
URL:https://iwa-prague.com/event/plus-one/2026-05-30/
CATEGORIES:Evening Groups
ATTACH;FMTTYPE=image/jpeg:https://iwa-prague.com/wp-content/uploads/2025/05/plusone-OPT.jpg
ORGANIZER;CN="Vivian Strang":MAILTO:plusone@iwa-prague.com
END:VEVENT
BEGIN:VEVENT
DTSTART;TZID=Europe/Prague:20260605T173000
DTEND;TZID=Europe/Prague:20260605T190000
DTSTAMP:20260421T221238
CREATED:20240926T135133Z
LAST-MODIFIED:20260320T111626Z
UID:10001758-1780680600-1780686000@iwa-prague.com
SUMMARY:Happy Hour
DESCRIPTION:
URL:https://iwa-prague.com/event/happy-hour/2026-06-05/
CATEGORIES:Evening Groups
ATTACH;FMTTYPE=image/jpeg:https://iwa-prague.com/wp-content/uploads/2021/05/HH-Aug-2017-OPT.jpg
ORGANIZER;CN="Leslie Nicholson":MAILTO:happyhour@iwa-prague.com
END:VEVENT
BEGIN:VEVENT
DTSTART;TZID=Europe/Prague:20260610T183000
DTEND;TZID=Europe/Prague:20260610T203000
DTSTAMP:20260421T221238
CREATED:20260205T132538Z
LAST-MODIFIED:20260205T132949Z
UID:10008748-1781116200-1781123400@iwa-prague.com
SUMMARY:Choir
DESCRIPTION:
URL:https://iwa-prague.com/event/choir/2026-06-10/
CATEGORIES:Evening Groups
ATTACH;FMTTYPE=image/jpeg:https://iwa-prague.com/wp-content/uploads/2026/02/choir-OPT.jpg
ORGANIZER;CN="Leslie Nicholson":MAILTO:choir@iwa-prague.com
END:VEVENT
BEGIN:VEVENT
DTSTART;TZID=Europe/Prague:20260618T180000
DTEND;TZID=Europe/Prague:20260618T200000
DTSTAMP:20260421T221238
CREATED:20240926T131356Z
LAST-MODIFIED:20260323T125606Z
UID:10005205-1781805600-1781812800@iwa-prague.com
SUMMARY:Dining Divas
DESCRIPTION:
URL:https://iwa-prague.com/event/dinner-divas-group/2026-06-18/
CATEGORIES:Evening Groups
ATTACH;FMTTYPE=image/png:https://iwa-prague.com/wp-content/uploads/2023/08/dinner-divas-01.png
ORGANIZER;CN="Lorna Phillipson":MAILTO:dinnerdivas@iwa-prague.com
END:VEVENT
BEGIN:VEVENT
DTSTART;TZID=Europe/Prague:20260624T183000
DTEND;TZID=Europe/Prague:20260624T203000
DTSTAMP:20260421T221238
CREATED:20260205T132756Z
LAST-MODIFIED:20260205T132830Z
UID:10008808-1782325800-1782333000@iwa-prague.com
SUMMARY:Choir
DESCRIPTION:
URL:https://iwa-prague.com/event/choir-2/2026-06-24/
CATEGORIES:Evening Groups
ATTACH;FMTTYPE=image/jpeg:https://iwa-prague.com/wp-content/uploads/2026/02/choir-OPT.jpg
ORGANIZER;CN="Leslie Nicholson":MAILTO:choir@iwa-prague.com
END:VEVENT
BEGIN:VEVENT
DTSTART;TZID=Europe/Prague:20260624T190000
DTEND;TZID=Europe/Prague:20260624T220000
DTSTAMP:20260421T221238
CREATED:20250328T121338Z
LAST-MODIFIED:20250605T143738Z
UID:10006107-1782327600-1782338400@iwa-prague.com
SUMMARY:Evening Book Club
DESCRIPTION:
URL:https://iwa-prague.com/event/evening-book-club/2026-06-24/
CATEGORIES:Evening Groups
ATTACH;FMTTYPE=image/jpeg:https://iwa-prague.com/wp-content/uploads/2025/03/books-from-connie-OPT.jpg
ORGANIZER;CN="Connie Shattuck":MAILTO:interestgroups@iwa-prague.com
END:VEVENT
BEGIN:VEVENT
DTSTART;TZID=Europe/Prague:20260703T173000
DTEND;TZID=Europe/Prague:20260703T190000
DTSTAMP:20260421T221238
CREATED:20240926T135133Z
LAST-MODIFIED:20260320T111626Z
UID:10001759-1783099800-1783105200@iwa-prague.com
SUMMARY:Happy Hour
DESCRIPTION:
URL:https://iwa-prague.com/event/happy-hour/2026-07-03/
CATEGORIES:Evening Groups
ATTACH;FMTTYPE=image/jpeg:https://iwa-prague.com/wp-content/uploads/2021/05/HH-Aug-2017-OPT.jpg
ORGANIZER;CN="Leslie Nicholson":MAILTO:happyhour@iwa-prague.com
END:VEVENT
BEGIN:VEVENT
DTSTART;TZID=Europe/Prague:20260708T183000
DTEND;TZID=Europe/Prague:20260708T203000
DTSTAMP:20260421T221238
CREATED:20260205T132538Z
LAST-MODIFIED:20260205T132949Z
UID:10008749-1783535400-1783542600@iwa-prague.com
SUMMARY:Choir
DESCRIPTION:
URL:https://iwa-prague.com/event/choir/2026-07-08/
CATEGORIES:Evening Groups
ATTACH;FMTTYPE=image/jpeg:https://iwa-prague.com/wp-content/uploads/2026/02/choir-OPT.jpg
ORGANIZER;CN="Leslie Nicholson":MAILTO:choir@iwa-prague.com
END:VEVENT
BEGIN:VEVENT
DTSTART;TZID=Europe/Prague:20260716T180000
DTEND;TZID=Europe/Prague:20260716T200000
DTSTAMP:20260421T221238
CREATED:20240926T131356Z
LAST-MODIFIED:20260323T125606Z
UID:10000724-1784224800-1784232000@iwa-prague.com
SUMMARY:Dining Divas
DESCRIPTION:
URL:https://iwa-prague.com/event/dinner-divas-group/2026-07-16/
CATEGORIES:Evening Groups
ATTACH;FMTTYPE=image/png:https://iwa-prague.com/wp-content/uploads/2023/08/dinner-divas-01.png
ORGANIZER;CN="Lorna Phillipson":MAILTO:dinnerdivas@iwa-prague.com
END:VEVENT
BEGIN:VEVENT
DTSTART;TZID=Europe/Prague:20260722T183000
DTEND;TZID=Europe/Prague:20260722T203000
DTSTAMP:20260421T221238
CREATED:20260205T132756Z
LAST-MODIFIED:20260205T132830Z
UID:10008809-1784745000-1784752200@iwa-prague.com
SUMMARY:Choir
DESCRIPTION:
URL:https://iwa-prague.com/event/choir-2/2026-07-22/
CATEGORIES:Evening Groups
ATTACH;FMTTYPE=image/jpeg:https://iwa-prague.com/wp-content/uploads/2026/02/choir-OPT.jpg
ORGANIZER;CN="Leslie Nicholson":MAILTO:choir@iwa-prague.com
END:VEVENT
BEGIN:VEVENT
DTSTART;TZID=Europe/Prague:20260722T190000
DTEND;TZID=Europe/Prague:20260722T220000
DTSTAMP:20260421T221238
CREATED:20250328T121338Z
LAST-MODIFIED:20250605T143738Z
UID:10006108-1784746800-1784757600@iwa-prague.com
SUMMARY:Evening Book Club
DESCRIPTION:
URL:https://iwa-prague.com/event/evening-book-club/2026-07-22/
CATEGORIES:Evening Groups
ATTACH;FMTTYPE=image/jpeg:https://iwa-prague.com/wp-content/uploads/2025/03/books-from-connie-OPT.jpg
ORGANIZER;CN="Connie Shattuck":MAILTO:interestgroups@iwa-prague.com
END:VEVENT
BEGIN:VEVENT
DTSTART;TZID=Europe/Prague:20260807T173000
DTEND;TZID=Europe/Prague:20260807T190000
DTSTAMP:20260421T221238
CREATED:20240926T135133Z
LAST-MODIFIED:20260320T111626Z
UID:10001760-1786123800-1786129200@iwa-prague.com
SUMMARY:Happy Hour
DESCRIPTION:
URL:https://iwa-prague.com/event/happy-hour/2026-08-07/
CATEGORIES:Evening Groups
ATTACH;FMTTYPE=image/jpeg:https://iwa-prague.com/wp-content/uploads/2021/05/HH-Aug-2017-OPT.jpg
ORGANIZER;CN="Leslie Nicholson":MAILTO:happyhour@iwa-prague.com
END:VEVENT
BEGIN:VEVENT
DTSTART;TZID=Europe/Prague:20260812T183000
DTEND;TZID=Europe/Prague:20260812T203000
DTSTAMP:20260421T221238
CREATED:20260205T132538Z
LAST-MODIFIED:20260205T132949Z
UID:10008750-1786559400-1786566600@iwa-prague.com
SUMMARY:Choir
DESCRIPTION:
URL:https://iwa-prague.com/event/choir/2026-08-12/
CATEGORIES:Evening Groups
ATTACH;FMTTYPE=image/jpeg:https://iwa-prague.com/wp-content/uploads/2026/02/choir-OPT.jpg
ORGANIZER;CN="Leslie Nicholson":MAILTO:choir@iwa-prague.com
END:VEVENT
BEGIN:VEVENT
DTSTART;TZID=Europe/Prague:20260820T180000
DTEND;TZID=Europe/Prague:20260820T200000
DTSTAMP:20260421T221238
CREATED:20240926T131356Z
LAST-MODIFIED:20260323T125606Z
UID:10005206-1787248800-1787256000@iwa-prague.com
SUMMARY:Dining Divas
DESCRIPTION:
URL:https://iwa-prague.com/event/dinner-divas-group/2026-08-20/
CATEGORIES:Evening Groups
ATTACH;FMTTYPE=image/png:https://iwa-prague.com/wp-content/uploads/2023/08/dinner-divas-01.png
ORGANIZER;CN="Lorna Phillipson":MAILTO:dinnerdivas@iwa-prague.com
END:VEVENT
BEGIN:VEVENT
DTSTART;TZID=Europe/Prague:20260826T183000
DTEND;TZID=Europe/Prague:20260826T203000
DTSTAMP:20260421T221238
CREATED:20260205T132756Z
LAST-MODIFIED:20260205T132830Z
UID:10008810-1787769000-1787776200@iwa-prague.com
SUMMARY:Choir
DESCRIPTION:
URL:https://iwa-prague.com/event/choir-2/2026-08-26/
CATEGORIES:Evening Groups
ATTACH;FMTTYPE=image/jpeg:https://iwa-prague.com/wp-content/uploads/2026/02/choir-OPT.jpg
ORGANIZER;CN="Leslie Nicholson":MAILTO:choir@iwa-prague.com
END:VEVENT
BEGIN:VEVENT
DTSTART;TZID=Europe/Prague:20260826T190000
DTEND;TZID=Europe/Prague:20260826T220000
DTSTAMP:20260421T221238
CREATED:20250328T121338Z
LAST-MODIFIED:20250605T143738Z
UID:10006109-1787770800-1787781600@iwa-prague.com
SUMMARY:Evening Book Club
DESCRIPTION:
URL:https://iwa-prague.com/event/evening-book-club/2026-08-26/
CATEGORIES:Evening Groups
ATTACH;FMTTYPE=image/jpeg:https://iwa-prague.com/wp-content/uploads/2025/03/books-from-connie-OPT.jpg
ORGANIZER;CN="Connie Shattuck":MAILTO:interestgroups@iwa-prague.com
END:VEVENT
BEGIN:VEVENT
DTSTART;TZID=Europe/Prague:20260904T173000
DTEND;TZID=Europe/Prague:20260904T190000
DTSTAMP:20260421T221238
CREATED:20240926T135133Z
LAST-MODIFIED:20260320T111626Z
UID:10001761-1788543000-1788548400@iwa-prague.com
SUMMARY:Happy Hour
DESCRIPTION:
URL:https://iwa-prague.com/event/happy-hour/2026-09-04/
CATEGORIES:Evening Groups
ATTACH;FMTTYPE=image/jpeg:https://iwa-prague.com/wp-content/uploads/2021/05/HH-Aug-2017-OPT.jpg
ORGANIZER;CN="Leslie Nicholson":MAILTO:happyhour@iwa-prague.com
END:VEVENT
BEGIN:VEVENT
DTSTART;TZID=Europe/Prague:20260909T183000
DTEND;TZID=Europe/Prague:20260909T203000
DTSTAMP:20260421T221238
CREATED:20260205T132538Z
LAST-MODIFIED:20260205T132949Z
UID:10008751-1788978600-1788985800@iwa-prague.com
SUMMARY:Choir
DESCRIPTION:
URL:https://iwa-prague.com/event/choir/2026-09-09/
CATEGORIES:Evening Groups
ATTACH;FMTTYPE=image/jpeg:https://iwa-prague.com/wp-content/uploads/2026/02/choir-OPT.jpg
ORGANIZER;CN="Leslie Nicholson":MAILTO:choir@iwa-prague.com
END:VEVENT
BEGIN:VEVENT
DTSTART;TZID=Europe/Prague:20260917T180000
DTEND;TZID=Europe/Prague:20260917T200000
DTSTAMP:20260421T221238
CREATED:20240926T131356Z
LAST-MODIFIED:20260323T125606Z
UID:10005207-1789668000-1789675200@iwa-prague.com
SUMMARY:Dining Divas
DESCRIPTION:
URL:https://iwa-prague.com/event/dinner-divas-group/2026-09-17/
CATEGORIES:Evening Groups
ATTACH;FMTTYPE=image/png:https://iwa-prague.com/wp-content/uploads/2023/08/dinner-divas-01.png
ORGANIZER;CN="Lorna Phillipson":MAILTO:dinnerdivas@iwa-prague.com
END:VEVENT
BEGIN:VEVENT
DTSTART;TZID=Europe/Prague:20260923T183000
DTEND;TZID=Europe/Prague:20260923T203000
DTSTAMP:20260421T221238
CREATED:20260205T132756Z
LAST-MODIFIED:20260205T132830Z
UID:10008811-1790188200-1790195400@iwa-prague.com
SUMMARY:Choir
DESCRIPTION:
URL:https://iwa-prague.com/event/choir-2/2026-09-23/
CATEGORIES:Evening Groups
ATTACH;FMTTYPE=image/jpeg:https://iwa-prague.com/wp-content/uploads/2026/02/choir-OPT.jpg
ORGANIZER;CN="Leslie Nicholson":MAILTO:choir@iwa-prague.com
END:VEVENT
BEGIN:VEVENT
DTSTART;TZID=Europe/Prague:20260923T190000
DTEND;TZID=Europe/Prague:20260923T220000
DTSTAMP:20260421T221238
CREATED:20250328T121338Z
LAST-MODIFIED:20250605T143738Z
UID:10006110-1790190000-1790200800@iwa-prague.com
SUMMARY:Evening Book Club
DESCRIPTION:
URL:https://iwa-prague.com/event/evening-book-club/2026-09-23/
CATEGORIES:Evening Groups
ATTACH;FMTTYPE=image/jpeg:https://iwa-prague.com/wp-content/uploads/2025/03/books-from-connie-OPT.jpg
ORGANIZER;CN="Connie Shattuck":MAILTO:interestgroups@iwa-prague.com
END:VEVENT
BEGIN:VEVENT
DTSTART;TZID=Europe/Prague:20261002T173000
DTEND;TZID=Europe/Prague:20261002T190000
DTSTAMP:20260421T221238
CREATED:20240926T135133Z
LAST-MODIFIED:20260320T111626Z
UID:10001762-1790962200-1790967600@iwa-prague.com
SUMMARY:Happy Hour
DESCRIPTION:
URL:https://iwa-prague.com/event/happy-hour/2026-10-02/
CATEGORIES:Evening Groups
ATTACH;FMTTYPE=image/jpeg:https://iwa-prague.com/wp-content/uploads/2021/05/HH-Aug-2017-OPT.jpg
ORGANIZER;CN="Leslie Nicholson":MAILTO:happyhour@iwa-prague.com
END:VEVENT
BEGIN:VEVENT
DTSTART;TZID=Europe/Prague:20261014T183000
DTEND;TZID=Europe/Prague:20261014T203000
DTSTAMP:20260421T221238
CREATED:20260205T132538Z
LAST-MODIFIED:20260205T132949Z
UID:10008752-1792002600-1792009800@iwa-prague.com
SUMMARY:Choir
DESCRIPTION:
URL:https://iwa-prague.com/event/choir/2026-10-14/
CATEGORIES:Evening Groups
ATTACH;FMTTYPE=image/jpeg:https://iwa-prague.com/wp-content/uploads/2026/02/choir-OPT.jpg
ORGANIZER;CN="Leslie Nicholson":MAILTO:choir@iwa-prague.com
END:VEVENT
END:VCALENDAR