BEGIN:VCALENDAR
VERSION:2.0
PRODID:-//International Women&#039;s Association of Prague - ECPv6.15.20//NONSGML v1.0//EN
CALSCALE:GREGORIAN
METHOD:PUBLISH
X-ORIGINAL-URL:https://iwa-prague.com
X-WR-CALDESC:Events for International Women&#039;s Association of Prague
REFRESH-INTERVAL;VALUE=DURATION:PT1H
X-Robots-Tag:noindex
X-PUBLISHED-TTL:PT1H
BEGIN:VTIMEZONE
TZID:Europe/Prague
BEGIN:DAYLIGHT
TZOFFSETFROM:+0100
TZOFFSETTO:+0200
TZNAME:CEST
DTSTART:20250330T010000
END:DAYLIGHT
BEGIN:STANDARD
TZOFFSETFROM:+0200
TZOFFSETTO:+0100
TZNAME:CET
DTSTART:20251026T010000
END:STANDARD
BEGIN:DAYLIGHT
TZOFFSETFROM:+0100
TZOFFSETTO:+0200
TZNAME:CEST
DTSTART:20260329T010000
END:DAYLIGHT
BEGIN:STANDARD
TZOFFSETFROM:+0200
TZOFFSETTO:+0100
TZNAME:CET
DTSTART:20261025T010000
END:STANDARD
BEGIN:DAYLIGHT
TZOFFSETFROM:+0100
TZOFFSETTO:+0200
TZNAME:CEST
DTSTART:20270328T010000
END:DAYLIGHT
BEGIN:STANDARD
TZOFFSETFROM:+0200
TZOFFSETTO:+0100
TZNAME:CET
DTSTART:20271031T010000
END:STANDARD
END:VTIMEZONE
BEGIN:VEVENT
DTSTART;TZID=Europe/Prague:20260223T163000
DTEND;TZID=Europe/Prague:20260223T190000
DTSTAMP:20260424T141121
CREATED:20250219T141857Z
LAST-MODIFIED:20260218T171048Z
UID:10008871-1771864200-1771873200@iwa-prague.com
SUMMARY:Evening Cinema
DESCRIPTION:
URL:https://iwa-prague.com/event/evening-cinema-2/2026-02-23/
CATEGORIES:Evening Groups
ATTACH;FMTTYPE=image/jpeg:https://iwa-prague.com/wp-content/uploads/2017/03/evecinema2-OPT-scaled.jpg
ORGANIZER;CN="Sandra Hill":MAILTO:eveningcinema@iwa-prague.com
END:VEVENT
END:VCALENDAR