BEGIN:VCALENDAR
VERSION:2.0
PRODID:-//International Women&#039;s Association of Prague - ECPv6.15.20//NONSGML v1.0//EN
CALSCALE:GREGORIAN
METHOD:PUBLISH
X-WR-CALNAME:International Women&#039;s Association of Prague
X-ORIGINAL-URL:https://iwa-prague.com
X-WR-CALDESC:Events for International Women&#039;s Association of Prague
REFRESH-INTERVAL;VALUE=DURATION:PT1H
X-Robots-Tag:noindex
X-PUBLISHED-TTL:PT1H
BEGIN:VTIMEZONE
TZID:Europe/Prague
BEGIN:DAYLIGHT
TZOFFSETFROM:+0100
TZOFFSETTO:+0200
TZNAME:CEST
DTSTART:20250330T010000
END:DAYLIGHT
BEGIN:STANDARD
TZOFFSETFROM:+0200
TZOFFSETTO:+0100
TZNAME:CET
DTSTART:20251026T010000
END:STANDARD
BEGIN:DAYLIGHT
TZOFFSETFROM:+0100
TZOFFSETTO:+0200
TZNAME:CEST
DTSTART:20260329T010000
END:DAYLIGHT
BEGIN:STANDARD
TZOFFSETFROM:+0200
TZOFFSETTO:+0100
TZNAME:CET
DTSTART:20261025T010000
END:STANDARD
BEGIN:DAYLIGHT
TZOFFSETFROM:+0100
TZOFFSETTO:+0200
TZNAME:CEST
DTSTART:20270328T010000
END:DAYLIGHT
BEGIN:STANDARD
TZOFFSETFROM:+0200
TZOFFSETTO:+0100
TZNAME:CET
DTSTART:20271031T010000
END:STANDARD
END:VTIMEZONE
BEGIN:VEVENT
DTSTART;TZID=Europe/Prague:20260422T103000
DTEND;TZID=Europe/Prague:20260422T120000
DTSTAMP:20260421T233349
CREATED:20260130T163818Z
LAST-MODIFIED:20260130T163839Z
UID:10008738-1776853800-1776859200@iwa-prague.com
SUMMARY:AAU History Course
DESCRIPTION:Please read The Bridge newsletter for more detail and how to sign up.
URL:https://iwa-prague.com/event/aau-history-course/2026-04-22/
LOCATION:Anglo American University\, Letenská 120/5\, Prague 1\, Czech Republic
CATEGORIES:Cultural Events & Excursions
ORGANIZER;CN="Brigitte Lintner":MAILTO:culturalevents@iwa-prague.com
END:VEVENT
BEGIN:VEVENT
DTSTART;TZID=Europe/Prague:20260429T100000
DTEND;TZID=Europe/Prague:20260429T140000
DTSTAMP:20260421T233349
CREATED:20260319T111959Z
LAST-MODIFIED:20260319T113110Z
UID:10008959-1777456800-1777471200@iwa-prague.com
SUMMARY:Bell Making Museum Visit
DESCRIPTION:We would like to invite you to a unique visit to a small bell-making museum in Praha–Zbraslav. We will explore a former bell workshop and learn about the craft and the story of the Manoušek family\, guided by third-generation bell-maker Mr. Petr R. Manoušek. Lunch will follow after the museum visit.  \nFor full details and how to sign up please read The Bridge Weekly Newsletter.
URL:https://iwa-prague.com/event/bell-making-museum-visit/
CATEGORIES:Cultural Events & Excursions
ATTACH;FMTTYPE=image/jpeg:https://iwa-prague.com/wp-content/uploads/2026/03/bells-OPT.jpg
ORGANIZER;CN="Brigitte Lintner":MAILTO:culturalevents@iwa-prague.com
END:VEVENT
BEGIN:VEVENT
DTSTART;TZID=Europe/Prague:20260506T103000
DTEND;TZID=Europe/Prague:20260506T120000
DTSTAMP:20260421T233349
CREATED:20260130T163818Z
LAST-MODIFIED:20260130T163839Z
UID:10008739-1778063400-1778068800@iwa-prague.com
SUMMARY:AAU History Course
DESCRIPTION:Please read The Bridge newsletter for more detail and how to sign up.
URL:https://iwa-prague.com/event/aau-history-course/2026-05-06/
LOCATION:Anglo American University\, Letenská 120/5\, Prague 1\, Czech Republic
CATEGORIES:Cultural Events & Excursions
ORGANIZER;CN="Brigitte Lintner":MAILTO:culturalevents@iwa-prague.com
END:VEVENT
BEGIN:VEVENT
DTSTART;TZID=Europe/Prague:20260514T080000
DTEND;TZID=Europe/Prague:20260514T170000
DTSTAMP:20260421T233349
CREATED:20260313T114235Z
LAST-MODIFIED:20260324T165932Z
UID:10008958-1778745600-1778778000@iwa-prague.com
SUMMARY:Kovap Factory Visit
DESCRIPTION:Join us on this special day trip to visit the KOVAP factory in Semily for a presentation and tour offering an opportunity to watch the workers make the toys. KOVAP has been a worldwide known producer of sheet metal toys since 1946. They also have a shop for Birthday gifts (or other occasions). We will have lunch at a nearby pub after the visit and then head back to Prague. This is an all day event. \nFor further details and how to sign up please read The Bridge Weekly Newsletter.  \nEmail culturalevents@iwa-prague.com if you have any further questions.
URL:https://iwa-prague.com/event/kovap-factory-visit/
CATEGORIES:Cultural Events & Excursions
ATTACH;FMTTYPE=image/jpeg:https://iwa-prague.com/wp-content/uploads/2026/03/kovap-nov-2024-014-OPT.jpg
ORGANIZER;CN="Brigitte Lintner":MAILTO:culturalevents@iwa-prague.com
END:VEVENT
BEGIN:VEVENT
DTSTART;TZID=Europe/Prague:20260520T103000
DTEND;TZID=Europe/Prague:20260520T120000
DTSTAMP:20260421T233349
CREATED:20260130T163818Z
LAST-MODIFIED:20260130T163839Z
UID:10008740-1779273000-1779278400@iwa-prague.com
SUMMARY:AAU History Course
DESCRIPTION:Please read The Bridge newsletter for more detail and how to sign up.
URL:https://iwa-prague.com/event/aau-history-course/2026-05-20/
LOCATION:Anglo American University\, Letenská 120/5\, Prague 1\, Czech Republic
CATEGORIES:Cultural Events & Excursions
ORGANIZER;CN="Brigitte Lintner":MAILTO:culturalevents@iwa-prague.com
END:VEVENT
END:VCALENDAR