BEGIN:VCALENDAR
VERSION:2.0
PRODID:-//International Women&#039;s Association of Prague - ECPv6.15.20//NONSGML v1.0//EN
CALSCALE:GREGORIAN
METHOD:PUBLISH
X-ORIGINAL-URL:https://iwa-prague.com
X-WR-CALDESC:Events for International Women&#039;s Association of Prague
REFRESH-INTERVAL;VALUE=DURATION:PT1H
X-Robots-Tag:noindex
X-PUBLISHED-TTL:PT1H
BEGIN:VTIMEZONE
TZID:Europe/Prague
BEGIN:DAYLIGHT
TZOFFSETFROM:+0100
TZOFFSETTO:+0200
TZNAME:CEST
DTSTART:20230326T010000
END:DAYLIGHT
BEGIN:STANDARD
TZOFFSETFROM:+0200
TZOFFSETTO:+0100
TZNAME:CET
DTSTART:20231029T010000
END:STANDARD
BEGIN:DAYLIGHT
TZOFFSETFROM:+0100
TZOFFSETTO:+0200
TZNAME:CEST
DTSTART:20240331T010000
END:DAYLIGHT
BEGIN:STANDARD
TZOFFSETFROM:+0200
TZOFFSETTO:+0100
TZNAME:CET
DTSTART:20241027T010000
END:STANDARD
BEGIN:DAYLIGHT
TZOFFSETFROM:+0100
TZOFFSETTO:+0200
TZNAME:CEST
DTSTART:20250330T010000
END:DAYLIGHT
BEGIN:STANDARD
TZOFFSETFROM:+0200
TZOFFSETTO:+0100
TZNAME:CET
DTSTART:20251026T010000
END:STANDARD
END:VTIMEZONE
BEGIN:VEVENT
DTSTART;TZID=Europe/Prague:20241015T143000
DTEND;TZID=Europe/Prague:20241015T170000
DTSTAMP:20260425T213040
CREATED:20240926T143335Z
LAST-MODIFIED:20240926T143335Z
UID:10003281-1729002600-1729011600@iwa-prague.com
SUMMARY:Tour of the Fantova Bulding
DESCRIPTION:Our next outing is quite a unique “excursion”. Come and join us for a tour of the beautifully renovated historic part of the main train station – called the Fantova building. The building dates back to the end of the 19th century. We will learn about the beginning of the construction\, the architecture\, take a bit of a “trip” back in history\, and see the various rooms. \nAfter the tour you can either enjoy a coffee in the Cafe Foyer or take part in a relaxing afternoon tea inspired treat called “Ritual: Tea at Fifth” where you will have a selection of teas on offer along with exclusive various canapes (such as spinach pancake with salmon\, honey cookie with goat cheese praline\, beef tartare with mustard mayonnaise\, mini potato salad\, selection of cakes and desserts and more.)  \nA pleasant afternoon lies ahead for you to enjoy the atmosphere and imagine what traveling was like 100 years ago.  \nDate: Tuesday 15 October  \nMeeting time: 14:40 at the entry of the main train station @ Potrafina Husa (inside) tour starts at 15:00. \nDuration: 45-60 minutes  \nTour Price: 100 CZK (50 CZK for seniors) to be paid on the spot (correct change is appreciated) \nAfternoon Tea Price: 590 CZK per person \nTo sign up please click here by 8 October. 
URL:https://iwa-prague.com/event/tour-of-the-fantova-bulding/
LOCATION:Fantova Building\, Wilsonova 300/8\, Prague 1\, Czech Republic
CATEGORIES:Cultural Events & Excursions
ATTACH;FMTTYPE=image/jpeg:https://iwa-prague.com/wp-content/uploads/2024/09/fantova.jpg
ORGANIZER;CN="Brigitte Lintner":MAILTO:culturalevents@iwa-prague.com
END:VEVENT
END:VCALENDAR