BEGIN:VCALENDAR
VERSION:2.0
PRODID:-//International Women&#039;s Association of Prague - ECPv6.15.20//NONSGML v1.0//EN
CALSCALE:GREGORIAN
METHOD:PUBLISH
X-ORIGINAL-URL:https://iwa-prague.com
X-WR-CALDESC:Events for International Women&#039;s Association of Prague
REFRESH-INTERVAL;VALUE=DURATION:PT1H
X-Robots-Tag:noindex
X-PUBLISHED-TTL:PT1H
BEGIN:VTIMEZONE
TZID:Europe/Prague
BEGIN:DAYLIGHT
TZOFFSETFROM:+0100
TZOFFSETTO:+0200
TZNAME:CEST
DTSTART:20250330T010000
END:DAYLIGHT
BEGIN:STANDARD
TZOFFSETFROM:+0200
TZOFFSETTO:+0100
TZNAME:CET
DTSTART:20251026T010000
END:STANDARD
BEGIN:DAYLIGHT
TZOFFSETFROM:+0100
TZOFFSETTO:+0200
TZNAME:CEST
DTSTART:20260329T010000
END:DAYLIGHT
BEGIN:STANDARD
TZOFFSETFROM:+0200
TZOFFSETTO:+0100
TZNAME:CET
DTSTART:20261025T010000
END:STANDARD
BEGIN:DAYLIGHT
TZOFFSETFROM:+0100
TZOFFSETTO:+0200
TZNAME:CEST
DTSTART:20270328T010000
END:DAYLIGHT
BEGIN:STANDARD
TZOFFSETFROM:+0200
TZOFFSETTO:+0100
TZNAME:CET
DTSTART:20271031T010000
END:STANDARD
BEGIN:DAYLIGHT
TZOFFSETFROM:+0100
TZOFFSETTO:+0200
TZNAME:CEST
DTSTART:20280326T010000
END:DAYLIGHT
BEGIN:STANDARD
TZOFFSETFROM:+0200
TZOFFSETTO:+0100
TZNAME:CET
DTSTART:20281029T010000
END:STANDARD
END:VTIMEZONE
BEGIN:VEVENT
DTSTART;TZID=Europe/Prague:20260915T140000
DTEND;TZID=Europe/Prague:20260915T160000
DTSTAMP:20260425T134142
CREATED:20240926T140013Z
LAST-MODIFIED:20250605T154628Z
UID:10006818-1789480800-1789488000@iwa-prague.com
SUMMARY:Knit & Crochet
DESCRIPTION:
URL:https://iwa-prague.com/event/knitting-crochet-and-small-needlework/2026-09-15/
CATEGORIES:Creative Pursuits & Gourmet
ATTACH;FMTTYPE=image/jpeg:https://iwa-prague.com/wp-content/uploads/2017/02/Knitting-Jul-2021-OPT.jpg
ORGANIZER;CN="Charlotte Sommer":MAILTO:knitting@iwa-prague.com
END:VEVENT
BEGIN:VEVENT
DTSTART;TZID=Europe/Prague:20260922T140000
DTEND;TZID=Europe/Prague:20260922T160000
DTSTAMP:20260425T134142
CREATED:20240926T140013Z
LAST-MODIFIED:20250605T154628Z
UID:10006819-1790085600-1790092800@iwa-prague.com
SUMMARY:Knit & Crochet
DESCRIPTION:
URL:https://iwa-prague.com/event/knitting-crochet-and-small-needlework/2026-09-22/
CATEGORIES:Creative Pursuits & Gourmet
ATTACH;FMTTYPE=image/jpeg:https://iwa-prague.com/wp-content/uploads/2017/02/Knitting-Jul-2021-OPT.jpg
ORGANIZER;CN="Charlotte Sommer":MAILTO:knitting@iwa-prague.com
END:VEVENT
BEGIN:VEVENT
DTSTART;TZID=Europe/Prague:20260923T103000
DTEND;TZID=Europe/Prague:20260923T123000
DTSTAMP:20260425T134142
CREATED:20240925T095420Z
LAST-MODIFIED:20260311T163935Z
UID:10007118-1790159400-1790166600@iwa-prague.com
SUMMARY:Photography
DESCRIPTION:Photography as the visual art offers us the unique way to treasure our memories and to tell the stories from the place we live. Everybody who feels the same way can join our Photography Group. We focus on learning and sharing techniques\, knowledge and friendship among our members. We meet once a month at different locations and follow various themes. All levels welcome.
URL:https://iwa-prague.com/event/photography-group/2026-09-23/
CATEGORIES:Creative Pursuits & Gourmet
ATTACH;FMTTYPE=image/jpeg:https://iwa-prague.com/wp-content/uploads/2018/02/photography-OPT.jpg
ORGANIZER;CN="Sandra Hill":MAILTO:eveningcinema@iwa-prague.com
END:VEVENT
BEGIN:VEVENT
DTSTART;TZID=Europe/Prague:20260929T140000
DTEND;TZID=Europe/Prague:20260929T160000
DTSTAMP:20260425T134142
CREATED:20240926T140013Z
LAST-MODIFIED:20250605T154628Z
UID:10006820-1790690400-1790697600@iwa-prague.com
SUMMARY:Knit & Crochet
DESCRIPTION:
URL:https://iwa-prague.com/event/knitting-crochet-and-small-needlework/2026-09-29/
CATEGORIES:Creative Pursuits & Gourmet
ATTACH;FMTTYPE=image/jpeg:https://iwa-prague.com/wp-content/uploads/2017/02/Knitting-Jul-2021-OPT.jpg
ORGANIZER;CN="Charlotte Sommer":MAILTO:knitting@iwa-prague.com
END:VEVENT
BEGIN:VEVENT
DTSTART;TZID=Europe/Prague:20261006T140000
DTEND;TZID=Europe/Prague:20261006T160000
DTSTAMP:20260425T134142
CREATED:20240926T140013Z
LAST-MODIFIED:20250605T154628Z
UID:10006821-1791295200-1791302400@iwa-prague.com
SUMMARY:Knit & Crochet
DESCRIPTION:
URL:https://iwa-prague.com/event/knitting-crochet-and-small-needlework/2026-10-06/
CATEGORIES:Creative Pursuits & Gourmet
ATTACH;FMTTYPE=image/jpeg:https://iwa-prague.com/wp-content/uploads/2017/02/Knitting-Jul-2021-OPT.jpg
ORGANIZER;CN="Charlotte Sommer":MAILTO:knitting@iwa-prague.com
END:VEVENT
BEGIN:VEVENT
DTSTART;TZID=Europe/Prague:20261013T140000
DTEND;TZID=Europe/Prague:20261013T160000
DTSTAMP:20260425T134142
CREATED:20240926T140013Z
LAST-MODIFIED:20250605T154628Z
UID:10006822-1791900000-1791907200@iwa-prague.com
SUMMARY:Knit & Crochet
DESCRIPTION:
URL:https://iwa-prague.com/event/knitting-crochet-and-small-needlework/2026-10-13/
CATEGORIES:Creative Pursuits & Gourmet
ATTACH;FMTTYPE=image/jpeg:https://iwa-prague.com/wp-content/uploads/2017/02/Knitting-Jul-2021-OPT.jpg
ORGANIZER;CN="Charlotte Sommer":MAILTO:knitting@iwa-prague.com
END:VEVENT
BEGIN:VEVENT
DTSTART;TZID=Europe/Prague:20261020T140000
DTEND;TZID=Europe/Prague:20261020T160000
DTSTAMP:20260425T134142
CREATED:20240926T140013Z
LAST-MODIFIED:20250605T154628Z
UID:10006823-1792504800-1792512000@iwa-prague.com
SUMMARY:Knit & Crochet
DESCRIPTION:
URL:https://iwa-prague.com/event/knitting-crochet-and-small-needlework/2026-10-20/
CATEGORIES:Creative Pursuits & Gourmet
ATTACH;FMTTYPE=image/jpeg:https://iwa-prague.com/wp-content/uploads/2017/02/Knitting-Jul-2021-OPT.jpg
ORGANIZER;CN="Charlotte Sommer":MAILTO:knitting@iwa-prague.com
END:VEVENT
BEGIN:VEVENT
DTSTART;TZID=Europe/Prague:20261027T140000
DTEND;TZID=Europe/Prague:20261027T160000
DTSTAMP:20260425T134142
CREATED:20240926T140013Z
LAST-MODIFIED:20250605T154628Z
UID:10006824-1793109600-1793116800@iwa-prague.com
SUMMARY:Knit & Crochet
DESCRIPTION:
URL:https://iwa-prague.com/event/knitting-crochet-and-small-needlework/2026-10-27/
CATEGORIES:Creative Pursuits & Gourmet
ATTACH;FMTTYPE=image/jpeg:https://iwa-prague.com/wp-content/uploads/2017/02/Knitting-Jul-2021-OPT.jpg
ORGANIZER;CN="Charlotte Sommer":MAILTO:knitting@iwa-prague.com
END:VEVENT
BEGIN:VEVENT
DTSTART;TZID=Europe/Prague:20261028T103000
DTEND;TZID=Europe/Prague:20261028T123000
DTSTAMP:20260425T134142
CREATED:20240925T095420Z
LAST-MODIFIED:20260311T163935Z
UID:10007119-1793183400-1793190600@iwa-prague.com
SUMMARY:Photography
DESCRIPTION:Photography as the visual art offers us the unique way to treasure our memories and to tell the stories from the place we live. Everybody who feels the same way can join our Photography Group. We focus on learning and sharing techniques\, knowledge and friendship among our members. We meet once a month at different locations and follow various themes. All levels welcome.
URL:https://iwa-prague.com/event/photography-group/2026-10-28/
CATEGORIES:Creative Pursuits & Gourmet
ATTACH;FMTTYPE=image/jpeg:https://iwa-prague.com/wp-content/uploads/2018/02/photography-OPT.jpg
ORGANIZER;CN="Sandra Hill":MAILTO:eveningcinema@iwa-prague.com
END:VEVENT
BEGIN:VEVENT
DTSTART;TZID=Europe/Prague:20261103T140000
DTEND;TZID=Europe/Prague:20261103T160000
DTSTAMP:20260425T134142
CREATED:20240926T140013Z
LAST-MODIFIED:20250605T154628Z
UID:10006825-1793714400-1793721600@iwa-prague.com
SUMMARY:Knit & Crochet
DESCRIPTION:
URL:https://iwa-prague.com/event/knitting-crochet-and-small-needlework/2026-11-03/
CATEGORIES:Creative Pursuits & Gourmet
ATTACH;FMTTYPE=image/jpeg:https://iwa-prague.com/wp-content/uploads/2017/02/Knitting-Jul-2021-OPT.jpg
ORGANIZER;CN="Charlotte Sommer":MAILTO:knitting@iwa-prague.com
END:VEVENT
BEGIN:VEVENT
DTSTART;TZID=Europe/Prague:20261110T140000
DTEND;TZID=Europe/Prague:20261110T160000
DTSTAMP:20260425T134142
CREATED:20240926T140013Z
LAST-MODIFIED:20250605T154628Z
UID:10006826-1794319200-1794326400@iwa-prague.com
SUMMARY:Knit & Crochet
DESCRIPTION:
URL:https://iwa-prague.com/event/knitting-crochet-and-small-needlework/2026-11-10/
CATEGORIES:Creative Pursuits & Gourmet
ATTACH;FMTTYPE=image/jpeg:https://iwa-prague.com/wp-content/uploads/2017/02/Knitting-Jul-2021-OPT.jpg
ORGANIZER;CN="Charlotte Sommer":MAILTO:knitting@iwa-prague.com
END:VEVENT
BEGIN:VEVENT
DTSTART;TZID=Europe/Prague:20261117T140000
DTEND;TZID=Europe/Prague:20261117T160000
DTSTAMP:20260425T134142
CREATED:20240926T140013Z
LAST-MODIFIED:20250605T154628Z
UID:10006827-1794924000-1794931200@iwa-prague.com
SUMMARY:Knit & Crochet
DESCRIPTION:
URL:https://iwa-prague.com/event/knitting-crochet-and-small-needlework/2026-11-17/
CATEGORIES:Creative Pursuits & Gourmet
ATTACH;FMTTYPE=image/jpeg:https://iwa-prague.com/wp-content/uploads/2017/02/Knitting-Jul-2021-OPT.jpg
ORGANIZER;CN="Charlotte Sommer":MAILTO:knitting@iwa-prague.com
END:VEVENT
BEGIN:VEVENT
DTSTART;TZID=Europe/Prague:20261124T140000
DTEND;TZID=Europe/Prague:20261124T160000
DTSTAMP:20260425T134142
CREATED:20240926T140013Z
LAST-MODIFIED:20250605T154628Z
UID:10006828-1795528800-1795536000@iwa-prague.com
SUMMARY:Knit & Crochet
DESCRIPTION:
URL:https://iwa-prague.com/event/knitting-crochet-and-small-needlework/2026-11-24/
CATEGORIES:Creative Pursuits & Gourmet
ATTACH;FMTTYPE=image/jpeg:https://iwa-prague.com/wp-content/uploads/2017/02/Knitting-Jul-2021-OPT.jpg
ORGANIZER;CN="Charlotte Sommer":MAILTO:knitting@iwa-prague.com
END:VEVENT
BEGIN:VEVENT
DTSTART;TZID=Europe/Prague:20261125T103000
DTEND;TZID=Europe/Prague:20261125T123000
DTSTAMP:20260425T134142
CREATED:20240925T095420Z
LAST-MODIFIED:20260311T163935Z
UID:10007120-1795602600-1795609800@iwa-prague.com
SUMMARY:Photography
DESCRIPTION:Photography as the visual art offers us the unique way to treasure our memories and to tell the stories from the place we live. Everybody who feels the same way can join our Photography Group. We focus on learning and sharing techniques\, knowledge and friendship among our members. We meet once a month at different locations and follow various themes. All levels welcome.
URL:https://iwa-prague.com/event/photography-group/2026-11-25/
CATEGORIES:Creative Pursuits & Gourmet
ATTACH;FMTTYPE=image/jpeg:https://iwa-prague.com/wp-content/uploads/2018/02/photography-OPT.jpg
ORGANIZER;CN="Sandra Hill":MAILTO:eveningcinema@iwa-prague.com
END:VEVENT
BEGIN:VEVENT
DTSTART;TZID=Europe/Prague:20261201T140000
DTEND;TZID=Europe/Prague:20261201T160000
DTSTAMP:20260425T134142
CREATED:20240926T140013Z
LAST-MODIFIED:20250605T154628Z
UID:10006829-1796133600-1796140800@iwa-prague.com
SUMMARY:Knit & Crochet
DESCRIPTION:
URL:https://iwa-prague.com/event/knitting-crochet-and-small-needlework/2026-12-01/
CATEGORIES:Creative Pursuits & Gourmet
ATTACH;FMTTYPE=image/jpeg:https://iwa-prague.com/wp-content/uploads/2017/02/Knitting-Jul-2021-OPT.jpg
ORGANIZER;CN="Charlotte Sommer":MAILTO:knitting@iwa-prague.com
END:VEVENT
BEGIN:VEVENT
DTSTART;TZID=Europe/Prague:20261208T140000
DTEND;TZID=Europe/Prague:20261208T160000
DTSTAMP:20260425T134142
CREATED:20240926T140013Z
LAST-MODIFIED:20250605T154628Z
UID:10006830-1796738400-1796745600@iwa-prague.com
SUMMARY:Knit & Crochet
DESCRIPTION:
URL:https://iwa-prague.com/event/knitting-crochet-and-small-needlework/2026-12-08/
CATEGORIES:Creative Pursuits & Gourmet
ATTACH;FMTTYPE=image/jpeg:https://iwa-prague.com/wp-content/uploads/2017/02/Knitting-Jul-2021-OPT.jpg
ORGANIZER;CN="Charlotte Sommer":MAILTO:knitting@iwa-prague.com
END:VEVENT
BEGIN:VEVENT
DTSTART;TZID=Europe/Prague:20261215T140000
DTEND;TZID=Europe/Prague:20261215T160000
DTSTAMP:20260425T134142
CREATED:20240926T140013Z
LAST-MODIFIED:20250605T154628Z
UID:10006831-1797343200-1797350400@iwa-prague.com
SUMMARY:Knit & Crochet
DESCRIPTION:
URL:https://iwa-prague.com/event/knitting-crochet-and-small-needlework/2026-12-15/
CATEGORIES:Creative Pursuits & Gourmet
ATTACH;FMTTYPE=image/jpeg:https://iwa-prague.com/wp-content/uploads/2017/02/Knitting-Jul-2021-OPT.jpg
ORGANIZER;CN="Charlotte Sommer":MAILTO:knitting@iwa-prague.com
END:VEVENT
BEGIN:VEVENT
DTSTART;TZID=Europe/Prague:20261222T140000
DTEND;TZID=Europe/Prague:20261222T160000
DTSTAMP:20260425T134142
CREATED:20240926T140013Z
LAST-MODIFIED:20250605T154628Z
UID:10006832-1797948000-1797955200@iwa-prague.com
SUMMARY:Knit & Crochet
DESCRIPTION:
URL:https://iwa-prague.com/event/knitting-crochet-and-small-needlework/2026-12-22/
CATEGORIES:Creative Pursuits & Gourmet
ATTACH;FMTTYPE=image/jpeg:https://iwa-prague.com/wp-content/uploads/2017/02/Knitting-Jul-2021-OPT.jpg
ORGANIZER;CN="Charlotte Sommer":MAILTO:knitting@iwa-prague.com
END:VEVENT
BEGIN:VEVENT
DTSTART;TZID=Europe/Prague:20261223T103000
DTEND;TZID=Europe/Prague:20261223T123000
DTSTAMP:20260425T134142
CREATED:20240925T095420Z
LAST-MODIFIED:20260311T163935Z
UID:10007121-1798021800-1798029000@iwa-prague.com
SUMMARY:Photography
DESCRIPTION:Photography as the visual art offers us the unique way to treasure our memories and to tell the stories from the place we live. Everybody who feels the same way can join our Photography Group. We focus on learning and sharing techniques\, knowledge and friendship among our members. We meet once a month at different locations and follow various themes. All levels welcome.
URL:https://iwa-prague.com/event/photography-group/2026-12-23/
CATEGORIES:Creative Pursuits & Gourmet
ATTACH;FMTTYPE=image/jpeg:https://iwa-prague.com/wp-content/uploads/2018/02/photography-OPT.jpg
ORGANIZER;CN="Sandra Hill":MAILTO:eveningcinema@iwa-prague.com
END:VEVENT
BEGIN:VEVENT
DTSTART;TZID=Europe/Prague:20261229T140000
DTEND;TZID=Europe/Prague:20261229T160000
DTSTAMP:20260425T134142
CREATED:20240926T140013Z
LAST-MODIFIED:20250605T154628Z
UID:10006833-1798552800-1798560000@iwa-prague.com
SUMMARY:Knit & Crochet
DESCRIPTION:
URL:https://iwa-prague.com/event/knitting-crochet-and-small-needlework/2026-12-29/
CATEGORIES:Creative Pursuits & Gourmet
ATTACH;FMTTYPE=image/jpeg:https://iwa-prague.com/wp-content/uploads/2017/02/Knitting-Jul-2021-OPT.jpg
ORGANIZER;CN="Charlotte Sommer":MAILTO:knitting@iwa-prague.com
END:VEVENT
BEGIN:VEVENT
DTSTART;TZID=Europe/Prague:20270105T140000
DTEND;TZID=Europe/Prague:20270105T160000
DTSTAMP:20260425T134142
CREATED:20240926T140013Z
LAST-MODIFIED:20250605T154628Z
UID:10006834-1799157600-1799164800@iwa-prague.com
SUMMARY:Knit & Crochet
DESCRIPTION:
URL:https://iwa-prague.com/event/knitting-crochet-and-small-needlework/2027-01-05/
CATEGORIES:Creative Pursuits & Gourmet
ATTACH;FMTTYPE=image/jpeg:https://iwa-prague.com/wp-content/uploads/2017/02/Knitting-Jul-2021-OPT.jpg
ORGANIZER;CN="Charlotte Sommer":MAILTO:knitting@iwa-prague.com
END:VEVENT
BEGIN:VEVENT
DTSTART;TZID=Europe/Prague:20270112T140000
DTEND;TZID=Europe/Prague:20270112T160000
DTSTAMP:20260425T134142
CREATED:20240926T140013Z
LAST-MODIFIED:20250605T154628Z
UID:10006835-1799762400-1799769600@iwa-prague.com
SUMMARY:Knit & Crochet
DESCRIPTION:
URL:https://iwa-prague.com/event/knitting-crochet-and-small-needlework/2027-01-12/
CATEGORIES:Creative Pursuits & Gourmet
ATTACH;FMTTYPE=image/jpeg:https://iwa-prague.com/wp-content/uploads/2017/02/Knitting-Jul-2021-OPT.jpg
ORGANIZER;CN="Charlotte Sommer":MAILTO:knitting@iwa-prague.com
END:VEVENT
BEGIN:VEVENT
DTSTART;TZID=Europe/Prague:20270119T140000
DTEND;TZID=Europe/Prague:20270119T160000
DTSTAMP:20260425T134142
CREATED:20240926T140013Z
LAST-MODIFIED:20250605T154628Z
UID:10006836-1800367200-1800374400@iwa-prague.com
SUMMARY:Knit & Crochet
DESCRIPTION:
URL:https://iwa-prague.com/event/knitting-crochet-and-small-needlework/2027-01-19/
CATEGORIES:Creative Pursuits & Gourmet
ATTACH;FMTTYPE=image/jpeg:https://iwa-prague.com/wp-content/uploads/2017/02/Knitting-Jul-2021-OPT.jpg
ORGANIZER;CN="Charlotte Sommer":MAILTO:knitting@iwa-prague.com
END:VEVENT
BEGIN:VEVENT
DTSTART;TZID=Europe/Prague:20270126T140000
DTEND;TZID=Europe/Prague:20270126T160000
DTSTAMP:20260425T134142
CREATED:20240926T140013Z
LAST-MODIFIED:20250605T154628Z
UID:10006837-1800972000-1800979200@iwa-prague.com
SUMMARY:Knit & Crochet
DESCRIPTION:
URL:https://iwa-prague.com/event/knitting-crochet-and-small-needlework/2027-01-26/
CATEGORIES:Creative Pursuits & Gourmet
ATTACH;FMTTYPE=image/jpeg:https://iwa-prague.com/wp-content/uploads/2017/02/Knitting-Jul-2021-OPT.jpg
ORGANIZER;CN="Charlotte Sommer":MAILTO:knitting@iwa-prague.com
END:VEVENT
BEGIN:VEVENT
DTSTART;TZID=Europe/Prague:20270127T103000
DTEND;TZID=Europe/Prague:20270127T123000
DTSTAMP:20260425T134142
CREATED:20240925T095420Z
LAST-MODIFIED:20260311T163935Z
UID:10007122-1801045800-1801053000@iwa-prague.com
SUMMARY:Photography
DESCRIPTION:Photography as the visual art offers us the unique way to treasure our memories and to tell the stories from the place we live. Everybody who feels the same way can join our Photography Group. We focus on learning and sharing techniques\, knowledge and friendship among our members. We meet once a month at different locations and follow various themes. All levels welcome.
URL:https://iwa-prague.com/event/photography-group/2027-01-27/
CATEGORIES:Creative Pursuits & Gourmet
ATTACH;FMTTYPE=image/jpeg:https://iwa-prague.com/wp-content/uploads/2018/02/photography-OPT.jpg
ORGANIZER;CN="Sandra Hill":MAILTO:eveningcinema@iwa-prague.com
END:VEVENT
BEGIN:VEVENT
DTSTART;TZID=Europe/Prague:20270202T140000
DTEND;TZID=Europe/Prague:20270202T160000
DTSTAMP:20260425T134142
CREATED:20240926T140013Z
LAST-MODIFIED:20250605T154628Z
UID:10006838-1801576800-1801584000@iwa-prague.com
SUMMARY:Knit & Crochet
DESCRIPTION:
URL:https://iwa-prague.com/event/knitting-crochet-and-small-needlework/2027-02-02/
CATEGORIES:Creative Pursuits & Gourmet
ATTACH;FMTTYPE=image/jpeg:https://iwa-prague.com/wp-content/uploads/2017/02/Knitting-Jul-2021-OPT.jpg
ORGANIZER;CN="Charlotte Sommer":MAILTO:knitting@iwa-prague.com
END:VEVENT
BEGIN:VEVENT
DTSTART;TZID=Europe/Prague:20270209T140000
DTEND;TZID=Europe/Prague:20270209T160000
DTSTAMP:20260425T134142
CREATED:20240926T140013Z
LAST-MODIFIED:20250605T154628Z
UID:10006839-1802181600-1802188800@iwa-prague.com
SUMMARY:Knit & Crochet
DESCRIPTION:
URL:https://iwa-prague.com/event/knitting-crochet-and-small-needlework/2027-02-09/
CATEGORIES:Creative Pursuits & Gourmet
ATTACH;FMTTYPE=image/jpeg:https://iwa-prague.com/wp-content/uploads/2017/02/Knitting-Jul-2021-OPT.jpg
ORGANIZER;CN="Charlotte Sommer":MAILTO:knitting@iwa-prague.com
END:VEVENT
BEGIN:VEVENT
DTSTART;TZID=Europe/Prague:20270216T140000
DTEND;TZID=Europe/Prague:20270216T160000
DTSTAMP:20260425T134142
CREATED:20240926T140013Z
LAST-MODIFIED:20250605T154628Z
UID:10006840-1802786400-1802793600@iwa-prague.com
SUMMARY:Knit & Crochet
DESCRIPTION:
URL:https://iwa-prague.com/event/knitting-crochet-and-small-needlework/2027-02-16/
CATEGORIES:Creative Pursuits & Gourmet
ATTACH;FMTTYPE=image/jpeg:https://iwa-prague.com/wp-content/uploads/2017/02/Knitting-Jul-2021-OPT.jpg
ORGANIZER;CN="Charlotte Sommer":MAILTO:knitting@iwa-prague.com
END:VEVENT
BEGIN:VEVENT
DTSTART;TZID=Europe/Prague:20270223T140000
DTEND;TZID=Europe/Prague:20270223T160000
DTSTAMP:20260425T134142
CREATED:20240926T140013Z
LAST-MODIFIED:20250605T154628Z
UID:10006841-1803391200-1803398400@iwa-prague.com
SUMMARY:Knit & Crochet
DESCRIPTION:
URL:https://iwa-prague.com/event/knitting-crochet-and-small-needlework/2027-02-23/
CATEGORIES:Creative Pursuits & Gourmet
ATTACH;FMTTYPE=image/jpeg:https://iwa-prague.com/wp-content/uploads/2017/02/Knitting-Jul-2021-OPT.jpg
ORGANIZER;CN="Charlotte Sommer":MAILTO:knitting@iwa-prague.com
END:VEVENT
BEGIN:VEVENT
DTSTART;TZID=Europe/Prague:20270224T103000
DTEND;TZID=Europe/Prague:20270224T123000
DTSTAMP:20260425T134142
CREATED:20240925T095420Z
LAST-MODIFIED:20260311T163935Z
UID:10007123-1803465000-1803472200@iwa-prague.com
SUMMARY:Photography
DESCRIPTION:Photography as the visual art offers us the unique way to treasure our memories and to tell the stories from the place we live. Everybody who feels the same way can join our Photography Group. We focus on learning and sharing techniques\, knowledge and friendship among our members. We meet once a month at different locations and follow various themes. All levels welcome.
URL:https://iwa-prague.com/event/photography-group/2027-02-24/
CATEGORIES:Creative Pursuits & Gourmet
ATTACH;FMTTYPE=image/jpeg:https://iwa-prague.com/wp-content/uploads/2018/02/photography-OPT.jpg
ORGANIZER;CN="Sandra Hill":MAILTO:eveningcinema@iwa-prague.com
END:VEVENT
END:VCALENDAR