BEGIN:VCALENDAR
VERSION:2.0
PRODID:-//International Women&#039;s Association of Prague - ECPv6.15.20//NONSGML v1.0//EN
CALSCALE:GREGORIAN
METHOD:PUBLISH
X-WR-CALNAME:International Women&#039;s Association of Prague
X-ORIGINAL-URL:https://iwa-prague.com
X-WR-CALDESC:Events for International Women&#039;s Association of Prague
REFRESH-INTERVAL;VALUE=DURATION:PT1H
X-Robots-Tag:noindex
X-PUBLISHED-TTL:PT1H
BEGIN:VTIMEZONE
TZID:Europe/Prague
BEGIN:DAYLIGHT
TZOFFSETFROM:+0100
TZOFFSETTO:+0200
TZNAME:CEST
DTSTART:20270328T010000
END:DAYLIGHT
BEGIN:STANDARD
TZOFFSETFROM:+0200
TZOFFSETTO:+0100
TZNAME:CET
DTSTART:20271031T010000
END:STANDARD
BEGIN:DAYLIGHT
TZOFFSETFROM:+0100
TZOFFSETTO:+0200
TZNAME:CEST
DTSTART:20280326T010000
END:DAYLIGHT
BEGIN:STANDARD
TZOFFSETFROM:+0200
TZOFFSETTO:+0100
TZNAME:CET
DTSTART:20281029T010000
END:STANDARD
BEGIN:DAYLIGHT
TZOFFSETFROM:+0100
TZOFFSETTO:+0200
TZNAME:CEST
DTSTART:20290325T010000
END:DAYLIGHT
BEGIN:STANDARD
TZOFFSETFROM:+0200
TZOFFSETTO:+0100
TZNAME:CET
DTSTART:20291028T010000
END:STANDARD
BEGIN:DAYLIGHT
TZOFFSETFROM:+0100
TZOFFSETTO:+0200
TZNAME:CEST
DTSTART:20300331T010000
END:DAYLIGHT
BEGIN:STANDARD
TZOFFSETFROM:+0200
TZOFFSETTO:+0100
TZNAME:CET
DTSTART:20301027T010000
END:STANDARD
END:VTIMEZONE
BEGIN:VEVENT
DTSTART;TZID=Europe/Prague:20280811T100000
DTEND;TZID=Europe/Prague:20280811T120000
DTSTAMP:20260425T205431
CREATED:20241030T085257Z
LAST-MODIFIED:20260109T125822Z
UID:10005322-1849600800-1849608000@iwa-prague.com
SUMMARY:Friday Book Club
DESCRIPTION:
URL:https://iwa-prague.com/event/friday-book-club-2/2028-08-11/
CATEGORIES:Art & Culture
ATTACH;FMTTYPE=image/jpeg:https://iwa-prague.com/wp-content/uploads/2024/09/fribookclub-apr-2024-001-1-scaled.jpg
ORGANIZER;CN="Laurie Barnes":MAILTO:fridaybookclub@iwa-prague.com
END:VEVENT
BEGIN:VEVENT
DTSTART;TZID=Europe/Prague:20280824T100000
DTEND;TZID=Europe/Prague:20280824T113000
DTSTAMP:20260425T205431
CREATED:20251103T080712Z
LAST-MODIFIED:20260123T110731Z
UID:10008133-1850724000-1850729400@iwa-prague.com
SUMMARY:The History Group
DESCRIPTION:
URL:https://iwa-prague.com/event/the-history-group-2/2028-08-24/
CATEGORIES:Art & Culture
ATTACH;FMTTYPE=image/jpeg:https://iwa-prague.com/wp-content/uploads/2025/09/trebon-7221190_1280-OPT.jpg
ORGANIZER;CN="Petra Nykodym":MAILTO:history@iwa-prague.com
END:VEVENT
BEGIN:VEVENT
DTSTART;TZID=Europe/Prague:20280908T100000
DTEND;TZID=Europe/Prague:20280908T120000
DTSTAMP:20260425T205431
CREATED:20241030T085257Z
LAST-MODIFIED:20260109T125822Z
UID:10005323-1852020000-1852027200@iwa-prague.com
SUMMARY:Friday Book Club
DESCRIPTION:
URL:https://iwa-prague.com/event/friday-book-club-2/2028-09-08/
CATEGORIES:Art & Culture
ATTACH;FMTTYPE=image/jpeg:https://iwa-prague.com/wp-content/uploads/2024/09/fribookclub-apr-2024-001-1-scaled.jpg
ORGANIZER;CN="Laurie Barnes":MAILTO:fridaybookclub@iwa-prague.com
END:VEVENT
BEGIN:VEVENT
DTSTART;TZID=Europe/Prague:20280928T100000
DTEND;TZID=Europe/Prague:20280928T113000
DTSTAMP:20260425T205431
CREATED:20251103T080712Z
LAST-MODIFIED:20260123T110731Z
UID:10008134-1853748000-1853753400@iwa-prague.com
SUMMARY:The History Group
DESCRIPTION:
URL:https://iwa-prague.com/event/the-history-group-2/2028-09-28/
CATEGORIES:Art & Culture
ATTACH;FMTTYPE=image/jpeg:https://iwa-prague.com/wp-content/uploads/2025/09/trebon-7221190_1280-OPT.jpg
ORGANIZER;CN="Petra Nykodym":MAILTO:history@iwa-prague.com
END:VEVENT
BEGIN:VEVENT
DTSTART;TZID=Europe/Prague:20281013T100000
DTEND;TZID=Europe/Prague:20281013T120000
DTSTAMP:20260425T205431
CREATED:20241030T085257Z
LAST-MODIFIED:20260109T125822Z
UID:10005324-1855044000-1855051200@iwa-prague.com
SUMMARY:Friday Book Club
DESCRIPTION:
URL:https://iwa-prague.com/event/friday-book-club-2/2028-10-13/
CATEGORIES:Art & Culture
ATTACH;FMTTYPE=image/jpeg:https://iwa-prague.com/wp-content/uploads/2024/09/fribookclub-apr-2024-001-1-scaled.jpg
ORGANIZER;CN="Laurie Barnes":MAILTO:fridaybookclub@iwa-prague.com
END:VEVENT
BEGIN:VEVENT
DTSTART;TZID=Europe/Prague:20281026T100000
DTEND;TZID=Europe/Prague:20281026T113000
DTSTAMP:20260425T205431
CREATED:20251103T080712Z
LAST-MODIFIED:20260123T110731Z
UID:10008135-1856167200-1856172600@iwa-prague.com
SUMMARY:The History Group
DESCRIPTION:
URL:https://iwa-prague.com/event/the-history-group-2/2028-10-26/
CATEGORIES:Art & Culture
ATTACH;FMTTYPE=image/jpeg:https://iwa-prague.com/wp-content/uploads/2025/09/trebon-7221190_1280-OPT.jpg
ORGANIZER;CN="Petra Nykodym":MAILTO:history@iwa-prague.com
END:VEVENT
BEGIN:VEVENT
DTSTART;TZID=Europe/Prague:20281110T100000
DTEND;TZID=Europe/Prague:20281110T120000
DTSTAMP:20260425T205431
CREATED:20241030T085257Z
LAST-MODIFIED:20260109T125822Z
UID:10005325-1857463200-1857470400@iwa-prague.com
SUMMARY:Friday Book Club
DESCRIPTION:
URL:https://iwa-prague.com/event/friday-book-club-2/2028-11-10/
CATEGORIES:Art & Culture
ATTACH;FMTTYPE=image/jpeg:https://iwa-prague.com/wp-content/uploads/2024/09/fribookclub-apr-2024-001-1-scaled.jpg
ORGANIZER;CN="Laurie Barnes":MAILTO:fridaybookclub@iwa-prague.com
END:VEVENT
BEGIN:VEVENT
DTSTART;TZID=Europe/Prague:20281123T100000
DTEND;TZID=Europe/Prague:20281123T113000
DTSTAMP:20260425T205431
CREATED:20251103T080712Z
LAST-MODIFIED:20260123T110731Z
UID:10008136-1858586400-1858591800@iwa-prague.com
SUMMARY:The History Group
DESCRIPTION:
URL:https://iwa-prague.com/event/the-history-group-2/2028-11-23/
CATEGORIES:Art & Culture
ATTACH;FMTTYPE=image/jpeg:https://iwa-prague.com/wp-content/uploads/2025/09/trebon-7221190_1280-OPT.jpg
ORGANIZER;CN="Petra Nykodym":MAILTO:history@iwa-prague.com
END:VEVENT
BEGIN:VEVENT
DTSTART;TZID=Europe/Prague:20281208T100000
DTEND;TZID=Europe/Prague:20281208T120000
DTSTAMP:20260425T205431
CREATED:20241030T085257Z
LAST-MODIFIED:20260109T125822Z
UID:10005326-1859882400-1859889600@iwa-prague.com
SUMMARY:Friday Book Club
DESCRIPTION:
URL:https://iwa-prague.com/event/friday-book-club-2/2028-12-08/
CATEGORIES:Art & Culture
ATTACH;FMTTYPE=image/jpeg:https://iwa-prague.com/wp-content/uploads/2024/09/fribookclub-apr-2024-001-1-scaled.jpg
ORGANIZER;CN="Laurie Barnes":MAILTO:fridaybookclub@iwa-prague.com
END:VEVENT
BEGIN:VEVENT
DTSTART;TZID=Europe/Prague:20281228T100000
DTEND;TZID=Europe/Prague:20281228T113000
DTSTAMP:20260425T205431
CREATED:20251103T080712Z
LAST-MODIFIED:20260123T110731Z
UID:10008137-1861610400-1861615800@iwa-prague.com
SUMMARY:The History Group
DESCRIPTION:
URL:https://iwa-prague.com/event/the-history-group-2/2028-12-28/
CATEGORIES:Art & Culture
ATTACH;FMTTYPE=image/jpeg:https://iwa-prague.com/wp-content/uploads/2025/09/trebon-7221190_1280-OPT.jpg
ORGANIZER;CN="Petra Nykodym":MAILTO:history@iwa-prague.com
END:VEVENT
BEGIN:VEVENT
DTSTART;TZID=Europe/Prague:20290112T100000
DTEND;TZID=Europe/Prague:20290112T120000
DTSTAMP:20260425T205431
CREATED:20241030T085257Z
LAST-MODIFIED:20260109T125822Z
UID:10005327-1862906400-1862913600@iwa-prague.com
SUMMARY:Friday Book Club
DESCRIPTION:
URL:https://iwa-prague.com/event/friday-book-club-2/2029-01-12/
CATEGORIES:Art & Culture
ATTACH;FMTTYPE=image/jpeg:https://iwa-prague.com/wp-content/uploads/2024/09/fribookclub-apr-2024-001-1-scaled.jpg
ORGANIZER;CN="Laurie Barnes":MAILTO:fridaybookclub@iwa-prague.com
END:VEVENT
BEGIN:VEVENT
DTSTART;TZID=Europe/Prague:20290125T100000
DTEND;TZID=Europe/Prague:20290125T113000
DTSTAMP:20260425T205431
CREATED:20251103T080712Z
LAST-MODIFIED:20260123T110731Z
UID:10008138-1864029600-1864035000@iwa-prague.com
SUMMARY:The History Group
DESCRIPTION:
URL:https://iwa-prague.com/event/the-history-group-2/2029-01-25/
CATEGORIES:Art & Culture
ATTACH;FMTTYPE=image/jpeg:https://iwa-prague.com/wp-content/uploads/2025/09/trebon-7221190_1280-OPT.jpg
ORGANIZER;CN="Petra Nykodym":MAILTO:history@iwa-prague.com
END:VEVENT
BEGIN:VEVENT
DTSTART;TZID=Europe/Prague:20290209T100000
DTEND;TZID=Europe/Prague:20290209T120000
DTSTAMP:20260425T205431
CREATED:20241030T085257Z
LAST-MODIFIED:20260109T125822Z
UID:10005328-1865325600-1865332800@iwa-prague.com
SUMMARY:Friday Book Club
DESCRIPTION:
URL:https://iwa-prague.com/event/friday-book-club-2/2029-02-09/
CATEGORIES:Art & Culture
ATTACH;FMTTYPE=image/jpeg:https://iwa-prague.com/wp-content/uploads/2024/09/fribookclub-apr-2024-001-1-scaled.jpg
ORGANIZER;CN="Laurie Barnes":MAILTO:fridaybookclub@iwa-prague.com
END:VEVENT
BEGIN:VEVENT
DTSTART;TZID=Europe/Prague:20290222T100000
DTEND;TZID=Europe/Prague:20290222T113000
DTSTAMP:20260425T205431
CREATED:20251103T080712Z
LAST-MODIFIED:20260123T110731Z
UID:10008139-1866448800-1866454200@iwa-prague.com
SUMMARY:The History Group
DESCRIPTION:
URL:https://iwa-prague.com/event/the-history-group-2/2029-02-22/
CATEGORIES:Art & Culture
ATTACH;FMTTYPE=image/jpeg:https://iwa-prague.com/wp-content/uploads/2025/09/trebon-7221190_1280-OPT.jpg
ORGANIZER;CN="Petra Nykodym":MAILTO:history@iwa-prague.com
END:VEVENT
BEGIN:VEVENT
DTSTART;TZID=Europe/Prague:20290309T100000
DTEND;TZID=Europe/Prague:20290309T120000
DTSTAMP:20260425T205431
CREATED:20241030T085257Z
LAST-MODIFIED:20260109T125822Z
UID:10005329-1867744800-1867752000@iwa-prague.com
SUMMARY:Friday Book Club
DESCRIPTION:
URL:https://iwa-prague.com/event/friday-book-club-2/2029-03-09/
CATEGORIES:Art & Culture
ATTACH;FMTTYPE=image/jpeg:https://iwa-prague.com/wp-content/uploads/2024/09/fribookclub-apr-2024-001-1-scaled.jpg
ORGANIZER;CN="Laurie Barnes":MAILTO:fridaybookclub@iwa-prague.com
END:VEVENT
BEGIN:VEVENT
DTSTART;TZID=Europe/Prague:20290322T100000
DTEND;TZID=Europe/Prague:20290322T113000
DTSTAMP:20260425T205431
CREATED:20251103T080712Z
LAST-MODIFIED:20260123T110731Z
UID:10008140-1868868000-1868873400@iwa-prague.com
SUMMARY:The History Group
DESCRIPTION:
URL:https://iwa-prague.com/event/the-history-group-2/2029-03-22/
CATEGORIES:Art & Culture
ATTACH;FMTTYPE=image/jpeg:https://iwa-prague.com/wp-content/uploads/2025/09/trebon-7221190_1280-OPT.jpg
ORGANIZER;CN="Petra Nykodym":MAILTO:history@iwa-prague.com
END:VEVENT
BEGIN:VEVENT
DTSTART;TZID=Europe/Prague:20290413T100000
DTEND;TZID=Europe/Prague:20290413T120000
DTSTAMP:20260425T205431
CREATED:20241030T085257Z
LAST-MODIFIED:20260109T125822Z
UID:10005330-1870768800-1870776000@iwa-prague.com
SUMMARY:Friday Book Club
DESCRIPTION:
URL:https://iwa-prague.com/event/friday-book-club-2/2029-04-13/
CATEGORIES:Art & Culture
ATTACH;FMTTYPE=image/jpeg:https://iwa-prague.com/wp-content/uploads/2024/09/fribookclub-apr-2024-001-1-scaled.jpg
ORGANIZER;CN="Laurie Barnes":MAILTO:fridaybookclub@iwa-prague.com
END:VEVENT
BEGIN:VEVENT
DTSTART;TZID=Europe/Prague:20290426T100000
DTEND;TZID=Europe/Prague:20290426T113000
DTSTAMP:20260425T205431
CREATED:20251103T080712Z
LAST-MODIFIED:20260123T110731Z
UID:10008141-1871892000-1871897400@iwa-prague.com
SUMMARY:The History Group
DESCRIPTION:
URL:https://iwa-prague.com/event/the-history-group-2/2029-04-26/
CATEGORIES:Art & Culture
ATTACH;FMTTYPE=image/jpeg:https://iwa-prague.com/wp-content/uploads/2025/09/trebon-7221190_1280-OPT.jpg
ORGANIZER;CN="Petra Nykodym":MAILTO:history@iwa-prague.com
END:VEVENT
BEGIN:VEVENT
DTSTART;TZID=Europe/Prague:20290511T100000
DTEND;TZID=Europe/Prague:20290511T120000
DTSTAMP:20260425T205431
CREATED:20241030T085257Z
LAST-MODIFIED:20260109T125822Z
UID:10005331-1873188000-1873195200@iwa-prague.com
SUMMARY:Friday Book Club
DESCRIPTION:
URL:https://iwa-prague.com/event/friday-book-club-2/2029-05-11/
CATEGORIES:Art & Culture
ATTACH;FMTTYPE=image/jpeg:https://iwa-prague.com/wp-content/uploads/2024/09/fribookclub-apr-2024-001-1-scaled.jpg
ORGANIZER;CN="Laurie Barnes":MAILTO:fridaybookclub@iwa-prague.com
END:VEVENT
BEGIN:VEVENT
DTSTART;TZID=Europe/Prague:20290524T100000
DTEND;TZID=Europe/Prague:20290524T113000
DTSTAMP:20260425T205431
CREATED:20251103T080712Z
LAST-MODIFIED:20260123T110731Z
UID:10008142-1874311200-1874316600@iwa-prague.com
SUMMARY:The History Group
DESCRIPTION:
URL:https://iwa-prague.com/event/the-history-group-2/2029-05-24/
CATEGORIES:Art & Culture
ATTACH;FMTTYPE=image/jpeg:https://iwa-prague.com/wp-content/uploads/2025/09/trebon-7221190_1280-OPT.jpg
ORGANIZER;CN="Petra Nykodym":MAILTO:history@iwa-prague.com
END:VEVENT
BEGIN:VEVENT
DTSTART;TZID=Europe/Prague:20290608T100000
DTEND;TZID=Europe/Prague:20290608T120000
DTSTAMP:20260425T205431
CREATED:20241030T085257Z
LAST-MODIFIED:20260109T125822Z
UID:10005332-1875607200-1875614400@iwa-prague.com
SUMMARY:Friday Book Club
DESCRIPTION:
URL:https://iwa-prague.com/event/friday-book-club-2/2029-06-08/
CATEGORIES:Art & Culture
ATTACH;FMTTYPE=image/jpeg:https://iwa-prague.com/wp-content/uploads/2024/09/fribookclub-apr-2024-001-1-scaled.jpg
ORGANIZER;CN="Laurie Barnes":MAILTO:fridaybookclub@iwa-prague.com
END:VEVENT
BEGIN:VEVENT
DTSTART;TZID=Europe/Prague:20290628T100000
DTEND;TZID=Europe/Prague:20290628T113000
DTSTAMP:20260425T205431
CREATED:20251103T080712Z
LAST-MODIFIED:20260123T110731Z
UID:10008143-1877335200-1877340600@iwa-prague.com
SUMMARY:The History Group
DESCRIPTION:
URL:https://iwa-prague.com/event/the-history-group-2/2029-06-28/
CATEGORIES:Art & Culture
ATTACH;FMTTYPE=image/jpeg:https://iwa-prague.com/wp-content/uploads/2025/09/trebon-7221190_1280-OPT.jpg
ORGANIZER;CN="Petra Nykodym":MAILTO:history@iwa-prague.com
END:VEVENT
BEGIN:VEVENT
DTSTART;TZID=Europe/Prague:20290713T100000
DTEND;TZID=Europe/Prague:20290713T120000
DTSTAMP:20260425T205431
CREATED:20241030T085257Z
LAST-MODIFIED:20260109T125822Z
UID:10005333-1878631200-1878638400@iwa-prague.com
SUMMARY:Friday Book Club
DESCRIPTION:
URL:https://iwa-prague.com/event/friday-book-club-2/2029-07-13/
CATEGORIES:Art & Culture
ATTACH;FMTTYPE=image/jpeg:https://iwa-prague.com/wp-content/uploads/2024/09/fribookclub-apr-2024-001-1-scaled.jpg
ORGANIZER;CN="Laurie Barnes":MAILTO:fridaybookclub@iwa-prague.com
END:VEVENT
BEGIN:VEVENT
DTSTART;TZID=Europe/Prague:20290726T100000
DTEND;TZID=Europe/Prague:20290726T113000
DTSTAMP:20260425T205431
CREATED:20251103T080712Z
LAST-MODIFIED:20260123T110731Z
UID:10008144-1879754400-1879759800@iwa-prague.com
SUMMARY:The History Group
DESCRIPTION:
URL:https://iwa-prague.com/event/the-history-group-2/2029-07-26/
CATEGORIES:Art & Culture
ATTACH;FMTTYPE=image/jpeg:https://iwa-prague.com/wp-content/uploads/2025/09/trebon-7221190_1280-OPT.jpg
ORGANIZER;CN="Petra Nykodym":MAILTO:history@iwa-prague.com
END:VEVENT
BEGIN:VEVENT
DTSTART;TZID=Europe/Prague:20290810T100000
DTEND;TZID=Europe/Prague:20290810T120000
DTSTAMP:20260425T205431
CREATED:20241030T085257Z
LAST-MODIFIED:20260109T125822Z
UID:10005334-1881050400-1881057600@iwa-prague.com
SUMMARY:Friday Book Club
DESCRIPTION:
URL:https://iwa-prague.com/event/friday-book-club-2/2029-08-10/
CATEGORIES:Art & Culture
ATTACH;FMTTYPE=image/jpeg:https://iwa-prague.com/wp-content/uploads/2024/09/fribookclub-apr-2024-001-1-scaled.jpg
ORGANIZER;CN="Laurie Barnes":MAILTO:fridaybookclub@iwa-prague.com
END:VEVENT
BEGIN:VEVENT
DTSTART;TZID=Europe/Prague:20290823T100000
DTEND;TZID=Europe/Prague:20290823T113000
DTSTAMP:20260425T205431
CREATED:20251103T080712Z
LAST-MODIFIED:20260123T110731Z
UID:10008145-1882173600-1882179000@iwa-prague.com
SUMMARY:The History Group
DESCRIPTION:
URL:https://iwa-prague.com/event/the-history-group-2/2029-08-23/
CATEGORIES:Art & Culture
ATTACH;FMTTYPE=image/jpeg:https://iwa-prague.com/wp-content/uploads/2025/09/trebon-7221190_1280-OPT.jpg
ORGANIZER;CN="Petra Nykodym":MAILTO:history@iwa-prague.com
END:VEVENT
BEGIN:VEVENT
DTSTART;TZID=Europe/Prague:20290914T100000
DTEND;TZID=Europe/Prague:20290914T120000
DTSTAMP:20260425T205432
CREATED:20241030T085257Z
LAST-MODIFIED:20260109T125822Z
UID:10005335-1884074400-1884081600@iwa-prague.com
SUMMARY:Friday Book Club
DESCRIPTION:
URL:https://iwa-prague.com/event/friday-book-club-2/2029-09-14/
CATEGORIES:Art & Culture
ATTACH;FMTTYPE=image/jpeg:https://iwa-prague.com/wp-content/uploads/2024/09/fribookclub-apr-2024-001-1-scaled.jpg
ORGANIZER;CN="Laurie Barnes":MAILTO:fridaybookclub@iwa-prague.com
END:VEVENT
BEGIN:VEVENT
DTSTART;TZID=Europe/Prague:20290927T100000
DTEND;TZID=Europe/Prague:20290927T113000
DTSTAMP:20260425T205432
CREATED:20251103T080712Z
LAST-MODIFIED:20260123T110731Z
UID:10008146-1885197600-1885203000@iwa-prague.com
SUMMARY:The History Group
DESCRIPTION:
URL:https://iwa-prague.com/event/the-history-group-2/2029-09-27/
CATEGORIES:Art & Culture
ATTACH;FMTTYPE=image/jpeg:https://iwa-prague.com/wp-content/uploads/2025/09/trebon-7221190_1280-OPT.jpg
ORGANIZER;CN="Petra Nykodym":MAILTO:history@iwa-prague.com
END:VEVENT
BEGIN:VEVENT
DTSTART;TZID=Europe/Prague:20291012T100000
DTEND;TZID=Europe/Prague:20291012T120000
DTSTAMP:20260425T205432
CREATED:20241030T085257Z
LAST-MODIFIED:20260109T125822Z
UID:10005336-1886493600-1886500800@iwa-prague.com
SUMMARY:Friday Book Club
DESCRIPTION:
URL:https://iwa-prague.com/event/friday-book-club-2/2029-10-12/
CATEGORIES:Art & Culture
ATTACH;FMTTYPE=image/jpeg:https://iwa-prague.com/wp-content/uploads/2024/09/fribookclub-apr-2024-001-1-scaled.jpg
ORGANIZER;CN="Laurie Barnes":MAILTO:fridaybookclub@iwa-prague.com
END:VEVENT
BEGIN:VEVENT
DTSTART;TZID=Europe/Prague:20291025T100000
DTEND;TZID=Europe/Prague:20291025T113000
DTSTAMP:20260425T205432
CREATED:20251103T080712Z
LAST-MODIFIED:20260123T110731Z
UID:10008147-1887616800-1887622200@iwa-prague.com
SUMMARY:The History Group
DESCRIPTION:
URL:https://iwa-prague.com/event/the-history-group-2/2029-10-25/
CATEGORIES:Art & Culture
ATTACH;FMTTYPE=image/jpeg:https://iwa-prague.com/wp-content/uploads/2025/09/trebon-7221190_1280-OPT.jpg
ORGANIZER;CN="Petra Nykodym":MAILTO:history@iwa-prague.com
END:VEVENT
END:VCALENDAR