BEGIN:VCALENDAR
VERSION:2.0
PRODID:-//International Women&#039;s Association of Prague - ECPv6.15.20//NONSGML v1.0//EN
CALSCALE:GREGORIAN
METHOD:PUBLISH
X-ORIGINAL-URL:https://iwa-prague.com
X-WR-CALDESC:Events for International Women&#039;s Association of Prague
REFRESH-INTERVAL;VALUE=DURATION:PT1H
X-Robots-Tag:noindex
X-PUBLISHED-TTL:PT1H
BEGIN:VTIMEZONE
TZID:Europe/Prague
BEGIN:DAYLIGHT
TZOFFSETFROM:+0100
TZOFFSETTO:+0200
TZNAME:CEST
DTSTART:20250330T010000
END:DAYLIGHT
BEGIN:STANDARD
TZOFFSETFROM:+0200
TZOFFSETTO:+0100
TZNAME:CET
DTSTART:20251026T010000
END:STANDARD
BEGIN:DAYLIGHT
TZOFFSETFROM:+0100
TZOFFSETTO:+0200
TZNAME:CEST
DTSTART:20260329T010000
END:DAYLIGHT
BEGIN:STANDARD
TZOFFSETFROM:+0200
TZOFFSETTO:+0100
TZNAME:CET
DTSTART:20261025T010000
END:STANDARD
BEGIN:DAYLIGHT
TZOFFSETFROM:+0100
TZOFFSETTO:+0200
TZNAME:CEST
DTSTART:20270328T010000
END:DAYLIGHT
BEGIN:STANDARD
TZOFFSETFROM:+0200
TZOFFSETTO:+0100
TZNAME:CET
DTSTART:20271031T010000
END:STANDARD
END:VTIMEZONE
BEGIN:VEVENT
DTSTART;TZID=Europe/Prague:20260415T093000
DTEND;TZID=Europe/Prague:20260415T180000
DTSTAMP:20260421T191819
CREATED:20260313T110759Z
LAST-MODIFIED:20260313T110923Z
UID:10008957-1776245400-1776276000@iwa-prague.com
SUMMARY:Kutna Hora Day Trip
DESCRIPTION:Join us for a day trip to the beautiful town of Kutna Hora for a guided walking tour and lunch. We will travel by train and enjoy time together with friends.  \nEmail culturalevents@iwa-prague.com if you have any further questions. Full details of this event and how to sign up can be found in The Bridge Weekly Newsletter. 
URL:https://iwa-prague.com/event/kutna-hora-day-trip/
CATEGORIES:Cultural Events & Excursions
ATTACH;FMTTYPE=image/jpeg:https://iwa-prague.com/wp-content/uploads/2026/03/kutna-hora-OPT.jpg
ORGANIZER;CN="Brigitte Lintner":MAILTO:culturalevents@iwa-prague.com
END:VEVENT
END:VCALENDAR