BEGIN:VCALENDAR
VERSION:2.0
PRODID:-//International Women&#039;s Association of Prague - ECPv6.15.20//NONSGML v1.0//EN
CALSCALE:GREGORIAN
METHOD:PUBLISH
X-WR-CALNAME:International Women&#039;s Association of Prague
X-ORIGINAL-URL:https://iwa-prague.com
X-WR-CALDESC:Events for International Women&#039;s Association of Prague
REFRESH-INTERVAL;VALUE=DURATION:PT1H
X-Robots-Tag:noindex
X-PUBLISHED-TTL:PT1H
BEGIN:VTIMEZONE
TZID:Europe/Prague
BEGIN:DAYLIGHT
TZOFFSETFROM:+0100
TZOFFSETTO:+0200
TZNAME:CEST
DTSTART:20250330T010000
END:DAYLIGHT
BEGIN:STANDARD
TZOFFSETFROM:+0200
TZOFFSETTO:+0100
TZNAME:CET
DTSTART:20251026T010000
END:STANDARD
BEGIN:DAYLIGHT
TZOFFSETFROM:+0100
TZOFFSETTO:+0200
TZNAME:CEST
DTSTART:20260329T010000
END:DAYLIGHT
BEGIN:STANDARD
TZOFFSETFROM:+0200
TZOFFSETTO:+0100
TZNAME:CET
DTSTART:20261025T010000
END:STANDARD
BEGIN:DAYLIGHT
TZOFFSETFROM:+0100
TZOFFSETTO:+0200
TZNAME:CEST
DTSTART:20270328T010000
END:DAYLIGHT
BEGIN:STANDARD
TZOFFSETFROM:+0200
TZOFFSETTO:+0100
TZNAME:CET
DTSTART:20271031T010000
END:STANDARD
END:VTIMEZONE
BEGIN:VEVENT
DTSTART;TZID=Europe/Prague:20260414T090000
DTEND;TZID=Europe/Prague:20260414T100000
DTSTAMP:20260422T005536
CREATED:20240926T140857Z
LAST-MODIFIED:20241102T101214Z
UID:10002720-1776157200-1776160800@iwa-prague.com
SUMMARY:Tai Chi Chih
DESCRIPTION:
URL:https://iwa-prague.com/event/tai-chi-chih/2026-04-14/
CATEGORIES:Health & Wellness
ATTACH;FMTTYPE=image/jpeg:https://iwa-prague.com/wp-content/uploads/2022/10/TaiChi_Lebl_CMYK300.jpg
ORGANIZER;CN="Cheryl Caspe":MAILTO:taichi@iwa-prague.com
END:VEVENT
BEGIN:VEVENT
DTSTART;TZID=Europe/Prague:20260414T140000
DTEND;TZID=Europe/Prague:20260414T160000
DTSTAMP:20260422T005536
CREATED:20240926T140013Z
LAST-MODIFIED:20250605T154628Z
UID:10006796-1776175200-1776182400@iwa-prague.com
SUMMARY:Knit & Crochet
DESCRIPTION:
URL:https://iwa-prague.com/event/knitting-crochet-and-small-needlework/2026-04-14/
CATEGORIES:Creative Pursuits & Gourmet
ATTACH;FMTTYPE=image/jpeg:https://iwa-prague.com/wp-content/uploads/2017/02/Knitting-Jul-2021-OPT.jpg
ORGANIZER;CN="Charlotte Sommer":MAILTO:knitting@iwa-prague.com
END:VEVENT
BEGIN:VEVENT
DTSTART;TZID=Europe/Prague:20260414T160000
DTEND;TZID=Europe/Prague:20260414T180000
DTSTAMP:20260422T005536
CREATED:20241113T134936Z
LAST-MODIFIED:20251024T135205Z
UID:10003359-1776182400-1776189600@iwa-prague.com
SUMMARY:Board of Directors Meeting
DESCRIPTION:
URL:https://iwa-prague.com/event/executive-board-meeting-2/2026-04-14/
CATEGORIES:Executive Board Meeting
ORGANIZER;CN="Jenny Rassaby Ryan":MAILTO:president@iwa-prague.com
END:VEVENT
BEGIN:VEVENT
DTSTART;TZID=Europe/Prague:20260414T180000
DTEND;TZID=Europe/Prague:20260414T193000
DTSTAMP:20260422T005536
CREATED:20241025T165737Z
LAST-MODIFIED:20260413T153119Z
UID:10009039-1776189600-1776195000@iwa-prague.com
SUMMARY:Spanish Conversation
DESCRIPTION:
URL:https://iwa-prague.com/event/spanish-conversation/2026-04-14/
CATEGORIES:Languages
ATTACH;FMTTYPE=image/jpeg:https://iwa-prague.com/wp-content/uploads/2024/10/spanish-group-OPT.jpg
ORGANIZER;CN="Sue Urbanicova":MAILTO:spanish@iwa-prague.com
END:VEVENT
END:VCALENDAR