BEGIN:VCALENDAR
VERSION:2.0
PRODID:-//International Women&#039;s Association of Prague - ECPv6.15.20//NONSGML v1.0//EN
CALSCALE:GREGORIAN
METHOD:PUBLISH
X-WR-CALNAME:International Women&#039;s Association of Prague
X-ORIGINAL-URL:https://iwa-prague.com
X-WR-CALDESC:Events for International Women&#039;s Association of Prague
REFRESH-INTERVAL;VALUE=DURATION:PT1H
X-Robots-Tag:noindex
X-PUBLISHED-TTL:PT1H
BEGIN:VTIMEZONE
TZID:Europe/Prague
BEGIN:DAYLIGHT
TZOFFSETFROM:+0100
TZOFFSETTO:+0200
TZNAME:CEST
DTSTART:20250330T010000
END:DAYLIGHT
BEGIN:STANDARD
TZOFFSETFROM:+0200
TZOFFSETTO:+0100
TZNAME:CET
DTSTART:20251026T010000
END:STANDARD
BEGIN:DAYLIGHT
TZOFFSETFROM:+0100
TZOFFSETTO:+0200
TZNAME:CEST
DTSTART:20260329T010000
END:DAYLIGHT
BEGIN:STANDARD
TZOFFSETFROM:+0200
TZOFFSETTO:+0100
TZNAME:CET
DTSTART:20261025T010000
END:STANDARD
BEGIN:DAYLIGHT
TZOFFSETFROM:+0100
TZOFFSETTO:+0200
TZNAME:CEST
DTSTART:20270328T010000
END:DAYLIGHT
BEGIN:STANDARD
TZOFFSETFROM:+0200
TZOFFSETTO:+0100
TZNAME:CET
DTSTART:20271031T010000
END:STANDARD
END:VTIMEZONE
BEGIN:VEVENT
DTSTART;TZID=Europe/Prague:20260326T093000
DTEND;TZID=Europe/Prague:20260326T103000
DTSTAMP:20260422T065806
CREATED:20250107T113134Z
LAST-MODIFIED:20251209T160617Z
UID:10000534-1774517400-1774521000@iwa-prague.com
SUMMARY:Dance For Fun
DESCRIPTION:
URL:https://iwa-prague.com/event/dance-for-fun-2/2026-03-26/
CATEGORIES:Health & Wellness
ATTACH;FMTTYPE=image/jpeg:https://iwa-prague.com/wp-content/uploads/2024/09/dance-group.jpg
ORGANIZER;CN="Valerie Stulikova":MAILTO:dance@iwa-prague.com
END:VEVENT
BEGIN:VEVENT
DTSTART;TZID=Europe/Prague:20260326T100000
DTEND;TZID=Europe/Prague:20260326T113000
DTSTAMP:20260422T065806
CREATED:20251103T080712Z
LAST-MODIFIED:20260123T110731Z
UID:10008104-1774519200-1774524600@iwa-prague.com
SUMMARY:The History Group
DESCRIPTION:
URL:https://iwa-prague.com/event/the-history-group-2/2026-03-26/
CATEGORIES:Art & Culture
ATTACH;FMTTYPE=image/jpeg:https://iwa-prague.com/wp-content/uploads/2025/09/trebon-7221190_1280-OPT.jpg
ORGANIZER;CN="Petra Nykodym":MAILTO:history@iwa-prague.com
END:VEVENT
BEGIN:VEVENT
DTSTART;TZID=Europe/Prague:20260326T120000
DTEND;TZID=Europe/Prague:20260326T133000
DTSTAMP:20260422T065806
CREATED:20251002T155607Z
LAST-MODIFIED:20251209T155038Z
UID:10007550-1774526400-1774531800@iwa-prague.com
SUMMARY:Ping Pong
DESCRIPTION:
URL:https://iwa-prague.com/event/ping-pong-2/2026-03-26/
CATEGORIES:Health & Wellness
ATTACH;FMTTYPE=image/jpeg:https://iwa-prague.com/wp-content/uploads/2025/09/table-tennis-4046307_1280-OPT.jpg
ORGANIZER;CN="Pamela Starobin":MAILTO:pingpong@iwa-prague.com
END:VEVENT
BEGIN:VEVENT
DTSTART;TZID=Europe/Prague:20260326T120000
DTEND;TZID=Europe/Prague:20260326T140000
DTSTAMP:20260422T065806
CREATED:20241025T170844Z
LAST-MODIFIED:20260123T112956Z
UID:10008728-1774526400-1774533600@iwa-prague.com
SUMMARY:Lunch Bunch
DESCRIPTION:
URL:https://iwa-prague.com/event/lunch-bunch/2026-03-26/
CATEGORIES:Social Groups
ATTACH;FMTTYPE=image/jpeg:https://iwa-prague.com/wp-content/uploads/2024/10/lunchbunch-group-OPT.jpg
ORGANIZER;CN="Katerina Creedon":MAILTO:lunchbunch@iwa-prague.com
END:VEVENT
BEGIN:VEVENT
DTSTART;TZID=Europe/Prague:20260326T163000
DTEND;TZID=Europe/Prague:20260326T200000
DTSTAMP:20260422T065806
CREATED:20241007T153551Z
LAST-MODIFIED:20260309T112422Z
UID:10008884-1774542600-1774555200@iwa-prague.com
SUMMARY:Cook and Bake
DESCRIPTION:
URL:https://iwa-prague.com/event/cook-and-bake/2026-03-26/
CATEGORIES:Creative Pursuits & Gourmet
ATTACH;FMTTYPE=image/jpeg:https://iwa-prague.com/wp-content/uploads/2024/10/cookandbake-Jun-2023-scaled.jpg
ORGANIZER;CN="Denise Kanyuh":MAILTO:cookandbake@iwa-prague.com
END:VEVENT
END:VCALENDAR