BEGIN:VCALENDAR
VERSION:2.0
PRODID:-//International Women&#039;s Association of Prague - ECPv6.15.20//NONSGML v1.0//EN
CALSCALE:GREGORIAN
METHOD:PUBLISH
X-ORIGINAL-URL:https://iwa-prague.com
X-WR-CALDESC:Events for International Women&#039;s Association of Prague
REFRESH-INTERVAL;VALUE=DURATION:PT1H
X-Robots-Tag:noindex
X-PUBLISHED-TTL:PT1H
BEGIN:VTIMEZONE
TZID:Europe/Prague
BEGIN:DAYLIGHT
TZOFFSETFROM:+0100
TZOFFSETTO:+0200
TZNAME:CEST
DTSTART:20250330T010000
END:DAYLIGHT
BEGIN:STANDARD
TZOFFSETFROM:+0200
TZOFFSETTO:+0100
TZNAME:CET
DTSTART:20251026T010000
END:STANDARD
BEGIN:DAYLIGHT
TZOFFSETFROM:+0100
TZOFFSETTO:+0200
TZNAME:CEST
DTSTART:20260329T010000
END:DAYLIGHT
BEGIN:STANDARD
TZOFFSETFROM:+0200
TZOFFSETTO:+0100
TZNAME:CET
DTSTART:20261025T010000
END:STANDARD
BEGIN:DAYLIGHT
TZOFFSETFROM:+0100
TZOFFSETTO:+0200
TZNAME:CEST
DTSTART:20270328T010000
END:DAYLIGHT
BEGIN:STANDARD
TZOFFSETFROM:+0200
TZOFFSETTO:+0100
TZNAME:CET
DTSTART:20271031T010000
END:STANDARD
END:VTIMEZONE
BEGIN:VEVENT
DTSTART;TZID=Europe/Prague:20260219T093000
DTEND;TZID=Europe/Prague:20260219T103000
DTSTAMP:20260424T190531
CREATED:20250107T113134Z
LAST-MODIFIED:20251209T160617Z
UID:10000529-1771493400-1771497000@iwa-prague.com
SUMMARY:Dance For Fun
DESCRIPTION:
URL:https://iwa-prague.com/event/dance-for-fun-2/2026-02-19/
CATEGORIES:Health & Wellness
ATTACH;FMTTYPE=image/jpeg:https://iwa-prague.com/wp-content/uploads/2024/09/dance-group.jpg
ORGANIZER;CN="Valerie Stulikova":MAILTO:dance@iwa-prague.com
END:VEVENT
BEGIN:VEVENT
DTSTART;TZID=Europe/Prague:20260219T103000
DTEND;TZID=Europe/Prague:20260219T120000
DTSTAMP:20260424T190531
CREATED:20251120T144736Z
LAST-MODIFIED:20251120T144736Z
UID:10008318-1771497000-1771502400@iwa-prague.com
SUMMARY:German Language
DESCRIPTION:
URL:https://iwa-prague.com/event/german-language/2026-02-19/
CATEGORIES:Languages
END:VEVENT
BEGIN:VEVENT
DTSTART;TZID=Europe/Prague:20260219T120000
DTEND;TZID=Europe/Prague:20260219T133000
DTSTAMP:20260424T190531
CREATED:20251002T155607Z
LAST-MODIFIED:20251209T155038Z
UID:10007545-1771502400-1771507800@iwa-prague.com
SUMMARY:Ping Pong
DESCRIPTION:
URL:https://iwa-prague.com/event/ping-pong-2/2026-02-19/
CATEGORIES:Health & Wellness
ATTACH;FMTTYPE=image/jpeg:https://iwa-prague.com/wp-content/uploads/2025/09/table-tennis-4046307_1280-OPT.jpg
ORGANIZER;CN="Pamela Starobin":MAILTO:pingpong@iwa-prague.com
END:VEVENT
BEGIN:VEVENT
DTSTART;TZID=Europe/Prague:20260219T144500
DTEND;TZID=Europe/Prague:20260219T163000
DTSTAMP:20260424T190531
CREATED:20260130T163402Z
LAST-MODIFIED:20260130T163402Z
UID:10008734-1771512300-1771518600@iwa-prague.com
SUMMARY:Visit to the City Museum of Prague
DESCRIPTION:Please read The Bridge newsletter for more details and how to sign up.
URL:https://iwa-prague.com/event/visit-to-the-city-museum-of-prague/
CATEGORIES:Cultural Events & Excursions
ATTACH;FMTTYPE=image/jpeg:https://iwa-prague.com/wp-content/uploads/2026/01/city-museum-OPT.jpg
ORGANIZER;CN="Brigitte Lintner":MAILTO:culturalevents@iwa-prague.com
END:VEVENT
BEGIN:VEVENT
DTSTART;TZID=Europe/Prague:20260219T180000
DTEND;TZID=Europe/Prague:20260219T200000
DTSTAMP:20260424T190531
CREATED:20240926T131356Z
LAST-MODIFIED:20260323T125606Z
UID:10005202-1771524000-1771531200@iwa-prague.com
SUMMARY:Dining Divas
DESCRIPTION:
URL:https://iwa-prague.com/event/dinner-divas-group/2026-02-19/
CATEGORIES:Evening Groups
ATTACH;FMTTYPE=image/png:https://iwa-prague.com/wp-content/uploads/2023/08/dinner-divas-01.png
ORGANIZER;CN="Lorna Phillipson":MAILTO:dinnerdivas@iwa-prague.com
END:VEVENT
END:VCALENDAR