BEGIN:VCALENDAR
VERSION:2.0
PRODID:-//International Women&#039;s Association of Prague - ECPv6.15.20//NONSGML v1.0//EN
CALSCALE:GREGORIAN
METHOD:PUBLISH
X-ORIGINAL-URL:https://iwa-prague.com
X-WR-CALDESC:Events for International Women&#039;s Association of Prague
REFRESH-INTERVAL;VALUE=DURATION:PT1H
X-Robots-Tag:noindex
X-PUBLISHED-TTL:PT1H
BEGIN:VTIMEZONE
TZID:Europe/Prague
BEGIN:DAYLIGHT
TZOFFSETFROM:+0100
TZOFFSETTO:+0200
TZNAME:CEST
DTSTART:20240331T010000
END:DAYLIGHT
BEGIN:STANDARD
TZOFFSETFROM:+0200
TZOFFSETTO:+0100
TZNAME:CET
DTSTART:20241027T010000
END:STANDARD
BEGIN:DAYLIGHT
TZOFFSETFROM:+0100
TZOFFSETTO:+0200
TZNAME:CEST
DTSTART:20250330T010000
END:DAYLIGHT
BEGIN:STANDARD
TZOFFSETFROM:+0200
TZOFFSETTO:+0100
TZNAME:CET
DTSTART:20251026T010000
END:STANDARD
BEGIN:DAYLIGHT
TZOFFSETFROM:+0100
TZOFFSETTO:+0200
TZNAME:CEST
DTSTART:20260329T010000
END:DAYLIGHT
BEGIN:STANDARD
TZOFFSETFROM:+0200
TZOFFSETTO:+0100
TZNAME:CET
DTSTART:20261025T010000
END:STANDARD
BEGIN:DAYLIGHT
TZOFFSETFROM:+0100
TZOFFSETTO:+0200
TZNAME:CEST
DTSTART:20270328T010000
END:DAYLIGHT
BEGIN:STANDARD
TZOFFSETFROM:+0200
TZOFFSETTO:+0100
TZNAME:CET
DTSTART:20271031T010000
END:STANDARD
END:VTIMEZONE
BEGIN:VEVENT
DTSTART;TZID=Europe/Prague:20260418T173000
DTEND;TZID=Europe/Prague:20260418T210000
DTSTAMP:20260421T220651
CREATED:20250523T142029Z
LAST-MODIFIED:20260421T145828Z
UID:10008977-1776533400-1776546000@iwa-prague.com
SUMMARY:Plus One
DESCRIPTION:
URL:https://iwa-prague.com/event/plus-one/2026-04-18/
CATEGORIES:Evening Groups
ATTACH;FMTTYPE=image/jpeg:https://iwa-prague.com/wp-content/uploads/2025/05/plusone-OPT.jpg
ORGANIZER;CN="Vivian Strang":MAILTO:plusone@iwa-prague.com
END:VEVENT
BEGIN:VEVENT
DTSTART;TZID=Europe/Prague:20260328T150000
DTEND;TZID=Europe/Prague:20260328T180000
DTSTAMP:20260421T220651
CREATED:20250523T142029Z
LAST-MODIFIED:20260421T145828Z
UID:10008878-1774710000-1774720800@iwa-prague.com
SUMMARY:Plus One
DESCRIPTION:
URL:https://iwa-prague.com/event/plus-one/2026-03-28/
CATEGORIES:Evening Groups
ATTACH;FMTTYPE=image/jpeg:https://iwa-prague.com/wp-content/uploads/2025/05/plusone-OPT.jpg
ORGANIZER;CN="Vivian Strang":MAILTO:plusone@iwa-prague.com
END:VEVENT
BEGIN:VEVENT
DTSTART;TZID=Europe/Prague:20260221T160000
DTEND;TZID=Europe/Prague:20260221T180000
DTSTAMP:20260421T220651
CREATED:20250523T142029Z
LAST-MODIFIED:20260421T145828Z
UID:10008742-1771689600-1771696800@iwa-prague.com
SUMMARY:Plus One
DESCRIPTION:
URL:https://iwa-prague.com/event/plus-one/2026-02-21/
CATEGORIES:Evening Groups
ATTACH;FMTTYPE=image/jpeg:https://iwa-prague.com/wp-content/uploads/2025/05/plusone-OPT.jpg
ORGANIZER;CN="Vivian Strang":MAILTO:plusone@iwa-prague.com
END:VEVENT
BEGIN:VEVENT
DTSTART;TZID=Europe/Prague:20260122T183000
DTEND;TZID=Europe/Prague:20260122T213000
DTSTAMP:20260421T220651
CREATED:20250523T142029Z
LAST-MODIFIED:20260421T145828Z
UID:10008696-1769106600-1769117400@iwa-prague.com
SUMMARY:Plus One
DESCRIPTION:
URL:https://iwa-prague.com/event/plus-one/2026-01-22/
CATEGORIES:Evening Groups
ATTACH;FMTTYPE=image/jpeg:https://iwa-prague.com/wp-content/uploads/2025/05/plusone-OPT.jpg
ORGANIZER;CN="Vivian Strang":MAILTO:plusone@iwa-prague.com
END:VEVENT
BEGIN:VEVENT
DTSTART;TZID=Europe/Prague:20251122T153000
DTEND;TZID=Europe/Prague:20251122T183000
DTSTAMP:20260421T220651
CREATED:20250523T142029Z
LAST-MODIFIED:20260421T145828Z
UID:10008166-1763825400-1763836200@iwa-prague.com
SUMMARY:Plus One
DESCRIPTION:
URL:https://iwa-prague.com/event/plus-one/2025-11-22/
CATEGORIES:Evening Groups
ATTACH;FMTTYPE=image/jpeg:https://iwa-prague.com/wp-content/uploads/2025/05/plusone-OPT.jpg
ORGANIZER;CN="Vivian Strang":MAILTO:plusone@iwa-prague.com
END:VEVENT
BEGIN:VEVENT
DTSTART;TZID=Europe/Prague:20251029T183000
DTEND;TZID=Europe/Prague:20251029T213000
DTSTAMP:20260421T220651
CREATED:20250523T142029Z
LAST-MODIFIED:20260421T145828Z
UID:10007525-1761762600-1761773400@iwa-prague.com
SUMMARY:Plus One
DESCRIPTION:
URL:https://iwa-prague.com/event/plus-one/2025-10-29/
CATEGORIES:Evening Groups
ATTACH;FMTTYPE=image/jpeg:https://iwa-prague.com/wp-content/uploads/2025/05/plusone-OPT.jpg
ORGANIZER;CN="Vivian Strang":MAILTO:plusone@iwa-prague.com
END:VEVENT
BEGIN:VEVENT
DTSTART;TZID=Europe/Prague:20250920T160000
DTEND;TZID=Europe/Prague:20250920T200000
DTSTAMP:20260421T220651
CREATED:20250523T142029Z
LAST-MODIFIED:20260421T145828Z
UID:10007349-1758384000-1758398400@iwa-prague.com
SUMMARY:Plus One
DESCRIPTION:
URL:https://iwa-prague.com/event/plus-one/2025-09-20/
CATEGORIES:Evening Groups
ATTACH;FMTTYPE=image/jpeg:https://iwa-prague.com/wp-content/uploads/2025/05/plusone-OPT.jpg
ORGANIZER;CN="Vivian Strang":MAILTO:plusone@iwa-prague.com
END:VEVENT
BEGIN:VEVENT
DTSTART;TZID=Europe/Prague:20250510T193000
DTEND;TZID=Europe/Prague:20250510T223000
DTSTAMP:20260421T220651
CREATED:20250523T142029Z
LAST-MODIFIED:20260421T145828Z
UID:10007163-1746905400-1746916200@iwa-prague.com
SUMMARY:Plus One
DESCRIPTION:
URL:https://iwa-prague.com/event/plus-one/2025-05-10/
CATEGORIES:Evening Groups
ATTACH;FMTTYPE=image/jpeg:https://iwa-prague.com/wp-content/uploads/2025/05/plusone-OPT.jpg
ORGANIZER;CN="Vivian Strang":MAILTO:plusone@iwa-prague.com
END:VEVENT
END:VCALENDAR