BEGIN:VCALENDAR
VERSION:2.0
PRODID:-//International Women&#039;s Association of Prague - ECPv6.15.20//NONSGML v1.0//EN
CALSCALE:GREGORIAN
METHOD:PUBLISH
X-WR-CALNAME:International Women&#039;s Association of Prague
X-ORIGINAL-URL:https://iwa-prague.com
X-WR-CALDESC:Events for International Women&#039;s Association of Prague
REFRESH-INTERVAL;VALUE=DURATION:PT1H
X-Robots-Tag:noindex
X-PUBLISHED-TTL:PT1H
BEGIN:VTIMEZONE
TZID:Europe/Prague
BEGIN:DAYLIGHT
TZOFFSETFROM:+0100
TZOFFSETTO:+0200
TZNAME:CEST
DTSTART:20250330T010000
END:DAYLIGHT
BEGIN:STANDARD
TZOFFSETFROM:+0200
TZOFFSETTO:+0100
TZNAME:CET
DTSTART:20251026T010000
END:STANDARD
BEGIN:DAYLIGHT
TZOFFSETFROM:+0100
TZOFFSETTO:+0200
TZNAME:CEST
DTSTART:20260329T010000
END:DAYLIGHT
BEGIN:STANDARD
TZOFFSETFROM:+0200
TZOFFSETTO:+0100
TZNAME:CET
DTSTART:20261025T010000
END:STANDARD
BEGIN:DAYLIGHT
TZOFFSETFROM:+0100
TZOFFSETTO:+0200
TZNAME:CEST
DTSTART:20270328T010000
END:DAYLIGHT
BEGIN:STANDARD
TZOFFSETFROM:+0200
TZOFFSETTO:+0100
TZNAME:CET
DTSTART:20271031T010000
END:STANDARD
BEGIN:DAYLIGHT
TZOFFSETFROM:+0100
TZOFFSETTO:+0200
TZNAME:CEST
DTSTART:20280326T010000
END:DAYLIGHT
BEGIN:STANDARD
TZOFFSETFROM:+0200
TZOFFSETTO:+0100
TZNAME:CET
DTSTART:20281029T010000
END:STANDARD
END:VTIMEZONE
BEGIN:VEVENT
DTSTART;TZID=Europe/Prague:20261008T120000
DTEND;TZID=Europe/Prague:20261008T133000
DTSTAMP:20260422T052612
CREATED:20251002T155607Z
LAST-MODIFIED:20251209T155038Z
UID:10007578-1791460800-1791466200@iwa-prague.com
SUMMARY:Ping Pong
DESCRIPTION:
URL:https://iwa-prague.com/event/ping-pong-2/2026-10-08/
CATEGORIES:Health & Wellness
ATTACH;FMTTYPE=image/jpeg:https://iwa-prague.com/wp-content/uploads/2025/09/table-tennis-4046307_1280-OPT.jpg
ORGANIZER;CN="Pamela Starobin":MAILTO:pingpong@iwa-prague.com
END:VEVENT
BEGIN:VEVENT
DTSTART;TZID=Europe/Prague:20261015T120000
DTEND;TZID=Europe/Prague:20261015T133000
DTSTAMP:20260422T052612
CREATED:20251002T155607Z
LAST-MODIFIED:20251209T155038Z
UID:10007579-1792065600-1792071000@iwa-prague.com
SUMMARY:Ping Pong
DESCRIPTION:
URL:https://iwa-prague.com/event/ping-pong-2/2026-10-15/
CATEGORIES:Health & Wellness
ATTACH;FMTTYPE=image/jpeg:https://iwa-prague.com/wp-content/uploads/2025/09/table-tennis-4046307_1280-OPT.jpg
ORGANIZER;CN="Pamela Starobin":MAILTO:pingpong@iwa-prague.com
END:VEVENT
BEGIN:VEVENT
DTSTART;TZID=Europe/Prague:20261022T120000
DTEND;TZID=Europe/Prague:20261022T133000
DTSTAMP:20260422T052612
CREATED:20251002T155607Z
LAST-MODIFIED:20251209T155038Z
UID:10007580-1792670400-1792675800@iwa-prague.com
SUMMARY:Ping Pong
DESCRIPTION:
URL:https://iwa-prague.com/event/ping-pong-2/2026-10-22/
CATEGORIES:Health & Wellness
ATTACH;FMTTYPE=image/jpeg:https://iwa-prague.com/wp-content/uploads/2025/09/table-tennis-4046307_1280-OPT.jpg
ORGANIZER;CN="Pamela Starobin":MAILTO:pingpong@iwa-prague.com
END:VEVENT
BEGIN:VEVENT
DTSTART;TZID=Europe/Prague:20261029T120000
DTEND;TZID=Europe/Prague:20261029T133000
DTSTAMP:20260422T052612
CREATED:20251002T155607Z
LAST-MODIFIED:20251209T155038Z
UID:10007581-1793275200-1793280600@iwa-prague.com
SUMMARY:Ping Pong
DESCRIPTION:
URL:https://iwa-prague.com/event/ping-pong-2/2026-10-29/
CATEGORIES:Health & Wellness
ATTACH;FMTTYPE=image/jpeg:https://iwa-prague.com/wp-content/uploads/2025/09/table-tennis-4046307_1280-OPT.jpg
ORGANIZER;CN="Pamela Starobin":MAILTO:pingpong@iwa-prague.com
END:VEVENT
BEGIN:VEVENT
DTSTART;TZID=Europe/Prague:20261105T120000
DTEND;TZID=Europe/Prague:20261105T133000
DTSTAMP:20260422T052612
CREATED:20251002T155607Z
LAST-MODIFIED:20251209T155038Z
UID:10007582-1793880000-1793885400@iwa-prague.com
SUMMARY:Ping Pong
DESCRIPTION:
URL:https://iwa-prague.com/event/ping-pong-2/2026-11-05/
CATEGORIES:Health & Wellness
ATTACH;FMTTYPE=image/jpeg:https://iwa-prague.com/wp-content/uploads/2025/09/table-tennis-4046307_1280-OPT.jpg
ORGANIZER;CN="Pamela Starobin":MAILTO:pingpong@iwa-prague.com
END:VEVENT
BEGIN:VEVENT
DTSTART;TZID=Europe/Prague:20261112T120000
DTEND;TZID=Europe/Prague:20261112T133000
DTSTAMP:20260422T052612
CREATED:20251002T155607Z
LAST-MODIFIED:20251209T155038Z
UID:10007583-1794484800-1794490200@iwa-prague.com
SUMMARY:Ping Pong
DESCRIPTION:
URL:https://iwa-prague.com/event/ping-pong-2/2026-11-12/
CATEGORIES:Health & Wellness
ATTACH;FMTTYPE=image/jpeg:https://iwa-prague.com/wp-content/uploads/2025/09/table-tennis-4046307_1280-OPT.jpg
ORGANIZER;CN="Pamela Starobin":MAILTO:pingpong@iwa-prague.com
END:VEVENT
BEGIN:VEVENT
DTSTART;TZID=Europe/Prague:20261119T120000
DTEND;TZID=Europe/Prague:20261119T133000
DTSTAMP:20260422T052612
CREATED:20251002T155607Z
LAST-MODIFIED:20251209T155038Z
UID:10007584-1795089600-1795095000@iwa-prague.com
SUMMARY:Ping Pong
DESCRIPTION:
URL:https://iwa-prague.com/event/ping-pong-2/2026-11-19/
CATEGORIES:Health & Wellness
ATTACH;FMTTYPE=image/jpeg:https://iwa-prague.com/wp-content/uploads/2025/09/table-tennis-4046307_1280-OPT.jpg
ORGANIZER;CN="Pamela Starobin":MAILTO:pingpong@iwa-prague.com
END:VEVENT
BEGIN:VEVENT
DTSTART;TZID=Europe/Prague:20261126T120000
DTEND;TZID=Europe/Prague:20261126T133000
DTSTAMP:20260422T052612
CREATED:20251002T155607Z
LAST-MODIFIED:20251209T155038Z
UID:10007585-1795694400-1795699800@iwa-prague.com
SUMMARY:Ping Pong
DESCRIPTION:
URL:https://iwa-prague.com/event/ping-pong-2/2026-11-26/
CATEGORIES:Health & Wellness
ATTACH;FMTTYPE=image/jpeg:https://iwa-prague.com/wp-content/uploads/2025/09/table-tennis-4046307_1280-OPT.jpg
ORGANIZER;CN="Pamela Starobin":MAILTO:pingpong@iwa-prague.com
END:VEVENT
BEGIN:VEVENT
DTSTART;TZID=Europe/Prague:20261203T120000
DTEND;TZID=Europe/Prague:20261203T133000
DTSTAMP:20260422T052612
CREATED:20251002T155607Z
LAST-MODIFIED:20251209T155038Z
UID:10007586-1796299200-1796304600@iwa-prague.com
SUMMARY:Ping Pong
DESCRIPTION:
URL:https://iwa-prague.com/event/ping-pong-2/2026-12-03/
CATEGORIES:Health & Wellness
ATTACH;FMTTYPE=image/jpeg:https://iwa-prague.com/wp-content/uploads/2025/09/table-tennis-4046307_1280-OPT.jpg
ORGANIZER;CN="Pamela Starobin":MAILTO:pingpong@iwa-prague.com
END:VEVENT
BEGIN:VEVENT
DTSTART;TZID=Europe/Prague:20261210T120000
DTEND;TZID=Europe/Prague:20261210T133000
DTSTAMP:20260422T052612
CREATED:20251002T155607Z
LAST-MODIFIED:20251209T155038Z
UID:10007587-1796904000-1796909400@iwa-prague.com
SUMMARY:Ping Pong
DESCRIPTION:
URL:https://iwa-prague.com/event/ping-pong-2/2026-12-10/
CATEGORIES:Health & Wellness
ATTACH;FMTTYPE=image/jpeg:https://iwa-prague.com/wp-content/uploads/2025/09/table-tennis-4046307_1280-OPT.jpg
ORGANIZER;CN="Pamela Starobin":MAILTO:pingpong@iwa-prague.com
END:VEVENT
BEGIN:VEVENT
DTSTART;TZID=Europe/Prague:20261217T120000
DTEND;TZID=Europe/Prague:20261217T133000
DTSTAMP:20260422T052612
CREATED:20251002T155607Z
LAST-MODIFIED:20251209T155038Z
UID:10007588-1797508800-1797514200@iwa-prague.com
SUMMARY:Ping Pong
DESCRIPTION:
URL:https://iwa-prague.com/event/ping-pong-2/2026-12-17/
CATEGORIES:Health & Wellness
ATTACH;FMTTYPE=image/jpeg:https://iwa-prague.com/wp-content/uploads/2025/09/table-tennis-4046307_1280-OPT.jpg
ORGANIZER;CN="Pamela Starobin":MAILTO:pingpong@iwa-prague.com
END:VEVENT
BEGIN:VEVENT
DTSTART;TZID=Europe/Prague:20261224T120000
DTEND;TZID=Europe/Prague:20261224T133000
DTSTAMP:20260422T052612
CREATED:20251002T155607Z
LAST-MODIFIED:20251209T155038Z
UID:10007589-1798113600-1798119000@iwa-prague.com
SUMMARY:Ping Pong
DESCRIPTION:
URL:https://iwa-prague.com/event/ping-pong-2/2026-12-24/
CATEGORIES:Health & Wellness
ATTACH;FMTTYPE=image/jpeg:https://iwa-prague.com/wp-content/uploads/2025/09/table-tennis-4046307_1280-OPT.jpg
ORGANIZER;CN="Pamela Starobin":MAILTO:pingpong@iwa-prague.com
END:VEVENT
BEGIN:VEVENT
DTSTART;TZID=Europe/Prague:20261231T120000
DTEND;TZID=Europe/Prague:20261231T133000
DTSTAMP:20260422T052612
CREATED:20251002T155607Z
LAST-MODIFIED:20251209T155038Z
UID:10007590-1798718400-1798723800@iwa-prague.com
SUMMARY:Ping Pong
DESCRIPTION:
URL:https://iwa-prague.com/event/ping-pong-2/2026-12-31/
CATEGORIES:Health & Wellness
ATTACH;FMTTYPE=image/jpeg:https://iwa-prague.com/wp-content/uploads/2025/09/table-tennis-4046307_1280-OPT.jpg
ORGANIZER;CN="Pamela Starobin":MAILTO:pingpong@iwa-prague.com
END:VEVENT
BEGIN:VEVENT
DTSTART;TZID=Europe/Prague:20270107T120000
DTEND;TZID=Europe/Prague:20270107T133000
DTSTAMP:20260422T052612
CREATED:20251002T155607Z
LAST-MODIFIED:20251209T155038Z
UID:10007591-1799323200-1799328600@iwa-prague.com
SUMMARY:Ping Pong
DESCRIPTION:
URL:https://iwa-prague.com/event/ping-pong-2/2027-01-07/
CATEGORIES:Health & Wellness
ATTACH;FMTTYPE=image/jpeg:https://iwa-prague.com/wp-content/uploads/2025/09/table-tennis-4046307_1280-OPT.jpg
ORGANIZER;CN="Pamela Starobin":MAILTO:pingpong@iwa-prague.com
END:VEVENT
BEGIN:VEVENT
DTSTART;TZID=Europe/Prague:20270114T120000
DTEND;TZID=Europe/Prague:20270114T133000
DTSTAMP:20260422T052612
CREATED:20251002T155607Z
LAST-MODIFIED:20251209T155038Z
UID:10007592-1799928000-1799933400@iwa-prague.com
SUMMARY:Ping Pong
DESCRIPTION:
URL:https://iwa-prague.com/event/ping-pong-2/2027-01-14/
CATEGORIES:Health & Wellness
ATTACH;FMTTYPE=image/jpeg:https://iwa-prague.com/wp-content/uploads/2025/09/table-tennis-4046307_1280-OPT.jpg
ORGANIZER;CN="Pamela Starobin":MAILTO:pingpong@iwa-prague.com
END:VEVENT
BEGIN:VEVENT
DTSTART;TZID=Europe/Prague:20270121T120000
DTEND;TZID=Europe/Prague:20270121T133000
DTSTAMP:20260422T052612
CREATED:20251002T155607Z
LAST-MODIFIED:20251209T155038Z
UID:10007593-1800532800-1800538200@iwa-prague.com
SUMMARY:Ping Pong
DESCRIPTION:
URL:https://iwa-prague.com/event/ping-pong-2/2027-01-21/
CATEGORIES:Health & Wellness
ATTACH;FMTTYPE=image/jpeg:https://iwa-prague.com/wp-content/uploads/2025/09/table-tennis-4046307_1280-OPT.jpg
ORGANIZER;CN="Pamela Starobin":MAILTO:pingpong@iwa-prague.com
END:VEVENT
BEGIN:VEVENT
DTSTART;TZID=Europe/Prague:20270128T120000
DTEND;TZID=Europe/Prague:20270128T133000
DTSTAMP:20260422T052612
CREATED:20251002T155607Z
LAST-MODIFIED:20251209T155038Z
UID:10007594-1801137600-1801143000@iwa-prague.com
SUMMARY:Ping Pong
DESCRIPTION:
URL:https://iwa-prague.com/event/ping-pong-2/2027-01-28/
CATEGORIES:Health & Wellness
ATTACH;FMTTYPE=image/jpeg:https://iwa-prague.com/wp-content/uploads/2025/09/table-tennis-4046307_1280-OPT.jpg
ORGANIZER;CN="Pamela Starobin":MAILTO:pingpong@iwa-prague.com
END:VEVENT
BEGIN:VEVENT
DTSTART;TZID=Europe/Prague:20270204T120000
DTEND;TZID=Europe/Prague:20270204T133000
DTSTAMP:20260422T052612
CREATED:20251002T155607Z
LAST-MODIFIED:20251209T155038Z
UID:10007595-1801742400-1801747800@iwa-prague.com
SUMMARY:Ping Pong
DESCRIPTION:
URL:https://iwa-prague.com/event/ping-pong-2/2027-02-04/
CATEGORIES:Health & Wellness
ATTACH;FMTTYPE=image/jpeg:https://iwa-prague.com/wp-content/uploads/2025/09/table-tennis-4046307_1280-OPT.jpg
ORGANIZER;CN="Pamela Starobin":MAILTO:pingpong@iwa-prague.com
END:VEVENT
BEGIN:VEVENT
DTSTART;TZID=Europe/Prague:20270211T120000
DTEND;TZID=Europe/Prague:20270211T133000
DTSTAMP:20260422T052612
CREATED:20251002T155607Z
LAST-MODIFIED:20251209T155038Z
UID:10007596-1802347200-1802352600@iwa-prague.com
SUMMARY:Ping Pong
DESCRIPTION:
URL:https://iwa-prague.com/event/ping-pong-2/2027-02-11/
CATEGORIES:Health & Wellness
ATTACH;FMTTYPE=image/jpeg:https://iwa-prague.com/wp-content/uploads/2025/09/table-tennis-4046307_1280-OPT.jpg
ORGANIZER;CN="Pamela Starobin":MAILTO:pingpong@iwa-prague.com
END:VEVENT
BEGIN:VEVENT
DTSTART;TZID=Europe/Prague:20270218T120000
DTEND;TZID=Europe/Prague:20270218T133000
DTSTAMP:20260422T052612
CREATED:20251002T155607Z
LAST-MODIFIED:20251209T155038Z
UID:10007597-1802952000-1802957400@iwa-prague.com
SUMMARY:Ping Pong
DESCRIPTION:
URL:https://iwa-prague.com/event/ping-pong-2/2027-02-18/
CATEGORIES:Health & Wellness
ATTACH;FMTTYPE=image/jpeg:https://iwa-prague.com/wp-content/uploads/2025/09/table-tennis-4046307_1280-OPT.jpg
ORGANIZER;CN="Pamela Starobin":MAILTO:pingpong@iwa-prague.com
END:VEVENT
BEGIN:VEVENT
DTSTART;TZID=Europe/Prague:20270225T120000
DTEND;TZID=Europe/Prague:20270225T133000
DTSTAMP:20260422T052612
CREATED:20251002T155607Z
LAST-MODIFIED:20251209T155038Z
UID:10007598-1803556800-1803562200@iwa-prague.com
SUMMARY:Ping Pong
DESCRIPTION:
URL:https://iwa-prague.com/event/ping-pong-2/2027-02-25/
CATEGORIES:Health & Wellness
ATTACH;FMTTYPE=image/jpeg:https://iwa-prague.com/wp-content/uploads/2025/09/table-tennis-4046307_1280-OPT.jpg
ORGANIZER;CN="Pamela Starobin":MAILTO:pingpong@iwa-prague.com
END:VEVENT
BEGIN:VEVENT
DTSTART;TZID=Europe/Prague:20270304T120000
DTEND;TZID=Europe/Prague:20270304T133000
DTSTAMP:20260422T052612
CREATED:20251002T155607Z
LAST-MODIFIED:20251209T155038Z
UID:10007599-1804161600-1804167000@iwa-prague.com
SUMMARY:Ping Pong
DESCRIPTION:
URL:https://iwa-prague.com/event/ping-pong-2/2027-03-04/
CATEGORIES:Health & Wellness
ATTACH;FMTTYPE=image/jpeg:https://iwa-prague.com/wp-content/uploads/2025/09/table-tennis-4046307_1280-OPT.jpg
ORGANIZER;CN="Pamela Starobin":MAILTO:pingpong@iwa-prague.com
END:VEVENT
BEGIN:VEVENT
DTSTART;TZID=Europe/Prague:20270311T120000
DTEND;TZID=Europe/Prague:20270311T133000
DTSTAMP:20260422T052612
CREATED:20251002T155607Z
LAST-MODIFIED:20251209T155038Z
UID:10007600-1804766400-1804771800@iwa-prague.com
SUMMARY:Ping Pong
DESCRIPTION:
URL:https://iwa-prague.com/event/ping-pong-2/2027-03-11/
CATEGORIES:Health & Wellness
ATTACH;FMTTYPE=image/jpeg:https://iwa-prague.com/wp-content/uploads/2025/09/table-tennis-4046307_1280-OPT.jpg
ORGANIZER;CN="Pamela Starobin":MAILTO:pingpong@iwa-prague.com
END:VEVENT
BEGIN:VEVENT
DTSTART;TZID=Europe/Prague:20270318T120000
DTEND;TZID=Europe/Prague:20270318T133000
DTSTAMP:20260422T052612
CREATED:20251002T155607Z
LAST-MODIFIED:20251209T155038Z
UID:10007601-1805371200-1805376600@iwa-prague.com
SUMMARY:Ping Pong
DESCRIPTION:
URL:https://iwa-prague.com/event/ping-pong-2/2027-03-18/
CATEGORIES:Health & Wellness
ATTACH;FMTTYPE=image/jpeg:https://iwa-prague.com/wp-content/uploads/2025/09/table-tennis-4046307_1280-OPT.jpg
ORGANIZER;CN="Pamela Starobin":MAILTO:pingpong@iwa-prague.com
END:VEVENT
BEGIN:VEVENT
DTSTART;TZID=Europe/Prague:20270325T120000
DTEND;TZID=Europe/Prague:20270325T133000
DTSTAMP:20260422T052612
CREATED:20251002T155607Z
LAST-MODIFIED:20251209T155038Z
UID:10007602-1805976000-1805981400@iwa-prague.com
SUMMARY:Ping Pong
DESCRIPTION:
URL:https://iwa-prague.com/event/ping-pong-2/2027-03-25/
CATEGORIES:Health & Wellness
ATTACH;FMTTYPE=image/jpeg:https://iwa-prague.com/wp-content/uploads/2025/09/table-tennis-4046307_1280-OPT.jpg
ORGANIZER;CN="Pamela Starobin":MAILTO:pingpong@iwa-prague.com
END:VEVENT
BEGIN:VEVENT
DTSTART;TZID=Europe/Prague:20270401T120000
DTEND;TZID=Europe/Prague:20270401T133000
DTSTAMP:20260422T052612
CREATED:20251002T155607Z
LAST-MODIFIED:20251209T155038Z
UID:10007603-1806580800-1806586200@iwa-prague.com
SUMMARY:Ping Pong
DESCRIPTION:
URL:https://iwa-prague.com/event/ping-pong-2/2027-04-01/
CATEGORIES:Health & Wellness
ATTACH;FMTTYPE=image/jpeg:https://iwa-prague.com/wp-content/uploads/2025/09/table-tennis-4046307_1280-OPT.jpg
ORGANIZER;CN="Pamela Starobin":MAILTO:pingpong@iwa-prague.com
END:VEVENT
BEGIN:VEVENT
DTSTART;TZID=Europe/Prague:20270408T120000
DTEND;TZID=Europe/Prague:20270408T133000
DTSTAMP:20260422T052612
CREATED:20251002T155607Z
LAST-MODIFIED:20251209T155038Z
UID:10007604-1807185600-1807191000@iwa-prague.com
SUMMARY:Ping Pong
DESCRIPTION:
URL:https://iwa-prague.com/event/ping-pong-2/2027-04-08/
CATEGORIES:Health & Wellness
ATTACH;FMTTYPE=image/jpeg:https://iwa-prague.com/wp-content/uploads/2025/09/table-tennis-4046307_1280-OPT.jpg
ORGANIZER;CN="Pamela Starobin":MAILTO:pingpong@iwa-prague.com
END:VEVENT
BEGIN:VEVENT
DTSTART;TZID=Europe/Prague:20270415T120000
DTEND;TZID=Europe/Prague:20270415T133000
DTSTAMP:20260422T052612
CREATED:20251002T155607Z
LAST-MODIFIED:20251209T155038Z
UID:10007605-1807790400-1807795800@iwa-prague.com
SUMMARY:Ping Pong
DESCRIPTION:
URL:https://iwa-prague.com/event/ping-pong-2/2027-04-15/
CATEGORIES:Health & Wellness
ATTACH;FMTTYPE=image/jpeg:https://iwa-prague.com/wp-content/uploads/2025/09/table-tennis-4046307_1280-OPT.jpg
ORGANIZER;CN="Pamela Starobin":MAILTO:pingpong@iwa-prague.com
END:VEVENT
BEGIN:VEVENT
DTSTART;TZID=Europe/Prague:20270422T120000
DTEND;TZID=Europe/Prague:20270422T133000
DTSTAMP:20260422T052612
CREATED:20251002T155607Z
LAST-MODIFIED:20251209T155038Z
UID:10007606-1808395200-1808400600@iwa-prague.com
SUMMARY:Ping Pong
DESCRIPTION:
URL:https://iwa-prague.com/event/ping-pong-2/2027-04-22/
CATEGORIES:Health & Wellness
ATTACH;FMTTYPE=image/jpeg:https://iwa-prague.com/wp-content/uploads/2025/09/table-tennis-4046307_1280-OPT.jpg
ORGANIZER;CN="Pamela Starobin":MAILTO:pingpong@iwa-prague.com
END:VEVENT
BEGIN:VEVENT
DTSTART;TZID=Europe/Prague:20270429T120000
DTEND;TZID=Europe/Prague:20270429T133000
DTSTAMP:20260422T052612
CREATED:20251002T155607Z
LAST-MODIFIED:20251209T155038Z
UID:10007607-1809000000-1809005400@iwa-prague.com
SUMMARY:Ping Pong
DESCRIPTION:
URL:https://iwa-prague.com/event/ping-pong-2/2027-04-29/
CATEGORIES:Health & Wellness
ATTACH;FMTTYPE=image/jpeg:https://iwa-prague.com/wp-content/uploads/2025/09/table-tennis-4046307_1280-OPT.jpg
ORGANIZER;CN="Pamela Starobin":MAILTO:pingpong@iwa-prague.com
END:VEVENT
END:VCALENDAR