BEGIN:VCALENDAR
VERSION:2.0
PRODID:-//International Women&#039;s Association of Prague - ECPv6.15.20//NONSGML v1.0//EN
CALSCALE:GREGORIAN
METHOD:PUBLISH
X-WR-CALNAME:International Women&#039;s Association of Prague
X-ORIGINAL-URL:https://iwa-prague.com
X-WR-CALDESC:Events for International Women&#039;s Association of Prague
REFRESH-INTERVAL;VALUE=DURATION:PT1H
X-Robots-Tag:noindex
X-PUBLISHED-TTL:PT1H
BEGIN:VTIMEZONE
TZID:Europe/Prague
BEGIN:DAYLIGHT
TZOFFSETFROM:+0100
TZOFFSETTO:+0200
TZNAME:CEST
DTSTART:20260329T010000
END:DAYLIGHT
BEGIN:STANDARD
TZOFFSETFROM:+0200
TZOFFSETTO:+0100
TZNAME:CET
DTSTART:20261025T010000
END:STANDARD
BEGIN:DAYLIGHT
TZOFFSETFROM:+0100
TZOFFSETTO:+0200
TZNAME:CEST
DTSTART:20270328T010000
END:DAYLIGHT
BEGIN:STANDARD
TZOFFSETFROM:+0200
TZOFFSETTO:+0100
TZNAME:CET
DTSTART:20271031T010000
END:STANDARD
BEGIN:DAYLIGHT
TZOFFSETFROM:+0100
TZOFFSETTO:+0200
TZNAME:CEST
DTSTART:20280326T010000
END:DAYLIGHT
BEGIN:STANDARD
TZOFFSETFROM:+0200
TZOFFSETTO:+0100
TZNAME:CET
DTSTART:20281029T010000
END:STANDARD
BEGIN:DAYLIGHT
TZOFFSETFROM:+0100
TZOFFSETTO:+0200
TZNAME:CEST
DTSTART:20290325T010000
END:DAYLIGHT
BEGIN:STANDARD
TZOFFSETFROM:+0200
TZOFFSETTO:+0100
TZNAME:CET
DTSTART:20291028T010000
END:STANDARD
END:VTIMEZONE
BEGIN:VEVENT
DTSTART;TZID=Europe/Prague:20270512T183000
DTEND;TZID=Europe/Prague:20270512T203000
DTSTAMP:20260424T140007
CREATED:20260205T132538Z
LAST-MODIFIED:20260205T132949Z
UID:10008759-1810146600-1810153800@iwa-prague.com
SUMMARY:Choir
DESCRIPTION:
URL:https://iwa-prague.com/event/choir/2027-05-12/
CATEGORIES:Evening Groups
ATTACH;FMTTYPE=image/jpeg:https://iwa-prague.com/wp-content/uploads/2026/02/choir-OPT.jpg
ORGANIZER;CN="Leslie Nicholson":MAILTO:choir@iwa-prague.com
END:VEVENT
BEGIN:VEVENT
DTSTART;TZID=Europe/Prague:20270526T183000
DTEND;TZID=Europe/Prague:20270526T203000
DTSTAMP:20260424T140007
CREATED:20260205T132756Z
LAST-MODIFIED:20260205T132830Z
UID:10008819-1811356200-1811363400@iwa-prague.com
SUMMARY:Choir
DESCRIPTION:
URL:https://iwa-prague.com/event/choir-2/2027-05-26/
CATEGORIES:Evening Groups
ATTACH;FMTTYPE=image/jpeg:https://iwa-prague.com/wp-content/uploads/2026/02/choir-OPT.jpg
ORGANIZER;CN="Leslie Nicholson":MAILTO:choir@iwa-prague.com
END:VEVENT
BEGIN:VEVENT
DTSTART;TZID=Europe/Prague:20270609T183000
DTEND;TZID=Europe/Prague:20270609T203000
DTSTAMP:20260424T140007
CREATED:20260205T132538Z
LAST-MODIFIED:20260205T132949Z
UID:10008760-1812565800-1812573000@iwa-prague.com
SUMMARY:Choir
DESCRIPTION:
URL:https://iwa-prague.com/event/choir/2027-06-09/
CATEGORIES:Evening Groups
ATTACH;FMTTYPE=image/jpeg:https://iwa-prague.com/wp-content/uploads/2026/02/choir-OPT.jpg
ORGANIZER;CN="Leslie Nicholson":MAILTO:choir@iwa-prague.com
END:VEVENT
BEGIN:VEVENT
DTSTART;TZID=Europe/Prague:20270623T183000
DTEND;TZID=Europe/Prague:20270623T203000
DTSTAMP:20260424T140007
CREATED:20260205T132756Z
LAST-MODIFIED:20260205T132830Z
UID:10008820-1813775400-1813782600@iwa-prague.com
SUMMARY:Choir
DESCRIPTION:
URL:https://iwa-prague.com/event/choir-2/2027-06-23/
CATEGORIES:Evening Groups
ATTACH;FMTTYPE=image/jpeg:https://iwa-prague.com/wp-content/uploads/2026/02/choir-OPT.jpg
ORGANIZER;CN="Leslie Nicholson":MAILTO:choir@iwa-prague.com
END:VEVENT
BEGIN:VEVENT
DTSTART;TZID=Europe/Prague:20270714T183000
DTEND;TZID=Europe/Prague:20270714T203000
DTSTAMP:20260424T140007
CREATED:20260205T132538Z
LAST-MODIFIED:20260205T132949Z
UID:10008761-1815589800-1815597000@iwa-prague.com
SUMMARY:Choir
DESCRIPTION:
URL:https://iwa-prague.com/event/choir/2027-07-14/
CATEGORIES:Evening Groups
ATTACH;FMTTYPE=image/jpeg:https://iwa-prague.com/wp-content/uploads/2026/02/choir-OPT.jpg
ORGANIZER;CN="Leslie Nicholson":MAILTO:choir@iwa-prague.com
END:VEVENT
BEGIN:VEVENT
DTSTART;TZID=Europe/Prague:20270728T183000
DTEND;TZID=Europe/Prague:20270728T203000
DTSTAMP:20260424T140007
CREATED:20260205T132756Z
LAST-MODIFIED:20260205T132830Z
UID:10008821-1816799400-1816806600@iwa-prague.com
SUMMARY:Choir
DESCRIPTION:
URL:https://iwa-prague.com/event/choir-2/2027-07-28/
CATEGORIES:Evening Groups
ATTACH;FMTTYPE=image/jpeg:https://iwa-prague.com/wp-content/uploads/2026/02/choir-OPT.jpg
ORGANIZER;CN="Leslie Nicholson":MAILTO:choir@iwa-prague.com
END:VEVENT
BEGIN:VEVENT
DTSTART;TZID=Europe/Prague:20270811T183000
DTEND;TZID=Europe/Prague:20270811T203000
DTSTAMP:20260424T140007
CREATED:20260205T132538Z
LAST-MODIFIED:20260205T132949Z
UID:10008762-1818009000-1818016200@iwa-prague.com
SUMMARY:Choir
DESCRIPTION:
URL:https://iwa-prague.com/event/choir/2027-08-11/
CATEGORIES:Evening Groups
ATTACH;FMTTYPE=image/jpeg:https://iwa-prague.com/wp-content/uploads/2026/02/choir-OPT.jpg
ORGANIZER;CN="Leslie Nicholson":MAILTO:choir@iwa-prague.com
END:VEVENT
BEGIN:VEVENT
DTSTART;TZID=Europe/Prague:20270825T183000
DTEND;TZID=Europe/Prague:20270825T203000
DTSTAMP:20260424T140007
CREATED:20260205T132756Z
LAST-MODIFIED:20260205T132830Z
UID:10008822-1819218600-1819225800@iwa-prague.com
SUMMARY:Choir
DESCRIPTION:
URL:https://iwa-prague.com/event/choir-2/2027-08-25/
CATEGORIES:Evening Groups
ATTACH;FMTTYPE=image/jpeg:https://iwa-prague.com/wp-content/uploads/2026/02/choir-OPT.jpg
ORGANIZER;CN="Leslie Nicholson":MAILTO:choir@iwa-prague.com
END:VEVENT
BEGIN:VEVENT
DTSTART;TZID=Europe/Prague:20270908T183000
DTEND;TZID=Europe/Prague:20270908T203000
DTSTAMP:20260424T140007
CREATED:20260205T132538Z
LAST-MODIFIED:20260205T132949Z
UID:10008763-1820428200-1820435400@iwa-prague.com
SUMMARY:Choir
DESCRIPTION:
URL:https://iwa-prague.com/event/choir/2027-09-08/
CATEGORIES:Evening Groups
ATTACH;FMTTYPE=image/jpeg:https://iwa-prague.com/wp-content/uploads/2026/02/choir-OPT.jpg
ORGANIZER;CN="Leslie Nicholson":MAILTO:choir@iwa-prague.com
END:VEVENT
BEGIN:VEVENT
DTSTART;TZID=Europe/Prague:20270922T183000
DTEND;TZID=Europe/Prague:20270922T203000
DTSTAMP:20260424T140007
CREATED:20260205T132756Z
LAST-MODIFIED:20260205T132830Z
UID:10008823-1821637800-1821645000@iwa-prague.com
SUMMARY:Choir
DESCRIPTION:
URL:https://iwa-prague.com/event/choir-2/2027-09-22/
CATEGORIES:Evening Groups
ATTACH;FMTTYPE=image/jpeg:https://iwa-prague.com/wp-content/uploads/2026/02/choir-OPT.jpg
ORGANIZER;CN="Leslie Nicholson":MAILTO:choir@iwa-prague.com
END:VEVENT
BEGIN:VEVENT
DTSTART;TZID=Europe/Prague:20271013T183000
DTEND;TZID=Europe/Prague:20271013T203000
DTSTAMP:20260424T140007
CREATED:20260205T132538Z
LAST-MODIFIED:20260205T132949Z
UID:10008764-1823452200-1823459400@iwa-prague.com
SUMMARY:Choir
DESCRIPTION:
URL:https://iwa-prague.com/event/choir/2027-10-13/
CATEGORIES:Evening Groups
ATTACH;FMTTYPE=image/jpeg:https://iwa-prague.com/wp-content/uploads/2026/02/choir-OPT.jpg
ORGANIZER;CN="Leslie Nicholson":MAILTO:choir@iwa-prague.com
END:VEVENT
BEGIN:VEVENT
DTSTART;TZID=Europe/Prague:20271027T183000
DTEND;TZID=Europe/Prague:20271027T203000
DTSTAMP:20260424T140007
CREATED:20260205T132756Z
LAST-MODIFIED:20260205T132830Z
UID:10008824-1824661800-1824669000@iwa-prague.com
SUMMARY:Choir
DESCRIPTION:
URL:https://iwa-prague.com/event/choir-2/2027-10-27/
CATEGORIES:Evening Groups
ATTACH;FMTTYPE=image/jpeg:https://iwa-prague.com/wp-content/uploads/2026/02/choir-OPT.jpg
ORGANIZER;CN="Leslie Nicholson":MAILTO:choir@iwa-prague.com
END:VEVENT
BEGIN:VEVENT
DTSTART;TZID=Europe/Prague:20271110T183000
DTEND;TZID=Europe/Prague:20271110T203000
DTSTAMP:20260424T140007
CREATED:20260205T132538Z
LAST-MODIFIED:20260205T132949Z
UID:10008765-1825871400-1825878600@iwa-prague.com
SUMMARY:Choir
DESCRIPTION:
URL:https://iwa-prague.com/event/choir/2027-11-10/
CATEGORIES:Evening Groups
ATTACH;FMTTYPE=image/jpeg:https://iwa-prague.com/wp-content/uploads/2026/02/choir-OPT.jpg
ORGANIZER;CN="Leslie Nicholson":MAILTO:choir@iwa-prague.com
END:VEVENT
BEGIN:VEVENT
DTSTART;TZID=Europe/Prague:20271124T183000
DTEND;TZID=Europe/Prague:20271124T203000
DTSTAMP:20260424T140007
CREATED:20260205T132756Z
LAST-MODIFIED:20260205T132830Z
UID:10008825-1827081000-1827088200@iwa-prague.com
SUMMARY:Choir
DESCRIPTION:
URL:https://iwa-prague.com/event/choir-2/2027-11-24/
CATEGORIES:Evening Groups
ATTACH;FMTTYPE=image/jpeg:https://iwa-prague.com/wp-content/uploads/2026/02/choir-OPT.jpg
ORGANIZER;CN="Leslie Nicholson":MAILTO:choir@iwa-prague.com
END:VEVENT
BEGIN:VEVENT
DTSTART;TZID=Europe/Prague:20271208T183000
DTEND;TZID=Europe/Prague:20271208T203000
DTSTAMP:20260424T140007
CREATED:20260205T132538Z
LAST-MODIFIED:20260205T132949Z
UID:10008766-1828290600-1828297800@iwa-prague.com
SUMMARY:Choir
DESCRIPTION:
URL:https://iwa-prague.com/event/choir/2027-12-08/
CATEGORIES:Evening Groups
ATTACH;FMTTYPE=image/jpeg:https://iwa-prague.com/wp-content/uploads/2026/02/choir-OPT.jpg
ORGANIZER;CN="Leslie Nicholson":MAILTO:choir@iwa-prague.com
END:VEVENT
BEGIN:VEVENT
DTSTART;TZID=Europe/Prague:20271222T183000
DTEND;TZID=Europe/Prague:20271222T203000
DTSTAMP:20260424T140007
CREATED:20260205T132756Z
LAST-MODIFIED:20260205T132830Z
UID:10008826-1829500200-1829507400@iwa-prague.com
SUMMARY:Choir
DESCRIPTION:
URL:https://iwa-prague.com/event/choir-2/2027-12-22/
CATEGORIES:Evening Groups
ATTACH;FMTTYPE=image/jpeg:https://iwa-prague.com/wp-content/uploads/2026/02/choir-OPT.jpg
ORGANIZER;CN="Leslie Nicholson":MAILTO:choir@iwa-prague.com
END:VEVENT
BEGIN:VEVENT
DTSTART;TZID=Europe/Prague:20280112T183000
DTEND;TZID=Europe/Prague:20280112T203000
DTSTAMP:20260424T140007
CREATED:20260205T132538Z
LAST-MODIFIED:20260205T132949Z
UID:10008767-1831314600-1831321800@iwa-prague.com
SUMMARY:Choir
DESCRIPTION:
URL:https://iwa-prague.com/event/choir/2028-01-12/
CATEGORIES:Evening Groups
ATTACH;FMTTYPE=image/jpeg:https://iwa-prague.com/wp-content/uploads/2026/02/choir-OPT.jpg
ORGANIZER;CN="Leslie Nicholson":MAILTO:choir@iwa-prague.com
END:VEVENT
BEGIN:VEVENT
DTSTART;TZID=Europe/Prague:20280126T183000
DTEND;TZID=Europe/Prague:20280126T203000
DTSTAMP:20260424T140007
CREATED:20260205T132756Z
LAST-MODIFIED:20260205T132830Z
UID:10008827-1832524200-1832531400@iwa-prague.com
SUMMARY:Choir
DESCRIPTION:
URL:https://iwa-prague.com/event/choir-2/2028-01-26/
CATEGORIES:Evening Groups
ATTACH;FMTTYPE=image/jpeg:https://iwa-prague.com/wp-content/uploads/2026/02/choir-OPT.jpg
ORGANIZER;CN="Leslie Nicholson":MAILTO:choir@iwa-prague.com
END:VEVENT
BEGIN:VEVENT
DTSTART;TZID=Europe/Prague:20280209T183000
DTEND;TZID=Europe/Prague:20280209T203000
DTSTAMP:20260424T140007
CREATED:20260205T132538Z
LAST-MODIFIED:20260205T132949Z
UID:10008768-1833733800-1833741000@iwa-prague.com
SUMMARY:Choir
DESCRIPTION:
URL:https://iwa-prague.com/event/choir/2028-02-09/
CATEGORIES:Evening Groups
ATTACH;FMTTYPE=image/jpeg:https://iwa-prague.com/wp-content/uploads/2026/02/choir-OPT.jpg
ORGANIZER;CN="Leslie Nicholson":MAILTO:choir@iwa-prague.com
END:VEVENT
BEGIN:VEVENT
DTSTART;TZID=Europe/Prague:20280223T183000
DTEND;TZID=Europe/Prague:20280223T203000
DTSTAMP:20260424T140007
CREATED:20260205T132756Z
LAST-MODIFIED:20260205T132830Z
UID:10008828-1834943400-1834950600@iwa-prague.com
SUMMARY:Choir
DESCRIPTION:
URL:https://iwa-prague.com/event/choir-2/2028-02-23/
CATEGORIES:Evening Groups
ATTACH;FMTTYPE=image/jpeg:https://iwa-prague.com/wp-content/uploads/2026/02/choir-OPT.jpg
ORGANIZER;CN="Leslie Nicholson":MAILTO:choir@iwa-prague.com
END:VEVENT
BEGIN:VEVENT
DTSTART;TZID=Europe/Prague:20280308T183000
DTEND;TZID=Europe/Prague:20280308T203000
DTSTAMP:20260424T140007
CREATED:20260205T132538Z
LAST-MODIFIED:20260205T132949Z
UID:10008769-1836153000-1836160200@iwa-prague.com
SUMMARY:Choir
DESCRIPTION:
URL:https://iwa-prague.com/event/choir/2028-03-08/
CATEGORIES:Evening Groups
ATTACH;FMTTYPE=image/jpeg:https://iwa-prague.com/wp-content/uploads/2026/02/choir-OPT.jpg
ORGANIZER;CN="Leslie Nicholson":MAILTO:choir@iwa-prague.com
END:VEVENT
BEGIN:VEVENT
DTSTART;TZID=Europe/Prague:20280322T183000
DTEND;TZID=Europe/Prague:20280322T203000
DTSTAMP:20260424T140007
CREATED:20260205T132756Z
LAST-MODIFIED:20260205T132830Z
UID:10008829-1837362600-1837369800@iwa-prague.com
SUMMARY:Choir
DESCRIPTION:
URL:https://iwa-prague.com/event/choir-2/2028-03-22/
CATEGORIES:Evening Groups
ATTACH;FMTTYPE=image/jpeg:https://iwa-prague.com/wp-content/uploads/2026/02/choir-OPT.jpg
ORGANIZER;CN="Leslie Nicholson":MAILTO:choir@iwa-prague.com
END:VEVENT
BEGIN:VEVENT
DTSTART;TZID=Europe/Prague:20280412T183000
DTEND;TZID=Europe/Prague:20280412T203000
DTSTAMP:20260424T140007
CREATED:20260205T132538Z
LAST-MODIFIED:20260205T132949Z
UID:10008770-1839177000-1839184200@iwa-prague.com
SUMMARY:Choir
DESCRIPTION:
URL:https://iwa-prague.com/event/choir/2028-04-12/
CATEGORIES:Evening Groups
ATTACH;FMTTYPE=image/jpeg:https://iwa-prague.com/wp-content/uploads/2026/02/choir-OPT.jpg
ORGANIZER;CN="Leslie Nicholson":MAILTO:choir@iwa-prague.com
END:VEVENT
BEGIN:VEVENT
DTSTART;TZID=Europe/Prague:20280426T183000
DTEND;TZID=Europe/Prague:20280426T203000
DTSTAMP:20260424T140007
CREATED:20260205T132756Z
LAST-MODIFIED:20260205T132830Z
UID:10008830-1840386600-1840393800@iwa-prague.com
SUMMARY:Choir
DESCRIPTION:
URL:https://iwa-prague.com/event/choir-2/2028-04-26/
CATEGORIES:Evening Groups
ATTACH;FMTTYPE=image/jpeg:https://iwa-prague.com/wp-content/uploads/2026/02/choir-OPT.jpg
ORGANIZER;CN="Leslie Nicholson":MAILTO:choir@iwa-prague.com
END:VEVENT
BEGIN:VEVENT
DTSTART;TZID=Europe/Prague:20280510T183000
DTEND;TZID=Europe/Prague:20280510T203000
DTSTAMP:20260424T140007
CREATED:20260205T132538Z
LAST-MODIFIED:20260205T132949Z
UID:10008771-1841596200-1841603400@iwa-prague.com
SUMMARY:Choir
DESCRIPTION:
URL:https://iwa-prague.com/event/choir/2028-05-10/
CATEGORIES:Evening Groups
ATTACH;FMTTYPE=image/jpeg:https://iwa-prague.com/wp-content/uploads/2026/02/choir-OPT.jpg
ORGANIZER;CN="Leslie Nicholson":MAILTO:choir@iwa-prague.com
END:VEVENT
BEGIN:VEVENT
DTSTART;TZID=Europe/Prague:20280524T183000
DTEND;TZID=Europe/Prague:20280524T203000
DTSTAMP:20260424T140007
CREATED:20260205T132756Z
LAST-MODIFIED:20260205T132830Z
UID:10008831-1842805800-1842813000@iwa-prague.com
SUMMARY:Choir
DESCRIPTION:
URL:https://iwa-prague.com/event/choir-2/2028-05-24/
CATEGORIES:Evening Groups
ATTACH;FMTTYPE=image/jpeg:https://iwa-prague.com/wp-content/uploads/2026/02/choir-OPT.jpg
ORGANIZER;CN="Leslie Nicholson":MAILTO:choir@iwa-prague.com
END:VEVENT
BEGIN:VEVENT
DTSTART;TZID=Europe/Prague:20280614T183000
DTEND;TZID=Europe/Prague:20280614T203000
DTSTAMP:20260424T140007
CREATED:20260205T132538Z
LAST-MODIFIED:20260205T132949Z
UID:10008772-1844620200-1844627400@iwa-prague.com
SUMMARY:Choir
DESCRIPTION:
URL:https://iwa-prague.com/event/choir/2028-06-14/
CATEGORIES:Evening Groups
ATTACH;FMTTYPE=image/jpeg:https://iwa-prague.com/wp-content/uploads/2026/02/choir-OPT.jpg
ORGANIZER;CN="Leslie Nicholson":MAILTO:choir@iwa-prague.com
END:VEVENT
BEGIN:VEVENT
DTSTART;TZID=Europe/Prague:20280628T183000
DTEND;TZID=Europe/Prague:20280628T203000
DTSTAMP:20260424T140007
CREATED:20260205T132756Z
LAST-MODIFIED:20260205T132830Z
UID:10008832-1845829800-1845837000@iwa-prague.com
SUMMARY:Choir
DESCRIPTION:
URL:https://iwa-prague.com/event/choir-2/2028-06-28/
CATEGORIES:Evening Groups
ATTACH;FMTTYPE=image/jpeg:https://iwa-prague.com/wp-content/uploads/2026/02/choir-OPT.jpg
ORGANIZER;CN="Leslie Nicholson":MAILTO:choir@iwa-prague.com
END:VEVENT
BEGIN:VEVENT
DTSTART;TZID=Europe/Prague:20280712T183000
DTEND;TZID=Europe/Prague:20280712T203000
DTSTAMP:20260424T140007
CREATED:20260205T132538Z
LAST-MODIFIED:20260205T132949Z
UID:10008773-1847039400-1847046600@iwa-prague.com
SUMMARY:Choir
DESCRIPTION:
URL:https://iwa-prague.com/event/choir/2028-07-12/
CATEGORIES:Evening Groups
ATTACH;FMTTYPE=image/jpeg:https://iwa-prague.com/wp-content/uploads/2026/02/choir-OPT.jpg
ORGANIZER;CN="Leslie Nicholson":MAILTO:choir@iwa-prague.com
END:VEVENT
BEGIN:VEVENT
DTSTART;TZID=Europe/Prague:20280726T183000
DTEND;TZID=Europe/Prague:20280726T203000
DTSTAMP:20260424T140007
CREATED:20260205T132756Z
LAST-MODIFIED:20260205T132830Z
UID:10008833-1848249000-1848256200@iwa-prague.com
SUMMARY:Choir
DESCRIPTION:
URL:https://iwa-prague.com/event/choir-2/2028-07-26/
CATEGORIES:Evening Groups
ATTACH;FMTTYPE=image/jpeg:https://iwa-prague.com/wp-content/uploads/2026/02/choir-OPT.jpg
ORGANIZER;CN="Leslie Nicholson":MAILTO:choir@iwa-prague.com
END:VEVENT
END:VCALENDAR