BEGIN:VCALENDAR
VERSION:2.0
PRODID:-//International Women&#039;s Association of Prague - ECPv6.15.20//NONSGML v1.0//EN
CALSCALE:GREGORIAN
METHOD:PUBLISH
X-ORIGINAL-URL:https://iwa-prague.com
X-WR-CALDESC:Events for International Women&#039;s Association of Prague
REFRESH-INTERVAL;VALUE=DURATION:PT1H
X-Robots-Tag:noindex
X-PUBLISHED-TTL:PT1H
BEGIN:VTIMEZONE
TZID:Europe/Prague
BEGIN:DAYLIGHT
TZOFFSETFROM:+0100
TZOFFSETTO:+0200
TZNAME:CEST
DTSTART:20250330T010000
END:DAYLIGHT
BEGIN:STANDARD
TZOFFSETFROM:+0200
TZOFFSETTO:+0100
TZNAME:CET
DTSTART:20251026T010000
END:STANDARD
BEGIN:DAYLIGHT
TZOFFSETFROM:+0100
TZOFFSETTO:+0200
TZNAME:CEST
DTSTART:20260329T010000
END:DAYLIGHT
BEGIN:STANDARD
TZOFFSETFROM:+0200
TZOFFSETTO:+0100
TZNAME:CET
DTSTART:20261025T010000
END:STANDARD
BEGIN:DAYLIGHT
TZOFFSETFROM:+0100
TZOFFSETTO:+0200
TZNAME:CEST
DTSTART:20270328T010000
END:DAYLIGHT
BEGIN:STANDARD
TZOFFSETFROM:+0200
TZOFFSETTO:+0100
TZNAME:CET
DTSTART:20271031T010000
END:STANDARD
END:VTIMEZONE
BEGIN:VEVENT
DTSTART;TZID=Europe/Prague:20260408T183000
DTEND;TZID=Europe/Prague:20260408T203000
DTSTAMP:20260422T070023
CREATED:20260205T132538Z
LAST-MODIFIED:20260205T132949Z
UID:10008746-1775673000-1775680200@iwa-prague.com
SUMMARY:Choir
DESCRIPTION:
URL:https://iwa-prague.com/event/choir/2026-04-08/
CATEGORIES:Evening Groups
ATTACH;FMTTYPE=image/jpeg:https://iwa-prague.com/wp-content/uploads/2026/02/choir-OPT.jpg
ORGANIZER;CN="Leslie Nicholson":MAILTO:choir@iwa-prague.com
END:VEVENT
BEGIN:VEVENT
DTSTART;TZID=Europe/Prague:20260325T183000
DTEND;TZID=Europe/Prague:20260325T203000
DTSTAMP:20260422T070023
CREATED:20260205T132756Z
LAST-MODIFIED:20260205T132830Z
UID:10008805-1774463400-1774470600@iwa-prague.com
SUMMARY:Choir
DESCRIPTION:
URL:https://iwa-prague.com/event/choir-2/2026-03-25/
CATEGORIES:Evening Groups
ATTACH;FMTTYPE=image/jpeg:https://iwa-prague.com/wp-content/uploads/2026/02/choir-OPT.jpg
ORGANIZER;CN="Leslie Nicholson":MAILTO:choir@iwa-prague.com
END:VEVENT
BEGIN:VEVENT
DTSTART;TZID=Europe/Prague:20260311T183000
DTEND;TZID=Europe/Prague:20260311T203000
DTSTAMP:20260422T070023
CREATED:20260205T132538Z
LAST-MODIFIED:20260205T132949Z
UID:10008745-1773253800-1773261000@iwa-prague.com
SUMMARY:Choir
DESCRIPTION:
URL:https://iwa-prague.com/event/choir/2026-03-11/
CATEGORIES:Evening Groups
ATTACH;FMTTYPE=image/jpeg:https://iwa-prague.com/wp-content/uploads/2026/02/choir-OPT.jpg
ORGANIZER;CN="Leslie Nicholson":MAILTO:choir@iwa-prague.com
END:VEVENT
BEGIN:VEVENT
DTSTART;TZID=Europe/Prague:20260225T183000
DTEND;TZID=Europe/Prague:20260225T203000
DTSTAMP:20260422T070023
CREATED:20260205T132756Z
LAST-MODIFIED:20260205T132830Z
UID:10008804-1772044200-1772051400@iwa-prague.com
SUMMARY:Choir
DESCRIPTION:
URL:https://iwa-prague.com/event/choir-2/2026-02-25/
CATEGORIES:Evening Groups
ATTACH;FMTTYPE=image/jpeg:https://iwa-prague.com/wp-content/uploads/2026/02/choir-OPT.jpg
ORGANIZER;CN="Leslie Nicholson":MAILTO:choir@iwa-prague.com
END:VEVENT
BEGIN:VEVENT
DTSTART;TZID=Europe/Prague:20260211T183000
DTEND;TZID=Europe/Prague:20260211T203000
DTSTAMP:20260422T070023
CREATED:20260205T132538Z
LAST-MODIFIED:20260205T132949Z
UID:10008744-1770834600-1770841800@iwa-prague.com
SUMMARY:Choir
DESCRIPTION:
URL:https://iwa-prague.com/event/choir/2026-02-11/
CATEGORIES:Evening Groups
ATTACH;FMTTYPE=image/jpeg:https://iwa-prague.com/wp-content/uploads/2026/02/choir-OPT.jpg
ORGANIZER;CN="Leslie Nicholson":MAILTO:choir@iwa-prague.com
END:VEVENT
END:VCALENDAR