BEGIN:VCALENDAR
VERSION:2.0
PRODID:-//International Women&#039;s Association of Prague - ECPv6.15.20//NONSGML v1.0//EN
CALSCALE:GREGORIAN
METHOD:PUBLISH
X-ORIGINAL-URL:https://iwa-prague.com
X-WR-CALDESC:Events for International Women&#039;s Association of Prague
REFRESH-INTERVAL;VALUE=DURATION:PT1H
X-Robots-Tag:noindex
X-PUBLISHED-TTL:PT1H
BEGIN:VTIMEZONE
TZID:Europe/Prague
BEGIN:DAYLIGHT
TZOFFSETFROM:+0100
TZOFFSETTO:+0200
TZNAME:CEST
DTSTART:20270328T010000
END:DAYLIGHT
BEGIN:STANDARD
TZOFFSETFROM:+0200
TZOFFSETTO:+0100
TZNAME:CET
DTSTART:20271031T010000
END:STANDARD
BEGIN:DAYLIGHT
TZOFFSETFROM:+0100
TZOFFSETTO:+0200
TZNAME:CEST
DTSTART:20280326T010000
END:DAYLIGHT
BEGIN:STANDARD
TZOFFSETFROM:+0200
TZOFFSETTO:+0100
TZNAME:CET
DTSTART:20281029T010000
END:STANDARD
BEGIN:DAYLIGHT
TZOFFSETFROM:+0100
TZOFFSETTO:+0200
TZNAME:CEST
DTSTART:20290325T010000
END:DAYLIGHT
BEGIN:STANDARD
TZOFFSETFROM:+0200
TZOFFSETTO:+0100
TZNAME:CET
DTSTART:20291028T010000
END:STANDARD
BEGIN:DAYLIGHT
TZOFFSETFROM:+0100
TZOFFSETTO:+0200
TZNAME:CEST
DTSTART:20300331T010000
END:DAYLIGHT
BEGIN:STANDARD
TZOFFSETFROM:+0200
TZOFFSETTO:+0100
TZNAME:CET
DTSTART:20301027T010000
END:STANDARD
BEGIN:DAYLIGHT
TZOFFSETFROM:+0100
TZOFFSETTO:+0200
TZNAME:CEST
DTSTART:20310330T010000
END:DAYLIGHT
BEGIN:STANDARD
TZOFFSETFROM:+0200
TZOFFSETTO:+0100
TZNAME:CET
DTSTART:20311026T010000
END:STANDARD
END:VTIMEZONE
BEGIN:VEVENT
DTSTART;TZID=Europe/Prague:20280516T093000
DTEND;TZID=Europe/Prague:20280516T113000
DTSTAMP:20260424T112234
CREATED:20251108T103811Z
LAST-MODIFIED:20251110T125832Z
UID:10008200-1842082200-1842089400@iwa-prague.com
SUMMARY:Monthly Meeting
DESCRIPTION:
URL:https://iwa-prague.com/event/monthly-meeting-4/2028-05-16/
LOCATION:Anglo American University\, Letenská 120/5\, Prague 1\, Czech Republic
CATEGORIES:Monthly Meeting
ATTACH;FMTTYPE=image/jpeg:https://iwa-prague.com/wp-content/uploads/2024/09/Monthly-Meeting-feature-image-OPT.jpg
ORGANIZER;CN="Leslie Nicholson":MAILTO:president@iwa-prague.com
END:VEVENT
BEGIN:VEVENT
DTSTART;TZID=Europe/Prague:20280620T093000
DTEND;TZID=Europe/Prague:20280620T113000
DTSTAMP:20260424T112234
CREATED:20251108T103811Z
LAST-MODIFIED:20251110T125832Z
UID:10008201-1845106200-1845113400@iwa-prague.com
SUMMARY:Monthly Meeting
DESCRIPTION:
URL:https://iwa-prague.com/event/monthly-meeting-4/2028-06-20/
LOCATION:Anglo American University\, Letenská 120/5\, Prague 1\, Czech Republic
CATEGORIES:Monthly Meeting
ATTACH;FMTTYPE=image/jpeg:https://iwa-prague.com/wp-content/uploads/2024/09/Monthly-Meeting-feature-image-OPT.jpg
ORGANIZER;CN="Leslie Nicholson":MAILTO:president@iwa-prague.com
END:VEVENT
BEGIN:VEVENT
DTSTART;TZID=Europe/Prague:20280718T093000
DTEND;TZID=Europe/Prague:20280718T113000
DTSTAMP:20260424T112234
CREATED:20251108T103811Z
LAST-MODIFIED:20251110T125832Z
UID:10008202-1847525400-1847532600@iwa-prague.com
SUMMARY:Monthly Meeting
DESCRIPTION:
URL:https://iwa-prague.com/event/monthly-meeting-4/2028-07-18/
LOCATION:Anglo American University\, Letenská 120/5\, Prague 1\, Czech Republic
CATEGORIES:Monthly Meeting
ATTACH;FMTTYPE=image/jpeg:https://iwa-prague.com/wp-content/uploads/2024/09/Monthly-Meeting-feature-image-OPT.jpg
ORGANIZER;CN="Leslie Nicholson":MAILTO:president@iwa-prague.com
END:VEVENT
BEGIN:VEVENT
DTSTART;TZID=Europe/Prague:20280815T093000
DTEND;TZID=Europe/Prague:20280815T113000
DTSTAMP:20260424T112234
CREATED:20251108T103811Z
LAST-MODIFIED:20251110T125832Z
UID:10008203-1849944600-1849951800@iwa-prague.com
SUMMARY:Monthly Meeting
DESCRIPTION:
URL:https://iwa-prague.com/event/monthly-meeting-4/2028-08-15/
LOCATION:Anglo American University\, Letenská 120/5\, Prague 1\, Czech Republic
CATEGORIES:Monthly Meeting
ATTACH;FMTTYPE=image/jpeg:https://iwa-prague.com/wp-content/uploads/2024/09/Monthly-Meeting-feature-image-OPT.jpg
ORGANIZER;CN="Leslie Nicholson":MAILTO:president@iwa-prague.com
END:VEVENT
BEGIN:VEVENT
DTSTART;TZID=Europe/Prague:20280919T093000
DTEND;TZID=Europe/Prague:20280919T113000
DTSTAMP:20260424T112234
CREATED:20251108T103811Z
LAST-MODIFIED:20251110T125832Z
UID:10008204-1852968600-1852975800@iwa-prague.com
SUMMARY:Monthly Meeting
DESCRIPTION:
URL:https://iwa-prague.com/event/monthly-meeting-4/2028-09-19/
LOCATION:Anglo American University\, Letenská 120/5\, Prague 1\, Czech Republic
CATEGORIES:Monthly Meeting
ATTACH;FMTTYPE=image/jpeg:https://iwa-prague.com/wp-content/uploads/2024/09/Monthly-Meeting-feature-image-OPT.jpg
ORGANIZER;CN="Leslie Nicholson":MAILTO:president@iwa-prague.com
END:VEVENT
BEGIN:VEVENT
DTSTART;TZID=Europe/Prague:20281017T093000
DTEND;TZID=Europe/Prague:20281017T113000
DTSTAMP:20260424T112234
CREATED:20251108T103811Z
LAST-MODIFIED:20251110T125832Z
UID:10008205-1855387800-1855395000@iwa-prague.com
SUMMARY:Monthly Meeting
DESCRIPTION:
URL:https://iwa-prague.com/event/monthly-meeting-4/2028-10-17/
LOCATION:Anglo American University\, Letenská 120/5\, Prague 1\, Czech Republic
CATEGORIES:Monthly Meeting
ATTACH;FMTTYPE=image/jpeg:https://iwa-prague.com/wp-content/uploads/2024/09/Monthly-Meeting-feature-image-OPT.jpg
ORGANIZER;CN="Leslie Nicholson":MAILTO:president@iwa-prague.com
END:VEVENT
BEGIN:VEVENT
DTSTART;TZID=Europe/Prague:20281121T093000
DTEND;TZID=Europe/Prague:20281121T113000
DTSTAMP:20260424T112234
CREATED:20251108T103811Z
LAST-MODIFIED:20251110T125832Z
UID:10008206-1858411800-1858419000@iwa-prague.com
SUMMARY:Monthly Meeting
DESCRIPTION:
URL:https://iwa-prague.com/event/monthly-meeting-4/2028-11-21/
LOCATION:Anglo American University\, Letenská 120/5\, Prague 1\, Czech Republic
CATEGORIES:Monthly Meeting
ATTACH;FMTTYPE=image/jpeg:https://iwa-prague.com/wp-content/uploads/2024/09/Monthly-Meeting-feature-image-OPT.jpg
ORGANIZER;CN="Leslie Nicholson":MAILTO:president@iwa-prague.com
END:VEVENT
BEGIN:VEVENT
DTSTART;TZID=Europe/Prague:20281219T093000
DTEND;TZID=Europe/Prague:20281219T113000
DTSTAMP:20260424T112234
CREATED:20251108T103811Z
LAST-MODIFIED:20251110T125832Z
UID:10008207-1860831000-1860838200@iwa-prague.com
SUMMARY:Monthly Meeting
DESCRIPTION:
URL:https://iwa-prague.com/event/monthly-meeting-4/2028-12-19/
LOCATION:Anglo American University\, Letenská 120/5\, Prague 1\, Czech Republic
CATEGORIES:Monthly Meeting
ATTACH;FMTTYPE=image/jpeg:https://iwa-prague.com/wp-content/uploads/2024/09/Monthly-Meeting-feature-image-OPT.jpg
ORGANIZER;CN="Leslie Nicholson":MAILTO:president@iwa-prague.com
END:VEVENT
BEGIN:VEVENT
DTSTART;TZID=Europe/Prague:20290116T093000
DTEND;TZID=Europe/Prague:20290116T113000
DTSTAMP:20260424T112234
CREATED:20251108T103811Z
LAST-MODIFIED:20251110T125832Z
UID:10008208-1863250200-1863257400@iwa-prague.com
SUMMARY:Monthly Meeting
DESCRIPTION:
URL:https://iwa-prague.com/event/monthly-meeting-4/2029-01-16/
LOCATION:Anglo American University\, Letenská 120/5\, Prague 1\, Czech Republic
CATEGORIES:Monthly Meeting
ATTACH;FMTTYPE=image/jpeg:https://iwa-prague.com/wp-content/uploads/2024/09/Monthly-Meeting-feature-image-OPT.jpg
ORGANIZER;CN="Leslie Nicholson":MAILTO:president@iwa-prague.com
END:VEVENT
BEGIN:VEVENT
DTSTART;TZID=Europe/Prague:20290220T093000
DTEND;TZID=Europe/Prague:20290220T113000
DTSTAMP:20260424T112234
CREATED:20251108T103811Z
LAST-MODIFIED:20251110T125832Z
UID:10008209-1866274200-1866281400@iwa-prague.com
SUMMARY:Monthly Meeting
DESCRIPTION:
URL:https://iwa-prague.com/event/monthly-meeting-4/2029-02-20/
LOCATION:Anglo American University\, Letenská 120/5\, Prague 1\, Czech Republic
CATEGORIES:Monthly Meeting
ATTACH;FMTTYPE=image/jpeg:https://iwa-prague.com/wp-content/uploads/2024/09/Monthly-Meeting-feature-image-OPT.jpg
ORGANIZER;CN="Leslie Nicholson":MAILTO:president@iwa-prague.com
END:VEVENT
BEGIN:VEVENT
DTSTART;TZID=Europe/Prague:20290320T093000
DTEND;TZID=Europe/Prague:20290320T113000
DTSTAMP:20260424T112234
CREATED:20251108T103811Z
LAST-MODIFIED:20251110T125832Z
UID:10008210-1868693400-1868700600@iwa-prague.com
SUMMARY:Monthly Meeting
DESCRIPTION:
URL:https://iwa-prague.com/event/monthly-meeting-4/2029-03-20/
LOCATION:Anglo American University\, Letenská 120/5\, Prague 1\, Czech Republic
CATEGORIES:Monthly Meeting
ATTACH;FMTTYPE=image/jpeg:https://iwa-prague.com/wp-content/uploads/2024/09/Monthly-Meeting-feature-image-OPT.jpg
ORGANIZER;CN="Leslie Nicholson":MAILTO:president@iwa-prague.com
END:VEVENT
BEGIN:VEVENT
DTSTART;TZID=Europe/Prague:20290417T093000
DTEND;TZID=Europe/Prague:20290417T113000
DTSTAMP:20260424T112234
CREATED:20251108T103811Z
LAST-MODIFIED:20251110T125832Z
UID:10008211-1871112600-1871119800@iwa-prague.com
SUMMARY:Monthly Meeting
DESCRIPTION:
URL:https://iwa-prague.com/event/monthly-meeting-4/2029-04-17/
LOCATION:Anglo American University\, Letenská 120/5\, Prague 1\, Czech Republic
CATEGORIES:Monthly Meeting
ATTACH;FMTTYPE=image/jpeg:https://iwa-prague.com/wp-content/uploads/2024/09/Monthly-Meeting-feature-image-OPT.jpg
ORGANIZER;CN="Leslie Nicholson":MAILTO:president@iwa-prague.com
END:VEVENT
BEGIN:VEVENT
DTSTART;TZID=Europe/Prague:20290515T093000
DTEND;TZID=Europe/Prague:20290515T113000
DTSTAMP:20260424T112234
CREATED:20251108T103811Z
LAST-MODIFIED:20251110T125832Z
UID:10008212-1873531800-1873539000@iwa-prague.com
SUMMARY:Monthly Meeting
DESCRIPTION:
URL:https://iwa-prague.com/event/monthly-meeting-4/2029-05-15/
LOCATION:Anglo American University\, Letenská 120/5\, Prague 1\, Czech Republic
CATEGORIES:Monthly Meeting
ATTACH;FMTTYPE=image/jpeg:https://iwa-prague.com/wp-content/uploads/2024/09/Monthly-Meeting-feature-image-OPT.jpg
ORGANIZER;CN="Leslie Nicholson":MAILTO:president@iwa-prague.com
END:VEVENT
BEGIN:VEVENT
DTSTART;TZID=Europe/Prague:20290619T093000
DTEND;TZID=Europe/Prague:20290619T113000
DTSTAMP:20260424T112234
CREATED:20251108T103811Z
LAST-MODIFIED:20251110T125832Z
UID:10008213-1876555800-1876563000@iwa-prague.com
SUMMARY:Monthly Meeting
DESCRIPTION:
URL:https://iwa-prague.com/event/monthly-meeting-4/2029-06-19/
LOCATION:Anglo American University\, Letenská 120/5\, Prague 1\, Czech Republic
CATEGORIES:Monthly Meeting
ATTACH;FMTTYPE=image/jpeg:https://iwa-prague.com/wp-content/uploads/2024/09/Monthly-Meeting-feature-image-OPT.jpg
ORGANIZER;CN="Leslie Nicholson":MAILTO:president@iwa-prague.com
END:VEVENT
BEGIN:VEVENT
DTSTART;TZID=Europe/Prague:20290717T093000
DTEND;TZID=Europe/Prague:20290717T113000
DTSTAMP:20260424T112234
CREATED:20251108T103811Z
LAST-MODIFIED:20251110T125832Z
UID:10008214-1878975000-1878982200@iwa-prague.com
SUMMARY:Monthly Meeting
DESCRIPTION:
URL:https://iwa-prague.com/event/monthly-meeting-4/2029-07-17/
LOCATION:Anglo American University\, Letenská 120/5\, Prague 1\, Czech Republic
CATEGORIES:Monthly Meeting
ATTACH;FMTTYPE=image/jpeg:https://iwa-prague.com/wp-content/uploads/2024/09/Monthly-Meeting-feature-image-OPT.jpg
ORGANIZER;CN="Leslie Nicholson":MAILTO:president@iwa-prague.com
END:VEVENT
BEGIN:VEVENT
DTSTART;TZID=Europe/Prague:20290821T093000
DTEND;TZID=Europe/Prague:20290821T113000
DTSTAMP:20260424T112234
CREATED:20251108T103811Z
LAST-MODIFIED:20251110T125832Z
UID:10008215-1881999000-1882006200@iwa-prague.com
SUMMARY:Monthly Meeting
DESCRIPTION:
URL:https://iwa-prague.com/event/monthly-meeting-4/2029-08-21/
LOCATION:Anglo American University\, Letenská 120/5\, Prague 1\, Czech Republic
CATEGORIES:Monthly Meeting
ATTACH;FMTTYPE=image/jpeg:https://iwa-prague.com/wp-content/uploads/2024/09/Monthly-Meeting-feature-image-OPT.jpg
ORGANIZER;CN="Leslie Nicholson":MAILTO:president@iwa-prague.com
END:VEVENT
BEGIN:VEVENT
DTSTART;TZID=Europe/Prague:20290918T093000
DTEND;TZID=Europe/Prague:20290918T113000
DTSTAMP:20260424T112234
CREATED:20251108T103811Z
LAST-MODIFIED:20251110T125832Z
UID:10008216-1884418200-1884425400@iwa-prague.com
SUMMARY:Monthly Meeting
DESCRIPTION:
URL:https://iwa-prague.com/event/monthly-meeting-4/2029-09-18/
LOCATION:Anglo American University\, Letenská 120/5\, Prague 1\, Czech Republic
CATEGORIES:Monthly Meeting
ATTACH;FMTTYPE=image/jpeg:https://iwa-prague.com/wp-content/uploads/2024/09/Monthly-Meeting-feature-image-OPT.jpg
ORGANIZER;CN="Leslie Nicholson":MAILTO:president@iwa-prague.com
END:VEVENT
BEGIN:VEVENT
DTSTART;TZID=Europe/Prague:20291016T093000
DTEND;TZID=Europe/Prague:20291016T113000
DTSTAMP:20260424T112234
CREATED:20251108T103811Z
LAST-MODIFIED:20251110T125832Z
UID:10008217-1886837400-1886844600@iwa-prague.com
SUMMARY:Monthly Meeting
DESCRIPTION:
URL:https://iwa-prague.com/event/monthly-meeting-4/2029-10-16/
LOCATION:Anglo American University\, Letenská 120/5\, Prague 1\, Czech Republic
CATEGORIES:Monthly Meeting
ATTACH;FMTTYPE=image/jpeg:https://iwa-prague.com/wp-content/uploads/2024/09/Monthly-Meeting-feature-image-OPT.jpg
ORGANIZER;CN="Leslie Nicholson":MAILTO:president@iwa-prague.com
END:VEVENT
BEGIN:VEVENT
DTSTART;TZID=Europe/Prague:20291120T093000
DTEND;TZID=Europe/Prague:20291120T113000
DTSTAMP:20260424T112234
CREATED:20251108T103811Z
LAST-MODIFIED:20251110T125832Z
UID:10008218-1889861400-1889868600@iwa-prague.com
SUMMARY:Monthly Meeting
DESCRIPTION:
URL:https://iwa-prague.com/event/monthly-meeting-4/2029-11-20/
LOCATION:Anglo American University\, Letenská 120/5\, Prague 1\, Czech Republic
CATEGORIES:Monthly Meeting
ATTACH;FMTTYPE=image/jpeg:https://iwa-prague.com/wp-content/uploads/2024/09/Monthly-Meeting-feature-image-OPT.jpg
ORGANIZER;CN="Leslie Nicholson":MAILTO:president@iwa-prague.com
END:VEVENT
BEGIN:VEVENT
DTSTART;TZID=Europe/Prague:20291218T093000
DTEND;TZID=Europe/Prague:20291218T113000
DTSTAMP:20260424T112234
CREATED:20251108T103811Z
LAST-MODIFIED:20251110T125832Z
UID:10008219-1892280600-1892287800@iwa-prague.com
SUMMARY:Monthly Meeting
DESCRIPTION:
URL:https://iwa-prague.com/event/monthly-meeting-4/2029-12-18/
LOCATION:Anglo American University\, Letenská 120/5\, Prague 1\, Czech Republic
CATEGORIES:Monthly Meeting
ATTACH;FMTTYPE=image/jpeg:https://iwa-prague.com/wp-content/uploads/2024/09/Monthly-Meeting-feature-image-OPT.jpg
ORGANIZER;CN="Leslie Nicholson":MAILTO:president@iwa-prague.com
END:VEVENT
BEGIN:VEVENT
DTSTART;TZID=Europe/Prague:20300115T093000
DTEND;TZID=Europe/Prague:20300115T113000
DTSTAMP:20260424T112234
CREATED:20251108T103811Z
LAST-MODIFIED:20251110T125832Z
UID:10008220-1894699800-1894707000@iwa-prague.com
SUMMARY:Monthly Meeting
DESCRIPTION:
URL:https://iwa-prague.com/event/monthly-meeting-4/2030-01-15/
LOCATION:Anglo American University\, Letenská 120/5\, Prague 1\, Czech Republic
CATEGORIES:Monthly Meeting
ATTACH;FMTTYPE=image/jpeg:https://iwa-prague.com/wp-content/uploads/2024/09/Monthly-Meeting-feature-image-OPT.jpg
ORGANIZER;CN="Leslie Nicholson":MAILTO:president@iwa-prague.com
END:VEVENT
BEGIN:VEVENT
DTSTART;TZID=Europe/Prague:20300219T093000
DTEND;TZID=Europe/Prague:20300219T113000
DTSTAMP:20260424T112234
CREATED:20251108T103811Z
LAST-MODIFIED:20251110T125832Z
UID:10008221-1897723800-1897731000@iwa-prague.com
SUMMARY:Monthly Meeting
DESCRIPTION:
URL:https://iwa-prague.com/event/monthly-meeting-4/2030-02-19/
LOCATION:Anglo American University\, Letenská 120/5\, Prague 1\, Czech Republic
CATEGORIES:Monthly Meeting
ATTACH;FMTTYPE=image/jpeg:https://iwa-prague.com/wp-content/uploads/2024/09/Monthly-Meeting-feature-image-OPT.jpg
ORGANIZER;CN="Leslie Nicholson":MAILTO:president@iwa-prague.com
END:VEVENT
BEGIN:VEVENT
DTSTART;TZID=Europe/Prague:20300319T093000
DTEND;TZID=Europe/Prague:20300319T113000
DTSTAMP:20260424T112234
CREATED:20251108T103811Z
LAST-MODIFIED:20251110T125832Z
UID:10008222-1900143000-1900150200@iwa-prague.com
SUMMARY:Monthly Meeting
DESCRIPTION:
URL:https://iwa-prague.com/event/monthly-meeting-4/2030-03-19/
LOCATION:Anglo American University\, Letenská 120/5\, Prague 1\, Czech Republic
CATEGORIES:Monthly Meeting
ATTACH;FMTTYPE=image/jpeg:https://iwa-prague.com/wp-content/uploads/2024/09/Monthly-Meeting-feature-image-OPT.jpg
ORGANIZER;CN="Leslie Nicholson":MAILTO:president@iwa-prague.com
END:VEVENT
BEGIN:VEVENT
DTSTART;TZID=Europe/Prague:20300416T093000
DTEND;TZID=Europe/Prague:20300416T113000
DTSTAMP:20260424T112234
CREATED:20251108T103811Z
LAST-MODIFIED:20251110T125832Z
UID:10008223-1902562200-1902569400@iwa-prague.com
SUMMARY:Monthly Meeting
DESCRIPTION:
URL:https://iwa-prague.com/event/monthly-meeting-4/2030-04-16/
LOCATION:Anglo American University\, Letenská 120/5\, Prague 1\, Czech Republic
CATEGORIES:Monthly Meeting
ATTACH;FMTTYPE=image/jpeg:https://iwa-prague.com/wp-content/uploads/2024/09/Monthly-Meeting-feature-image-OPT.jpg
ORGANIZER;CN="Leslie Nicholson":MAILTO:president@iwa-prague.com
END:VEVENT
BEGIN:VEVENT
DTSTART;TZID=Europe/Prague:20300521T093000
DTEND;TZID=Europe/Prague:20300521T113000
DTSTAMP:20260424T112234
CREATED:20251108T103811Z
LAST-MODIFIED:20251110T125832Z
UID:10008224-1905586200-1905593400@iwa-prague.com
SUMMARY:Monthly Meeting
DESCRIPTION:
URL:https://iwa-prague.com/event/monthly-meeting-4/2030-05-21/
LOCATION:Anglo American University\, Letenská 120/5\, Prague 1\, Czech Republic
CATEGORIES:Monthly Meeting
ATTACH;FMTTYPE=image/jpeg:https://iwa-prague.com/wp-content/uploads/2024/09/Monthly-Meeting-feature-image-OPT.jpg
ORGANIZER;CN="Leslie Nicholson":MAILTO:president@iwa-prague.com
END:VEVENT
BEGIN:VEVENT
DTSTART;TZID=Europe/Prague:20300618T093000
DTEND;TZID=Europe/Prague:20300618T113000
DTSTAMP:20260424T112234
CREATED:20251108T103811Z
LAST-MODIFIED:20251110T125832Z
UID:10008225-1908005400-1908012600@iwa-prague.com
SUMMARY:Monthly Meeting
DESCRIPTION:
URL:https://iwa-prague.com/event/monthly-meeting-4/2030-06-18/
LOCATION:Anglo American University\, Letenská 120/5\, Prague 1\, Czech Republic
CATEGORIES:Monthly Meeting
ATTACH;FMTTYPE=image/jpeg:https://iwa-prague.com/wp-content/uploads/2024/09/Monthly-Meeting-feature-image-OPT.jpg
ORGANIZER;CN="Leslie Nicholson":MAILTO:president@iwa-prague.com
END:VEVENT
BEGIN:VEVENT
DTSTART;TZID=Europe/Prague:20300716T093000
DTEND;TZID=Europe/Prague:20300716T113000
DTSTAMP:20260424T112234
CREATED:20251108T103811Z
LAST-MODIFIED:20251110T125832Z
UID:10008226-1910424600-1910431800@iwa-prague.com
SUMMARY:Monthly Meeting
DESCRIPTION:
URL:https://iwa-prague.com/event/monthly-meeting-4/2030-07-16/
LOCATION:Anglo American University\, Letenská 120/5\, Prague 1\, Czech Republic
CATEGORIES:Monthly Meeting
ATTACH;FMTTYPE=image/jpeg:https://iwa-prague.com/wp-content/uploads/2024/09/Monthly-Meeting-feature-image-OPT.jpg
ORGANIZER;CN="Leslie Nicholson":MAILTO:president@iwa-prague.com
END:VEVENT
BEGIN:VEVENT
DTSTART;TZID=Europe/Prague:20300820T093000
DTEND;TZID=Europe/Prague:20300820T113000
DTSTAMP:20260424T112234
CREATED:20251108T103811Z
LAST-MODIFIED:20251110T125832Z
UID:10008227-1913448600-1913455800@iwa-prague.com
SUMMARY:Monthly Meeting
DESCRIPTION:
URL:https://iwa-prague.com/event/monthly-meeting-4/2030-08-20/
LOCATION:Anglo American University\, Letenská 120/5\, Prague 1\, Czech Republic
CATEGORIES:Monthly Meeting
ATTACH;FMTTYPE=image/jpeg:https://iwa-prague.com/wp-content/uploads/2024/09/Monthly-Meeting-feature-image-OPT.jpg
ORGANIZER;CN="Leslie Nicholson":MAILTO:president@iwa-prague.com
END:VEVENT
BEGIN:VEVENT
DTSTART;TZID=Europe/Prague:20300917T093000
DTEND;TZID=Europe/Prague:20300917T113000
DTSTAMP:20260424T112234
CREATED:20251108T103811Z
LAST-MODIFIED:20251110T125832Z
UID:10008228-1915867800-1915875000@iwa-prague.com
SUMMARY:Monthly Meeting
DESCRIPTION:
URL:https://iwa-prague.com/event/monthly-meeting-4/2030-09-17/
LOCATION:Anglo American University\, Letenská 120/5\, Prague 1\, Czech Republic
CATEGORIES:Monthly Meeting
ATTACH;FMTTYPE=image/jpeg:https://iwa-prague.com/wp-content/uploads/2024/09/Monthly-Meeting-feature-image-OPT.jpg
ORGANIZER;CN="Leslie Nicholson":MAILTO:president@iwa-prague.com
END:VEVENT
BEGIN:VEVENT
DTSTART;TZID=Europe/Prague:20301015T093000
DTEND;TZID=Europe/Prague:20301015T113000
DTSTAMP:20260424T112234
CREATED:20251108T103811Z
LAST-MODIFIED:20251110T125832Z
UID:10008229-1918287000-1918294200@iwa-prague.com
SUMMARY:Monthly Meeting
DESCRIPTION:
URL:https://iwa-prague.com/event/monthly-meeting-4/2030-10-15/
LOCATION:Anglo American University\, Letenská 120/5\, Prague 1\, Czech Republic
CATEGORIES:Monthly Meeting
ATTACH;FMTTYPE=image/jpeg:https://iwa-prague.com/wp-content/uploads/2024/09/Monthly-Meeting-feature-image-OPT.jpg
ORGANIZER;CN="Leslie Nicholson":MAILTO:president@iwa-prague.com
END:VEVENT
END:VCALENDAR