BEGIN:VCALENDAR
VERSION:2.0
PRODID:-//International Women&#039;s Association of Prague - ECPv6.15.20//NONSGML v1.0//EN
CALSCALE:GREGORIAN
METHOD:PUBLISH
X-ORIGINAL-URL:https://iwa-prague.com
X-WR-CALDESC:Events for International Women&#039;s Association of Prague
REFRESH-INTERVAL;VALUE=DURATION:PT1H
X-Robots-Tag:noindex
X-PUBLISHED-TTL:PT1H
BEGIN:VTIMEZONE
TZID:Europe/Prague
BEGIN:DAYLIGHT
TZOFFSETFROM:+0100
TZOFFSETTO:+0200
TZNAME:CEST
DTSTART:20230326T010000
END:DAYLIGHT
BEGIN:STANDARD
TZOFFSETFROM:+0200
TZOFFSETTO:+0100
TZNAME:CET
DTSTART:20231029T010000
END:STANDARD
BEGIN:DAYLIGHT
TZOFFSETFROM:+0100
TZOFFSETTO:+0200
TZNAME:CEST
DTSTART:20240331T010000
END:DAYLIGHT
BEGIN:STANDARD
TZOFFSETFROM:+0200
TZOFFSETTO:+0100
TZNAME:CET
DTSTART:20241027T010000
END:STANDARD
BEGIN:DAYLIGHT
TZOFFSETFROM:+0100
TZOFFSETTO:+0200
TZNAME:CEST
DTSTART:20250330T010000
END:DAYLIGHT
BEGIN:STANDARD
TZOFFSETFROM:+0200
TZOFFSETTO:+0100
TZNAME:CET
DTSTART:20251026T010000
END:STANDARD
BEGIN:DAYLIGHT
TZOFFSETFROM:+0100
TZOFFSETTO:+0200
TZNAME:CEST
DTSTART:20260329T010000
END:DAYLIGHT
BEGIN:STANDARD
TZOFFSETFROM:+0200
TZOFFSETTO:+0100
TZNAME:CET
DTSTART:20261025T010000
END:STANDARD
BEGIN:DAYLIGHT
TZOFFSETFROM:+0100
TZOFFSETTO:+0200
TZNAME:CEST
DTSTART:20270328T010000
END:DAYLIGHT
BEGIN:STANDARD
TZOFFSETFROM:+0200
TZOFFSETTO:+0100
TZNAME:CET
DTSTART:20271031T010000
END:STANDARD
END:VTIMEZONE
BEGIN:VEVENT
DTSTART;TZID=Europe/Prague:20260302T140000
DTEND;TZID=Europe/Prague:20260302T153000
DTSTAMP:20260423T153210
CREATED:20240926T135507Z
LAST-MODIFIED:20260311T103100Z
UID:10001815-1772460000-1772465400@iwa-prague.com
SUMMARY:Kavarna Hopping
DESCRIPTION:
URL:https://iwa-prague.com/event/kavarna-hopping/2026-03-02/
CATEGORIES:Social Groups
ATTACH;FMTTYPE=image/jpeg:https://iwa-prague.com/wp-content/uploads/2024/09/kavarna-hopping-mar-2023-003-scaled.jpg
ORGANIZER;CN="Kim Strebel / Cathy Meils":MAILTO:kavarna@iwa-prague.com
END:VEVENT
BEGIN:VEVENT
DTSTART;TZID=Europe/Prague:20260202T140000
DTEND;TZID=Europe/Prague:20260202T153000
DTSTAMP:20260423T153210
CREATED:20240926T135507Z
LAST-MODIFIED:20260311T103100Z
UID:10001814-1770040800-1770046200@iwa-prague.com
SUMMARY:Kavarna Hopping
DESCRIPTION:
URL:https://iwa-prague.com/event/kavarna-hopping/2026-02-02/
CATEGORIES:Social Groups
ATTACH;FMTTYPE=image/jpeg:https://iwa-prague.com/wp-content/uploads/2024/09/kavarna-hopping-mar-2023-003-scaled.jpg
ORGANIZER;CN="Kim Strebel / Cathy Meils":MAILTO:kavarna@iwa-prague.com
END:VEVENT
BEGIN:VEVENT
DTSTART;TZID=Europe/Prague:20260105T140000
DTEND;TZID=Europe/Prague:20260105T153000
DTSTAMP:20260423T153210
CREATED:20240926T135507Z
LAST-MODIFIED:20260311T103100Z
UID:10001813-1767621600-1767627000@iwa-prague.com
SUMMARY:Kavarna Hopping
DESCRIPTION:
URL:https://iwa-prague.com/event/kavarna-hopping/2026-01-05/
CATEGORIES:Social Groups
ATTACH;FMTTYPE=image/jpeg:https://iwa-prague.com/wp-content/uploads/2024/09/kavarna-hopping-mar-2023-003-scaled.jpg
ORGANIZER;CN="Kim Strebel / Cathy Meils":MAILTO:kavarna@iwa-prague.com
END:VEVENT
BEGIN:VEVENT
DTSTART;TZID=Europe/Prague:20251201T140000
DTEND;TZID=Europe/Prague:20251201T153000
DTSTAMP:20260423T153210
CREATED:20240926T135507Z
LAST-MODIFIED:20260311T103100Z
UID:10001812-1764597600-1764603000@iwa-prague.com
SUMMARY:Kavarna Hopping
DESCRIPTION:
URL:https://iwa-prague.com/event/kavarna-hopping/2025-12-01/
CATEGORIES:Social Groups
ATTACH;FMTTYPE=image/jpeg:https://iwa-prague.com/wp-content/uploads/2024/09/kavarna-hopping-mar-2023-003-scaled.jpg
ORGANIZER;CN="Kim Strebel / Cathy Meils":MAILTO:kavarna@iwa-prague.com
END:VEVENT
BEGIN:VEVENT
DTSTART;TZID=Europe/Prague:20251103T140000
DTEND;TZID=Europe/Prague:20251103T153000
DTSTAMP:20260423T153210
CREATED:20240926T135507Z
LAST-MODIFIED:20260311T103100Z
UID:10001811-1762178400-1762183800@iwa-prague.com
SUMMARY:Kavarna Hopping
DESCRIPTION:
URL:https://iwa-prague.com/event/kavarna-hopping/2025-11-03/
CATEGORIES:Social Groups
ATTACH;FMTTYPE=image/jpeg:https://iwa-prague.com/wp-content/uploads/2024/09/kavarna-hopping-mar-2023-003-scaled.jpg
ORGANIZER;CN="Kim Strebel / Cathy Meils":MAILTO:kavarna@iwa-prague.com
END:VEVENT
BEGIN:VEVENT
DTSTART;TZID=Europe/Prague:20251006T140000
DTEND;TZID=Europe/Prague:20251006T153000
DTSTAMP:20260423T153210
CREATED:20240926T135507Z
LAST-MODIFIED:20260311T103100Z
UID:10001810-1759759200-1759764600@iwa-prague.com
SUMMARY:Kavarna Hopping
DESCRIPTION:
URL:https://iwa-prague.com/event/kavarna-hopping/2025-10-06/
CATEGORIES:Social Groups
ATTACH;FMTTYPE=image/jpeg:https://iwa-prague.com/wp-content/uploads/2024/09/kavarna-hopping-mar-2023-003-scaled.jpg
ORGANIZER;CN="Kim Strebel / Cathy Meils":MAILTO:kavarna@iwa-prague.com
END:VEVENT
BEGIN:VEVENT
DTSTART;TZID=Europe/Prague:20250901T140000
DTEND;TZID=Europe/Prague:20250901T153000
DTSTAMP:20260423T153210
CREATED:20240926T135507Z
LAST-MODIFIED:20260311T103100Z
UID:10001809-1756735200-1756740600@iwa-prague.com
SUMMARY:Kavarna Hopping
DESCRIPTION:
URL:https://iwa-prague.com/event/kavarna-hopping/2025-09-01/
CATEGORIES:Social Groups
ATTACH;FMTTYPE=image/jpeg:https://iwa-prague.com/wp-content/uploads/2024/09/kavarna-hopping-mar-2023-003-scaled.jpg
ORGANIZER;CN="Kim Strebel / Cathy Meils":MAILTO:kavarna@iwa-prague.com
END:VEVENT
BEGIN:VEVENT
DTSTART;TZID=Europe/Prague:20250804T140000
DTEND;TZID=Europe/Prague:20250804T153000
DTSTAMP:20260423T153210
CREATED:20240926T135507Z
LAST-MODIFIED:20260311T103100Z
UID:10001808-1754316000-1754321400@iwa-prague.com
SUMMARY:Kavarna Hopping
DESCRIPTION:
URL:https://iwa-prague.com/event/kavarna-hopping/2025-08-04/
CATEGORIES:Social Groups
ATTACH;FMTTYPE=image/jpeg:https://iwa-prague.com/wp-content/uploads/2024/09/kavarna-hopping-mar-2023-003-scaled.jpg
ORGANIZER;CN="Kim Strebel / Cathy Meils":MAILTO:kavarna@iwa-prague.com
END:VEVENT
BEGIN:VEVENT
DTSTART;TZID=Europe/Prague:20250707T140000
DTEND;TZID=Europe/Prague:20250707T153000
DTSTAMP:20260423T153210
CREATED:20240926T135507Z
LAST-MODIFIED:20260311T103100Z
UID:10007305-1751896800-1751902200@iwa-prague.com
SUMMARY:Kavarna Hopping
DESCRIPTION:
URL:https://iwa-prague.com/event/kavarna-hopping/2025-07-07/
CATEGORIES:Social Groups
ATTACH;FMTTYPE=image/jpeg:https://iwa-prague.com/wp-content/uploads/2024/09/kavarna-hopping-mar-2023-003-scaled.jpg
ORGANIZER;CN="Kim Strebel / Cathy Meils":MAILTO:kavarna@iwa-prague.com
END:VEVENT
BEGIN:VEVENT
DTSTART;TZID=Europe/Prague:20250602T140000
DTEND;TZID=Europe/Prague:20250602T153000
DTSTAMP:20260423T153210
CREATED:20240926T135507Z
LAST-MODIFIED:20260311T103100Z
UID:10001806-1748872800-1748878200@iwa-prague.com
SUMMARY:Kavarna Hopping
DESCRIPTION:
URL:https://iwa-prague.com/event/kavarna-hopping/2025-06-02/
CATEGORIES:Social Groups
ATTACH;FMTTYPE=image/jpeg:https://iwa-prague.com/wp-content/uploads/2024/09/kavarna-hopping-mar-2023-003-scaled.jpg
ORGANIZER;CN="Kim Strebel / Cathy Meils":MAILTO:kavarna@iwa-prague.com
END:VEVENT
BEGIN:VEVENT
DTSTART;TZID=Europe/Prague:20250505T140000
DTEND;TZID=Europe/Prague:20250505T153000
DTSTAMP:20260423T153210
CREATED:20240926T135507Z
LAST-MODIFIED:20260311T103100Z
UID:10001805-1746453600-1746459000@iwa-prague.com
SUMMARY:Kavarna Hopping
DESCRIPTION:
URL:https://iwa-prague.com/event/kavarna-hopping/2025-05-05/
CATEGORIES:Social Groups
ATTACH;FMTTYPE=image/jpeg:https://iwa-prague.com/wp-content/uploads/2024/09/kavarna-hopping-mar-2023-003-scaled.jpg
ORGANIZER;CN="Kim Strebel / Cathy Meils":MAILTO:kavarna@iwa-prague.com
END:VEVENT
BEGIN:VEVENT
DTSTART;TZID=Europe/Prague:20250407T140000
DTEND;TZID=Europe/Prague:20250407T153000
DTSTAMP:20260423T153210
CREATED:20240926T135507Z
LAST-MODIFIED:20260311T103100Z
UID:10001804-1744034400-1744039800@iwa-prague.com
SUMMARY:Kavarna Hopping
DESCRIPTION:
URL:https://iwa-prague.com/event/kavarna-hopping/2025-04-07/
CATEGORIES:Social Groups
ATTACH;FMTTYPE=image/jpeg:https://iwa-prague.com/wp-content/uploads/2024/09/kavarna-hopping-mar-2023-003-scaled.jpg
ORGANIZER;CN="Kim Strebel / Cathy Meils":MAILTO:kavarna@iwa-prague.com
END:VEVENT
BEGIN:VEVENT
DTSTART;TZID=Europe/Prague:20250303T140000
DTEND;TZID=Europe/Prague:20250303T153000
DTSTAMP:20260423T153210
CREATED:20240926T135507Z
LAST-MODIFIED:20260311T103100Z
UID:10001803-1741010400-1741015800@iwa-prague.com
SUMMARY:Kavarna Hopping
DESCRIPTION:
URL:https://iwa-prague.com/event/kavarna-hopping/2025-03-03/
CATEGORIES:Social Groups
ATTACH;FMTTYPE=image/jpeg:https://iwa-prague.com/wp-content/uploads/2024/09/kavarna-hopping-mar-2023-003-scaled.jpg
ORGANIZER;CN="Kim Strebel / Cathy Meils":MAILTO:kavarna@iwa-prague.com
END:VEVENT
BEGIN:VEVENT
DTSTART;TZID=Europe/Prague:20250203T140000
DTEND;TZID=Europe/Prague:20250203T153000
DTSTAMP:20260423T153210
CREATED:20240926T135507Z
LAST-MODIFIED:20260311T103100Z
UID:10001802-1738591200-1738596600@iwa-prague.com
SUMMARY:Kavarna Hopping
DESCRIPTION:
URL:https://iwa-prague.com/event/kavarna-hopping/2025-02-03/
CATEGORIES:Social Groups
ATTACH;FMTTYPE=image/jpeg:https://iwa-prague.com/wp-content/uploads/2024/09/kavarna-hopping-mar-2023-003-scaled.jpg
ORGANIZER;CN="Kim Strebel / Cathy Meils":MAILTO:kavarna@iwa-prague.com
END:VEVENT
BEGIN:VEVENT
DTSTART;TZID=Europe/Prague:20250106T140000
DTEND;TZID=Europe/Prague:20250106T153000
DTSTAMP:20260423T153210
CREATED:20240926T135507Z
LAST-MODIFIED:20260311T103100Z
UID:10001801-1736172000-1736177400@iwa-prague.com
SUMMARY:Kavarna Hopping
DESCRIPTION:
URL:https://iwa-prague.com/event/kavarna-hopping/2025-01-06/
CATEGORIES:Social Groups
ATTACH;FMTTYPE=image/jpeg:https://iwa-prague.com/wp-content/uploads/2024/09/kavarna-hopping-mar-2023-003-scaled.jpg
ORGANIZER;CN="Kim Strebel / Cathy Meils":MAILTO:kavarna@iwa-prague.com
END:VEVENT
BEGIN:VEVENT
DTSTART;TZID=Europe/Prague:20241202T140000
DTEND;TZID=Europe/Prague:20241202T153000
DTSTAMP:20260423T153210
CREATED:20240926T135507Z
LAST-MODIFIED:20260311T103100Z
UID:10001800-1733148000-1733153400@iwa-prague.com
SUMMARY:Kavarna Hopping
DESCRIPTION:
URL:https://iwa-prague.com/event/kavarna-hopping/2024-12-02/
CATEGORIES:Social Groups
ATTACH;FMTTYPE=image/jpeg:https://iwa-prague.com/wp-content/uploads/2024/09/kavarna-hopping-mar-2023-003-scaled.jpg
ORGANIZER;CN="Kim Strebel / Cathy Meils":MAILTO:kavarna@iwa-prague.com
END:VEVENT
BEGIN:VEVENT
DTSTART;TZID=Europe/Prague:20241104T140000
DTEND;TZID=Europe/Prague:20241104T153000
DTSTAMP:20260423T153210
CREATED:20240926T135507Z
LAST-MODIFIED:20260311T103100Z
UID:10001799-1730728800-1730734200@iwa-prague.com
SUMMARY:Kavarna Hopping
DESCRIPTION:
URL:https://iwa-prague.com/event/kavarna-hopping/2024-11-04/
CATEGORIES:Social Groups
ATTACH;FMTTYPE=image/jpeg:https://iwa-prague.com/wp-content/uploads/2024/09/kavarna-hopping-mar-2023-003-scaled.jpg
ORGANIZER;CN="Kim Strebel / Cathy Meils":MAILTO:kavarna@iwa-prague.com
END:VEVENT
BEGIN:VEVENT
DTSTART;TZID=Europe/Prague:20241007T140000
DTEND;TZID=Europe/Prague:20241007T153000
DTSTAMP:20260423T153210
CREATED:20240926T135507Z
LAST-MODIFIED:20260311T103100Z
UID:10001798-1728309600-1728315000@iwa-prague.com
SUMMARY:Kavarna Hopping
DESCRIPTION:
URL:https://iwa-prague.com/event/kavarna-hopping/2024-10-07/
CATEGORIES:Social Groups
ATTACH;FMTTYPE=image/jpeg:https://iwa-prague.com/wp-content/uploads/2024/09/kavarna-hopping-mar-2023-003-scaled.jpg
ORGANIZER;CN="Kim Strebel / Cathy Meils":MAILTO:kavarna@iwa-prague.com
END:VEVENT
END:VCALENDAR