BEGIN:VCALENDAR
VERSION:2.0
PRODID:-//International Women&#039;s Association of Prague - ECPv6.15.20//NONSGML v1.0//EN
CALSCALE:GREGORIAN
METHOD:PUBLISH
X-WR-CALNAME:International Women&#039;s Association of Prague
X-ORIGINAL-URL:https://iwa-prague.com
X-WR-CALDESC:Events for International Women&#039;s Association of Prague
REFRESH-INTERVAL;VALUE=DURATION:PT1H
X-Robots-Tag:noindex
X-PUBLISHED-TTL:PT1H
BEGIN:VTIMEZONE
TZID:Europe/Prague
BEGIN:DAYLIGHT
TZOFFSETFROM:+0100
TZOFFSETTO:+0200
TZNAME:CEST
DTSTART:20260329T010000
END:DAYLIGHT
BEGIN:STANDARD
TZOFFSETFROM:+0200
TZOFFSETTO:+0100
TZNAME:CET
DTSTART:20261025T010000
END:STANDARD
BEGIN:DAYLIGHT
TZOFFSETFROM:+0100
TZOFFSETTO:+0200
TZNAME:CEST
DTSTART:20270328T010000
END:DAYLIGHT
BEGIN:STANDARD
TZOFFSETFROM:+0200
TZOFFSETTO:+0100
TZNAME:CET
DTSTART:20271031T010000
END:STANDARD
BEGIN:DAYLIGHT
TZOFFSETFROM:+0100
TZOFFSETTO:+0200
TZNAME:CEST
DTSTART:20280326T010000
END:DAYLIGHT
BEGIN:STANDARD
TZOFFSETFROM:+0200
TZOFFSETTO:+0100
TZNAME:CET
DTSTART:20281029T010000
END:STANDARD
BEGIN:DAYLIGHT
TZOFFSETFROM:+0100
TZOFFSETTO:+0200
TZNAME:CEST
DTSTART:20290325T010000
END:DAYLIGHT
BEGIN:STANDARD
TZOFFSETFROM:+0200
TZOFFSETTO:+0100
TZNAME:CET
DTSTART:20291028T010000
END:STANDARD
BEGIN:DAYLIGHT
TZOFFSETFROM:+0100
TZOFFSETTO:+0200
TZNAME:CEST
DTSTART:20300331T010000
END:DAYLIGHT
BEGIN:STANDARD
TZOFFSETFROM:+0200
TZOFFSETTO:+0100
TZNAME:CET
DTSTART:20301027T010000
END:STANDARD
END:VTIMEZONE
BEGIN:VEVENT
DTSTART;TZID=Europe/Prague:20270511T160000
DTEND;TZID=Europe/Prague:20270511T180000
DTSTAMP:20260422T082655
CREATED:20241113T134936Z
LAST-MODIFIED:20251024T135205Z
UID:10003372-1810051200-1810058400@iwa-prague.com
SUMMARY:Board of Directors Meeting
DESCRIPTION:
URL:https://iwa-prague.com/event/executive-board-meeting-2/2027-05-11/
CATEGORIES:Executive Board Meeting
ORGANIZER;CN="Jenny Rassaby Ryan":MAILTO:president@iwa-prague.com
END:VEVENT
BEGIN:VEVENT
DTSTART;TZID=Europe/Prague:20270608T160000
DTEND;TZID=Europe/Prague:20270608T180000
DTSTAMP:20260422T082655
CREATED:20241113T134936Z
LAST-MODIFIED:20251024T135205Z
UID:10003373-1812470400-1812477600@iwa-prague.com
SUMMARY:Board of Directors Meeting
DESCRIPTION:
URL:https://iwa-prague.com/event/executive-board-meeting-2/2027-06-08/
CATEGORIES:Executive Board Meeting
ORGANIZER;CN="Jenny Rassaby Ryan":MAILTO:president@iwa-prague.com
END:VEVENT
BEGIN:VEVENT
DTSTART;TZID=Europe/Prague:20270713T160000
DTEND;TZID=Europe/Prague:20270713T180000
DTSTAMP:20260422T082655
CREATED:20241113T134936Z
LAST-MODIFIED:20251024T135205Z
UID:10003374-1815494400-1815501600@iwa-prague.com
SUMMARY:Board of Directors Meeting
DESCRIPTION:
URL:https://iwa-prague.com/event/executive-board-meeting-2/2027-07-13/
CATEGORIES:Executive Board Meeting
ORGANIZER;CN="Jenny Rassaby Ryan":MAILTO:president@iwa-prague.com
END:VEVENT
BEGIN:VEVENT
DTSTART;TZID=Europe/Prague:20270810T160000
DTEND;TZID=Europe/Prague:20270810T180000
DTSTAMP:20260422T082655
CREATED:20241113T134936Z
LAST-MODIFIED:20251024T135205Z
UID:10003375-1817913600-1817920800@iwa-prague.com
SUMMARY:Board of Directors Meeting
DESCRIPTION:
URL:https://iwa-prague.com/event/executive-board-meeting-2/2027-08-10/
CATEGORIES:Executive Board Meeting
ORGANIZER;CN="Jenny Rassaby Ryan":MAILTO:president@iwa-prague.com
END:VEVENT
BEGIN:VEVENT
DTSTART;TZID=Europe/Prague:20270914T160000
DTEND;TZID=Europe/Prague:20270914T180000
DTSTAMP:20260422T082655
CREATED:20241113T134936Z
LAST-MODIFIED:20251024T135205Z
UID:10003376-1820937600-1820944800@iwa-prague.com
SUMMARY:Board of Directors Meeting
DESCRIPTION:
URL:https://iwa-prague.com/event/executive-board-meeting-2/2027-09-14/
CATEGORIES:Executive Board Meeting
ORGANIZER;CN="Jenny Rassaby Ryan":MAILTO:president@iwa-prague.com
END:VEVENT
BEGIN:VEVENT
DTSTART;TZID=Europe/Prague:20271012T160000
DTEND;TZID=Europe/Prague:20271012T180000
DTSTAMP:20260422T082655
CREATED:20241113T134936Z
LAST-MODIFIED:20251024T135205Z
UID:10003377-1823356800-1823364000@iwa-prague.com
SUMMARY:Board of Directors Meeting
DESCRIPTION:
URL:https://iwa-prague.com/event/executive-board-meeting-2/2027-10-12/
CATEGORIES:Executive Board Meeting
ORGANIZER;CN="Jenny Rassaby Ryan":MAILTO:president@iwa-prague.com
END:VEVENT
BEGIN:VEVENT
DTSTART;TZID=Europe/Prague:20271109T160000
DTEND;TZID=Europe/Prague:20271109T180000
DTSTAMP:20260422T082655
CREATED:20241113T134936Z
LAST-MODIFIED:20251024T135205Z
UID:10003378-1825776000-1825783200@iwa-prague.com
SUMMARY:Board of Directors Meeting
DESCRIPTION:
URL:https://iwa-prague.com/event/executive-board-meeting-2/2027-11-09/
CATEGORIES:Executive Board Meeting
ORGANIZER;CN="Jenny Rassaby Ryan":MAILTO:president@iwa-prague.com
END:VEVENT
BEGIN:VEVENT
DTSTART;TZID=Europe/Prague:20271214T160000
DTEND;TZID=Europe/Prague:20271214T180000
DTSTAMP:20260422T082655
CREATED:20241113T134936Z
LAST-MODIFIED:20251024T135205Z
UID:10003379-1828800000-1828807200@iwa-prague.com
SUMMARY:Board of Directors Meeting
DESCRIPTION:
URL:https://iwa-prague.com/event/executive-board-meeting-2/2027-12-14/
CATEGORIES:Executive Board Meeting
ORGANIZER;CN="Jenny Rassaby Ryan":MAILTO:president@iwa-prague.com
END:VEVENT
BEGIN:VEVENT
DTSTART;TZID=Europe/Prague:20280111T160000
DTEND;TZID=Europe/Prague:20280111T180000
DTSTAMP:20260422T082655
CREATED:20241113T134936Z
LAST-MODIFIED:20251024T135205Z
UID:10003380-1831219200-1831226400@iwa-prague.com
SUMMARY:Board of Directors Meeting
DESCRIPTION:
URL:https://iwa-prague.com/event/executive-board-meeting-2/2028-01-11/
CATEGORIES:Executive Board Meeting
ORGANIZER;CN="Jenny Rassaby Ryan":MAILTO:president@iwa-prague.com
END:VEVENT
BEGIN:VEVENT
DTSTART;TZID=Europe/Prague:20280208T160000
DTEND;TZID=Europe/Prague:20280208T180000
DTSTAMP:20260422T082655
CREATED:20241113T134936Z
LAST-MODIFIED:20251024T135205Z
UID:10003381-1833638400-1833645600@iwa-prague.com
SUMMARY:Board of Directors Meeting
DESCRIPTION:
URL:https://iwa-prague.com/event/executive-board-meeting-2/2028-02-08/
CATEGORIES:Executive Board Meeting
ORGANIZER;CN="Jenny Rassaby Ryan":MAILTO:president@iwa-prague.com
END:VEVENT
BEGIN:VEVENT
DTSTART;TZID=Europe/Prague:20280314T160000
DTEND;TZID=Europe/Prague:20280314T180000
DTSTAMP:20260422T082655
CREATED:20241113T134936Z
LAST-MODIFIED:20251024T135205Z
UID:10003382-1836662400-1836669600@iwa-prague.com
SUMMARY:Board of Directors Meeting
DESCRIPTION:
URL:https://iwa-prague.com/event/executive-board-meeting-2/2028-03-14/
CATEGORIES:Executive Board Meeting
ORGANIZER;CN="Jenny Rassaby Ryan":MAILTO:president@iwa-prague.com
END:VEVENT
BEGIN:VEVENT
DTSTART;TZID=Europe/Prague:20280411T160000
DTEND;TZID=Europe/Prague:20280411T180000
DTSTAMP:20260422T082655
CREATED:20241113T134936Z
LAST-MODIFIED:20251024T135205Z
UID:10003383-1839081600-1839088800@iwa-prague.com
SUMMARY:Board of Directors Meeting
DESCRIPTION:
URL:https://iwa-prague.com/event/executive-board-meeting-2/2028-04-11/
CATEGORIES:Executive Board Meeting
ORGANIZER;CN="Jenny Rassaby Ryan":MAILTO:president@iwa-prague.com
END:VEVENT
BEGIN:VEVENT
DTSTART;TZID=Europe/Prague:20280509T160000
DTEND;TZID=Europe/Prague:20280509T180000
DTSTAMP:20260422T082655
CREATED:20241113T134936Z
LAST-MODIFIED:20251024T135205Z
UID:10003384-1841500800-1841508000@iwa-prague.com
SUMMARY:Board of Directors Meeting
DESCRIPTION:
URL:https://iwa-prague.com/event/executive-board-meeting-2/2028-05-09/
CATEGORIES:Executive Board Meeting
ORGANIZER;CN="Jenny Rassaby Ryan":MAILTO:president@iwa-prague.com
END:VEVENT
BEGIN:VEVENT
DTSTART;TZID=Europe/Prague:20280613T160000
DTEND;TZID=Europe/Prague:20280613T180000
DTSTAMP:20260422T082655
CREATED:20241113T134936Z
LAST-MODIFIED:20251024T135205Z
UID:10003385-1844524800-1844532000@iwa-prague.com
SUMMARY:Board of Directors Meeting
DESCRIPTION:
URL:https://iwa-prague.com/event/executive-board-meeting-2/2028-06-13/
CATEGORIES:Executive Board Meeting
ORGANIZER;CN="Jenny Rassaby Ryan":MAILTO:president@iwa-prague.com
END:VEVENT
BEGIN:VEVENT
DTSTART;TZID=Europe/Prague:20280711T160000
DTEND;TZID=Europe/Prague:20280711T180000
DTSTAMP:20260422T082655
CREATED:20241113T134936Z
LAST-MODIFIED:20251024T135205Z
UID:10003386-1846944000-1846951200@iwa-prague.com
SUMMARY:Board of Directors Meeting
DESCRIPTION:
URL:https://iwa-prague.com/event/executive-board-meeting-2/2028-07-11/
CATEGORIES:Executive Board Meeting
ORGANIZER;CN="Jenny Rassaby Ryan":MAILTO:president@iwa-prague.com
END:VEVENT
BEGIN:VEVENT
DTSTART;TZID=Europe/Prague:20280808T160000
DTEND;TZID=Europe/Prague:20280808T180000
DTSTAMP:20260422T082655
CREATED:20241113T134936Z
LAST-MODIFIED:20251024T135205Z
UID:10003387-1849363200-1849370400@iwa-prague.com
SUMMARY:Board of Directors Meeting
DESCRIPTION:
URL:https://iwa-prague.com/event/executive-board-meeting-2/2028-08-08/
CATEGORIES:Executive Board Meeting
ORGANIZER;CN="Jenny Rassaby Ryan":MAILTO:president@iwa-prague.com
END:VEVENT
BEGIN:VEVENT
DTSTART;TZID=Europe/Prague:20280912T160000
DTEND;TZID=Europe/Prague:20280912T180000
DTSTAMP:20260422T082655
CREATED:20241113T134936Z
LAST-MODIFIED:20251024T135205Z
UID:10003388-1852387200-1852394400@iwa-prague.com
SUMMARY:Board of Directors Meeting
DESCRIPTION:
URL:https://iwa-prague.com/event/executive-board-meeting-2/2028-09-12/
CATEGORIES:Executive Board Meeting
ORGANIZER;CN="Jenny Rassaby Ryan":MAILTO:president@iwa-prague.com
END:VEVENT
BEGIN:VEVENT
DTSTART;TZID=Europe/Prague:20281010T160000
DTEND;TZID=Europe/Prague:20281010T180000
DTSTAMP:20260422T082655
CREATED:20241113T134936Z
LAST-MODIFIED:20251024T135205Z
UID:10003389-1854806400-1854813600@iwa-prague.com
SUMMARY:Board of Directors Meeting
DESCRIPTION:
URL:https://iwa-prague.com/event/executive-board-meeting-2/2028-10-10/
CATEGORIES:Executive Board Meeting
ORGANIZER;CN="Jenny Rassaby Ryan":MAILTO:president@iwa-prague.com
END:VEVENT
BEGIN:VEVENT
DTSTART;TZID=Europe/Prague:20281114T160000
DTEND;TZID=Europe/Prague:20281114T180000
DTSTAMP:20260422T082655
CREATED:20241113T134936Z
LAST-MODIFIED:20251024T135205Z
UID:10003390-1857830400-1857837600@iwa-prague.com
SUMMARY:Board of Directors Meeting
DESCRIPTION:
URL:https://iwa-prague.com/event/executive-board-meeting-2/2028-11-14/
CATEGORIES:Executive Board Meeting
ORGANIZER;CN="Jenny Rassaby Ryan":MAILTO:president@iwa-prague.com
END:VEVENT
BEGIN:VEVENT
DTSTART;TZID=Europe/Prague:20281212T160000
DTEND;TZID=Europe/Prague:20281212T180000
DTSTAMP:20260422T082655
CREATED:20241113T134936Z
LAST-MODIFIED:20251024T135205Z
UID:10003391-1860249600-1860256800@iwa-prague.com
SUMMARY:Board of Directors Meeting
DESCRIPTION:
URL:https://iwa-prague.com/event/executive-board-meeting-2/2028-12-12/
CATEGORIES:Executive Board Meeting
ORGANIZER;CN="Jenny Rassaby Ryan":MAILTO:president@iwa-prague.com
END:VEVENT
BEGIN:VEVENT
DTSTART;TZID=Europe/Prague:20290109T160000
DTEND;TZID=Europe/Prague:20290109T180000
DTSTAMP:20260422T082655
CREATED:20241113T134936Z
LAST-MODIFIED:20251024T135205Z
UID:10003392-1862668800-1862676000@iwa-prague.com
SUMMARY:Board of Directors Meeting
DESCRIPTION:
URL:https://iwa-prague.com/event/executive-board-meeting-2/2029-01-09/
CATEGORIES:Executive Board Meeting
ORGANIZER;CN="Jenny Rassaby Ryan":MAILTO:president@iwa-prague.com
END:VEVENT
BEGIN:VEVENT
DTSTART;TZID=Europe/Prague:20290213T160000
DTEND;TZID=Europe/Prague:20290213T180000
DTSTAMP:20260422T082655
CREATED:20241113T134936Z
LAST-MODIFIED:20251024T135205Z
UID:10003393-1865692800-1865700000@iwa-prague.com
SUMMARY:Board of Directors Meeting
DESCRIPTION:
URL:https://iwa-prague.com/event/executive-board-meeting-2/2029-02-13/
CATEGORIES:Executive Board Meeting
ORGANIZER;CN="Jenny Rassaby Ryan":MAILTO:president@iwa-prague.com
END:VEVENT
BEGIN:VEVENT
DTSTART;TZID=Europe/Prague:20290313T160000
DTEND;TZID=Europe/Prague:20290313T180000
DTSTAMP:20260422T082655
CREATED:20241113T134936Z
LAST-MODIFIED:20251024T135205Z
UID:10003394-1868112000-1868119200@iwa-prague.com
SUMMARY:Board of Directors Meeting
DESCRIPTION:
URL:https://iwa-prague.com/event/executive-board-meeting-2/2029-03-13/
CATEGORIES:Executive Board Meeting
ORGANIZER;CN="Jenny Rassaby Ryan":MAILTO:president@iwa-prague.com
END:VEVENT
BEGIN:VEVENT
DTSTART;TZID=Europe/Prague:20290410T160000
DTEND;TZID=Europe/Prague:20290410T180000
DTSTAMP:20260422T082655
CREATED:20241113T134936Z
LAST-MODIFIED:20251024T135205Z
UID:10003395-1870531200-1870538400@iwa-prague.com
SUMMARY:Board of Directors Meeting
DESCRIPTION:
URL:https://iwa-prague.com/event/executive-board-meeting-2/2029-04-10/
CATEGORIES:Executive Board Meeting
ORGANIZER;CN="Jenny Rassaby Ryan":MAILTO:president@iwa-prague.com
END:VEVENT
BEGIN:VEVENT
DTSTART;TZID=Europe/Prague:20290508T160000
DTEND;TZID=Europe/Prague:20290508T180000
DTSTAMP:20260422T082655
CREATED:20241113T134936Z
LAST-MODIFIED:20251024T135205Z
UID:10003396-1872950400-1872957600@iwa-prague.com
SUMMARY:Board of Directors Meeting
DESCRIPTION:
URL:https://iwa-prague.com/event/executive-board-meeting-2/2029-05-08/
CATEGORIES:Executive Board Meeting
ORGANIZER;CN="Jenny Rassaby Ryan":MAILTO:president@iwa-prague.com
END:VEVENT
BEGIN:VEVENT
DTSTART;TZID=Europe/Prague:20290612T160000
DTEND;TZID=Europe/Prague:20290612T180000
DTSTAMP:20260422T082655
CREATED:20241113T134936Z
LAST-MODIFIED:20251024T135205Z
UID:10003397-1875974400-1875981600@iwa-prague.com
SUMMARY:Board of Directors Meeting
DESCRIPTION:
URL:https://iwa-prague.com/event/executive-board-meeting-2/2029-06-12/
CATEGORIES:Executive Board Meeting
ORGANIZER;CN="Jenny Rassaby Ryan":MAILTO:president@iwa-prague.com
END:VEVENT
BEGIN:VEVENT
DTSTART;TZID=Europe/Prague:20290710T160000
DTEND;TZID=Europe/Prague:20290710T180000
DTSTAMP:20260422T082655
CREATED:20241113T134936Z
LAST-MODIFIED:20251024T135205Z
UID:10003398-1878393600-1878400800@iwa-prague.com
SUMMARY:Board of Directors Meeting
DESCRIPTION:
URL:https://iwa-prague.com/event/executive-board-meeting-2/2029-07-10/
CATEGORIES:Executive Board Meeting
ORGANIZER;CN="Jenny Rassaby Ryan":MAILTO:president@iwa-prague.com
END:VEVENT
BEGIN:VEVENT
DTSTART;TZID=Europe/Prague:20290814T160000
DTEND;TZID=Europe/Prague:20290814T180000
DTSTAMP:20260422T082655
CREATED:20241113T134936Z
LAST-MODIFIED:20251024T135205Z
UID:10003399-1881417600-1881424800@iwa-prague.com
SUMMARY:Board of Directors Meeting
DESCRIPTION:
URL:https://iwa-prague.com/event/executive-board-meeting-2/2029-08-14/
CATEGORIES:Executive Board Meeting
ORGANIZER;CN="Jenny Rassaby Ryan":MAILTO:president@iwa-prague.com
END:VEVENT
BEGIN:VEVENT
DTSTART;TZID=Europe/Prague:20290911T160000
DTEND;TZID=Europe/Prague:20290911T180000
DTSTAMP:20260422T082655
CREATED:20241113T134936Z
LAST-MODIFIED:20251024T135205Z
UID:10003400-1883836800-1883844000@iwa-prague.com
SUMMARY:Board of Directors Meeting
DESCRIPTION:
URL:https://iwa-prague.com/event/executive-board-meeting-2/2029-09-11/
CATEGORIES:Executive Board Meeting
ORGANIZER;CN="Jenny Rassaby Ryan":MAILTO:president@iwa-prague.com
END:VEVENT
BEGIN:VEVENT
DTSTART;TZID=Europe/Prague:20291009T160000
DTEND;TZID=Europe/Prague:20291009T180000
DTSTAMP:20260422T082655
CREATED:20241113T134936Z
LAST-MODIFIED:20251024T135205Z
UID:10005337-1886256000-1886263200@iwa-prague.com
SUMMARY:Board of Directors Meeting
DESCRIPTION:
URL:https://iwa-prague.com/event/executive-board-meeting-2/2029-10-09/
CATEGORIES:Executive Board Meeting
ORGANIZER;CN="Jenny Rassaby Ryan":MAILTO:president@iwa-prague.com
END:VEVENT
END:VCALENDAR