BEGIN:VCALENDAR
VERSION:2.0
PRODID:-//International Women&#039;s Association of Prague - ECPv6.15.20//NONSGML v1.0//EN
CALSCALE:GREGORIAN
METHOD:PUBLISH
X-ORIGINAL-URL:https://iwa-prague.com
X-WR-CALDESC:Events for International Women&#039;s Association of Prague
REFRESH-INTERVAL;VALUE=DURATION:PT1H
X-Robots-Tag:noindex
X-PUBLISHED-TTL:PT1H
BEGIN:VTIMEZONE
TZID:Europe/Prague
BEGIN:DAYLIGHT
TZOFFSETFROM:+0100
TZOFFSETTO:+0200
TZNAME:CEST
DTSTART:20250330T010000
END:DAYLIGHT
BEGIN:STANDARD
TZOFFSETFROM:+0200
TZOFFSETTO:+0100
TZNAME:CET
DTSTART:20251026T010000
END:STANDARD
BEGIN:DAYLIGHT
TZOFFSETFROM:+0100
TZOFFSETTO:+0200
TZNAME:CEST
DTSTART:20260329T010000
END:DAYLIGHT
BEGIN:STANDARD
TZOFFSETFROM:+0200
TZOFFSETTO:+0100
TZNAME:CET
DTSTART:20261025T010000
END:STANDARD
BEGIN:DAYLIGHT
TZOFFSETFROM:+0100
TZOFFSETTO:+0200
TZNAME:CEST
DTSTART:20270328T010000
END:DAYLIGHT
BEGIN:STANDARD
TZOFFSETFROM:+0200
TZOFFSETTO:+0100
TZNAME:CET
DTSTART:20271031T010000
END:STANDARD
BEGIN:DAYLIGHT
TZOFFSETFROM:+0100
TZOFFSETTO:+0200
TZNAME:CEST
DTSTART:20280326T010000
END:DAYLIGHT
BEGIN:STANDARD
TZOFFSETFROM:+0200
TZOFFSETTO:+0100
TZNAME:CET
DTSTART:20281029T010000
END:STANDARD
END:VTIMEZONE
BEGIN:VEVENT
DTSTART;TZID=Europe/Prague:20260720T080000
DTEND;TZID=Europe/Prague:20260720T130000
DTSTAMP:20260422T053742
CREATED:20240926T134840Z
LAST-MODIFIED:20240926T134840Z
UID:10001571-1784534400-1784552400@iwa-prague.com
SUMMARY:Golf
DESCRIPTION:
URL:https://iwa-prague.com/event/golf/2026-07-20/
CATEGORIES:Health & Wellness
ATTACH;FMTTYPE=image/jpeg:https://iwa-prague.com/wp-content/uploads/2021/03/Golf-May-2016-OPT.jpg
ORGANIZER;CN="Isolde Meinken":MAILTO:golf@iwa-prague.com
END:VEVENT
BEGIN:VEVENT
DTSTART;TZID=Europe/Prague:20260727T080000
DTEND;TZID=Europe/Prague:20260727T130000
DTSTAMP:20260422T053742
CREATED:20240926T134840Z
LAST-MODIFIED:20240926T134840Z
UID:10001572-1785139200-1785157200@iwa-prague.com
SUMMARY:Golf
DESCRIPTION:
URL:https://iwa-prague.com/event/golf/2026-07-27/
CATEGORIES:Health & Wellness
ATTACH;FMTTYPE=image/jpeg:https://iwa-prague.com/wp-content/uploads/2021/03/Golf-May-2016-OPT.jpg
ORGANIZER;CN="Isolde Meinken":MAILTO:golf@iwa-prague.com
END:VEVENT
BEGIN:VEVENT
DTSTART;TZID=Europe/Prague:20260803T080000
DTEND;TZID=Europe/Prague:20260803T130000
DTSTAMP:20260422T053742
CREATED:20240926T134840Z
LAST-MODIFIED:20240926T134840Z
UID:10001573-1785744000-1785762000@iwa-prague.com
SUMMARY:Golf
DESCRIPTION:
URL:https://iwa-prague.com/event/golf/2026-08-03/
CATEGORIES:Health & Wellness
ATTACH;FMTTYPE=image/jpeg:https://iwa-prague.com/wp-content/uploads/2021/03/Golf-May-2016-OPT.jpg
ORGANIZER;CN="Isolde Meinken":MAILTO:golf@iwa-prague.com
END:VEVENT
BEGIN:VEVENT
DTSTART;TZID=Europe/Prague:20260810T080000
DTEND;TZID=Europe/Prague:20260810T130000
DTSTAMP:20260422T053742
CREATED:20240926T134840Z
LAST-MODIFIED:20240926T134840Z
UID:10001574-1786348800-1786366800@iwa-prague.com
SUMMARY:Golf
DESCRIPTION:
URL:https://iwa-prague.com/event/golf/2026-08-10/
CATEGORIES:Health & Wellness
ATTACH;FMTTYPE=image/jpeg:https://iwa-prague.com/wp-content/uploads/2021/03/Golf-May-2016-OPT.jpg
ORGANIZER;CN="Isolde Meinken":MAILTO:golf@iwa-prague.com
END:VEVENT
BEGIN:VEVENT
DTSTART;TZID=Europe/Prague:20260817T080000
DTEND;TZID=Europe/Prague:20260817T130000
DTSTAMP:20260422T053742
CREATED:20240926T134840Z
LAST-MODIFIED:20240926T134840Z
UID:10001575-1786953600-1786971600@iwa-prague.com
SUMMARY:Golf
DESCRIPTION:
URL:https://iwa-prague.com/event/golf/2026-08-17/
CATEGORIES:Health & Wellness
ATTACH;FMTTYPE=image/jpeg:https://iwa-prague.com/wp-content/uploads/2021/03/Golf-May-2016-OPT.jpg
ORGANIZER;CN="Isolde Meinken":MAILTO:golf@iwa-prague.com
END:VEVENT
BEGIN:VEVENT
DTSTART;TZID=Europe/Prague:20260824T080000
DTEND;TZID=Europe/Prague:20260824T130000
DTSTAMP:20260422T053742
CREATED:20240926T134840Z
LAST-MODIFIED:20240926T134840Z
UID:10001576-1787558400-1787576400@iwa-prague.com
SUMMARY:Golf
DESCRIPTION:
URL:https://iwa-prague.com/event/golf/2026-08-24/
CATEGORIES:Health & Wellness
ATTACH;FMTTYPE=image/jpeg:https://iwa-prague.com/wp-content/uploads/2021/03/Golf-May-2016-OPT.jpg
ORGANIZER;CN="Isolde Meinken":MAILTO:golf@iwa-prague.com
END:VEVENT
BEGIN:VEVENT
DTSTART;TZID=Europe/Prague:20260831T080000
DTEND;TZID=Europe/Prague:20260831T130000
DTSTAMP:20260422T053742
CREATED:20240926T134840Z
LAST-MODIFIED:20240926T134840Z
UID:10001577-1788163200-1788181200@iwa-prague.com
SUMMARY:Golf
DESCRIPTION:
URL:https://iwa-prague.com/event/golf/2026-08-31/
CATEGORIES:Health & Wellness
ATTACH;FMTTYPE=image/jpeg:https://iwa-prague.com/wp-content/uploads/2021/03/Golf-May-2016-OPT.jpg
ORGANIZER;CN="Isolde Meinken":MAILTO:golf@iwa-prague.com
END:VEVENT
BEGIN:VEVENT
DTSTART;TZID=Europe/Prague:20260907T080000
DTEND;TZID=Europe/Prague:20260907T130000
DTSTAMP:20260422T053742
CREATED:20240926T134840Z
LAST-MODIFIED:20240926T134840Z
UID:10001578-1788768000-1788786000@iwa-prague.com
SUMMARY:Golf
DESCRIPTION:
URL:https://iwa-prague.com/event/golf/2026-09-07/
CATEGORIES:Health & Wellness
ATTACH;FMTTYPE=image/jpeg:https://iwa-prague.com/wp-content/uploads/2021/03/Golf-May-2016-OPT.jpg
ORGANIZER;CN="Isolde Meinken":MAILTO:golf@iwa-prague.com
END:VEVENT
BEGIN:VEVENT
DTSTART;TZID=Europe/Prague:20260914T080000
DTEND;TZID=Europe/Prague:20260914T130000
DTSTAMP:20260422T053742
CREATED:20240926T134840Z
LAST-MODIFIED:20240926T134840Z
UID:10001579-1789372800-1789390800@iwa-prague.com
SUMMARY:Golf
DESCRIPTION:
URL:https://iwa-prague.com/event/golf/2026-09-14/
CATEGORIES:Health & Wellness
ATTACH;FMTTYPE=image/jpeg:https://iwa-prague.com/wp-content/uploads/2021/03/Golf-May-2016-OPT.jpg
ORGANIZER;CN="Isolde Meinken":MAILTO:golf@iwa-prague.com
END:VEVENT
BEGIN:VEVENT
DTSTART;TZID=Europe/Prague:20260921T080000
DTEND;TZID=Europe/Prague:20260921T130000
DTSTAMP:20260422T053742
CREATED:20240926T134840Z
LAST-MODIFIED:20240926T134840Z
UID:10001580-1789977600-1789995600@iwa-prague.com
SUMMARY:Golf
DESCRIPTION:
URL:https://iwa-prague.com/event/golf/2026-09-21/
CATEGORIES:Health & Wellness
ATTACH;FMTTYPE=image/jpeg:https://iwa-prague.com/wp-content/uploads/2021/03/Golf-May-2016-OPT.jpg
ORGANIZER;CN="Isolde Meinken":MAILTO:golf@iwa-prague.com
END:VEVENT
BEGIN:VEVENT
DTSTART;TZID=Europe/Prague:20260928T080000
DTEND;TZID=Europe/Prague:20260928T130000
DTSTAMP:20260422T053742
CREATED:20240926T134840Z
LAST-MODIFIED:20240926T134840Z
UID:10001581-1790582400-1790600400@iwa-prague.com
SUMMARY:Golf
DESCRIPTION:
URL:https://iwa-prague.com/event/golf/2026-09-28/
CATEGORIES:Health & Wellness
ATTACH;FMTTYPE=image/jpeg:https://iwa-prague.com/wp-content/uploads/2021/03/Golf-May-2016-OPT.jpg
ORGANIZER;CN="Isolde Meinken":MAILTO:golf@iwa-prague.com
END:VEVENT
BEGIN:VEVENT
DTSTART;TZID=Europe/Prague:20261005T080000
DTEND;TZID=Europe/Prague:20261005T130000
DTSTAMP:20260422T053742
CREATED:20240926T134840Z
LAST-MODIFIED:20240926T134840Z
UID:10001582-1791187200-1791205200@iwa-prague.com
SUMMARY:Golf
DESCRIPTION:
URL:https://iwa-prague.com/event/golf/2026-10-05/
CATEGORIES:Health & Wellness
ATTACH;FMTTYPE=image/jpeg:https://iwa-prague.com/wp-content/uploads/2021/03/Golf-May-2016-OPT.jpg
ORGANIZER;CN="Isolde Meinken":MAILTO:golf@iwa-prague.com
END:VEVENT
BEGIN:VEVENT
DTSTART;TZID=Europe/Prague:20261012T080000
DTEND;TZID=Europe/Prague:20261012T130000
DTSTAMP:20260422T053742
CREATED:20240926T134840Z
LAST-MODIFIED:20240926T134840Z
UID:10001583-1791792000-1791810000@iwa-prague.com
SUMMARY:Golf
DESCRIPTION:
URL:https://iwa-prague.com/event/golf/2026-10-12/
CATEGORIES:Health & Wellness
ATTACH;FMTTYPE=image/jpeg:https://iwa-prague.com/wp-content/uploads/2021/03/Golf-May-2016-OPT.jpg
ORGANIZER;CN="Isolde Meinken":MAILTO:golf@iwa-prague.com
END:VEVENT
BEGIN:VEVENT
DTSTART;TZID=Europe/Prague:20261019T080000
DTEND;TZID=Europe/Prague:20261019T130000
DTSTAMP:20260422T053742
CREATED:20240926T134840Z
LAST-MODIFIED:20240926T134840Z
UID:10001584-1792396800-1792414800@iwa-prague.com
SUMMARY:Golf
DESCRIPTION:
URL:https://iwa-prague.com/event/golf/2026-10-19/
CATEGORIES:Health & Wellness
ATTACH;FMTTYPE=image/jpeg:https://iwa-prague.com/wp-content/uploads/2021/03/Golf-May-2016-OPT.jpg
ORGANIZER;CN="Isolde Meinken":MAILTO:golf@iwa-prague.com
END:VEVENT
BEGIN:VEVENT
DTSTART;TZID=Europe/Prague:20261026T080000
DTEND;TZID=Europe/Prague:20261026T130000
DTSTAMP:20260422T053742
CREATED:20240926T134840Z
LAST-MODIFIED:20240926T134840Z
UID:10001585-1793001600-1793019600@iwa-prague.com
SUMMARY:Golf
DESCRIPTION:
URL:https://iwa-prague.com/event/golf/2026-10-26/
CATEGORIES:Health & Wellness
ATTACH;FMTTYPE=image/jpeg:https://iwa-prague.com/wp-content/uploads/2021/03/Golf-May-2016-OPT.jpg
ORGANIZER;CN="Isolde Meinken":MAILTO:golf@iwa-prague.com
END:VEVENT
BEGIN:VEVENT
DTSTART;TZID=Europe/Prague:20261102T080000
DTEND;TZID=Europe/Prague:20261102T130000
DTSTAMP:20260422T053742
CREATED:20240926T134840Z
LAST-MODIFIED:20240926T134840Z
UID:10001586-1793606400-1793624400@iwa-prague.com
SUMMARY:Golf
DESCRIPTION:
URL:https://iwa-prague.com/event/golf/2026-11-02/
CATEGORIES:Health & Wellness
ATTACH;FMTTYPE=image/jpeg:https://iwa-prague.com/wp-content/uploads/2021/03/Golf-May-2016-OPT.jpg
ORGANIZER;CN="Isolde Meinken":MAILTO:golf@iwa-prague.com
END:VEVENT
BEGIN:VEVENT
DTSTART;TZID=Europe/Prague:20261109T080000
DTEND;TZID=Europe/Prague:20261109T130000
DTSTAMP:20260422T053742
CREATED:20240926T134840Z
LAST-MODIFIED:20240926T134840Z
UID:10001587-1794211200-1794229200@iwa-prague.com
SUMMARY:Golf
DESCRIPTION:
URL:https://iwa-prague.com/event/golf/2026-11-09/
CATEGORIES:Health & Wellness
ATTACH;FMTTYPE=image/jpeg:https://iwa-prague.com/wp-content/uploads/2021/03/Golf-May-2016-OPT.jpg
ORGANIZER;CN="Isolde Meinken":MAILTO:golf@iwa-prague.com
END:VEVENT
BEGIN:VEVENT
DTSTART;TZID=Europe/Prague:20261116T080000
DTEND;TZID=Europe/Prague:20261116T130000
DTSTAMP:20260422T053742
CREATED:20240926T134840Z
LAST-MODIFIED:20240926T134840Z
UID:10001588-1794816000-1794834000@iwa-prague.com
SUMMARY:Golf
DESCRIPTION:
URL:https://iwa-prague.com/event/golf/2026-11-16/
CATEGORIES:Health & Wellness
ATTACH;FMTTYPE=image/jpeg:https://iwa-prague.com/wp-content/uploads/2021/03/Golf-May-2016-OPT.jpg
ORGANIZER;CN="Isolde Meinken":MAILTO:golf@iwa-prague.com
END:VEVENT
BEGIN:VEVENT
DTSTART;TZID=Europe/Prague:20261123T080000
DTEND;TZID=Europe/Prague:20261123T130000
DTSTAMP:20260422T053742
CREATED:20240926T134840Z
LAST-MODIFIED:20240926T134840Z
UID:10001589-1795420800-1795438800@iwa-prague.com
SUMMARY:Golf
DESCRIPTION:
URL:https://iwa-prague.com/event/golf/2026-11-23/
CATEGORIES:Health & Wellness
ATTACH;FMTTYPE=image/jpeg:https://iwa-prague.com/wp-content/uploads/2021/03/Golf-May-2016-OPT.jpg
ORGANIZER;CN="Isolde Meinken":MAILTO:golf@iwa-prague.com
END:VEVENT
BEGIN:VEVENT
DTSTART;TZID=Europe/Prague:20261130T080000
DTEND;TZID=Europe/Prague:20261130T130000
DTSTAMP:20260422T053742
CREATED:20240926T134840Z
LAST-MODIFIED:20240926T134840Z
UID:10001590-1796025600-1796043600@iwa-prague.com
SUMMARY:Golf
DESCRIPTION:
URL:https://iwa-prague.com/event/golf/2026-11-30/
CATEGORIES:Health & Wellness
ATTACH;FMTTYPE=image/jpeg:https://iwa-prague.com/wp-content/uploads/2021/03/Golf-May-2016-OPT.jpg
ORGANIZER;CN="Isolde Meinken":MAILTO:golf@iwa-prague.com
END:VEVENT
BEGIN:VEVENT
DTSTART;TZID=Europe/Prague:20261207T080000
DTEND;TZID=Europe/Prague:20261207T130000
DTSTAMP:20260422T053742
CREATED:20240926T134840Z
LAST-MODIFIED:20240926T134840Z
UID:10001591-1796630400-1796648400@iwa-prague.com
SUMMARY:Golf
DESCRIPTION:
URL:https://iwa-prague.com/event/golf/2026-12-07/
CATEGORIES:Health & Wellness
ATTACH;FMTTYPE=image/jpeg:https://iwa-prague.com/wp-content/uploads/2021/03/Golf-May-2016-OPT.jpg
ORGANIZER;CN="Isolde Meinken":MAILTO:golf@iwa-prague.com
END:VEVENT
BEGIN:VEVENT
DTSTART;TZID=Europe/Prague:20261214T080000
DTEND;TZID=Europe/Prague:20261214T130000
DTSTAMP:20260422T053742
CREATED:20240926T134840Z
LAST-MODIFIED:20240926T134840Z
UID:10001592-1797235200-1797253200@iwa-prague.com
SUMMARY:Golf
DESCRIPTION:
URL:https://iwa-prague.com/event/golf/2026-12-14/
CATEGORIES:Health & Wellness
ATTACH;FMTTYPE=image/jpeg:https://iwa-prague.com/wp-content/uploads/2021/03/Golf-May-2016-OPT.jpg
ORGANIZER;CN="Isolde Meinken":MAILTO:golf@iwa-prague.com
END:VEVENT
BEGIN:VEVENT
DTSTART;TZID=Europe/Prague:20261221T080000
DTEND;TZID=Europe/Prague:20261221T130000
DTSTAMP:20260422T053742
CREATED:20240926T134840Z
LAST-MODIFIED:20240926T134840Z
UID:10001593-1797840000-1797858000@iwa-prague.com
SUMMARY:Golf
DESCRIPTION:
URL:https://iwa-prague.com/event/golf/2026-12-21/
CATEGORIES:Health & Wellness
ATTACH;FMTTYPE=image/jpeg:https://iwa-prague.com/wp-content/uploads/2021/03/Golf-May-2016-OPT.jpg
ORGANIZER;CN="Isolde Meinken":MAILTO:golf@iwa-prague.com
END:VEVENT
BEGIN:VEVENT
DTSTART;TZID=Europe/Prague:20261228T080000
DTEND;TZID=Europe/Prague:20261228T130000
DTSTAMP:20260422T053742
CREATED:20240926T134840Z
LAST-MODIFIED:20240926T134840Z
UID:10001594-1798444800-1798462800@iwa-prague.com
SUMMARY:Golf
DESCRIPTION:
URL:https://iwa-prague.com/event/golf/2026-12-28/
CATEGORIES:Health & Wellness
ATTACH;FMTTYPE=image/jpeg:https://iwa-prague.com/wp-content/uploads/2021/03/Golf-May-2016-OPT.jpg
ORGANIZER;CN="Isolde Meinken":MAILTO:golf@iwa-prague.com
END:VEVENT
BEGIN:VEVENT
DTSTART;TZID=Europe/Prague:20270104T080000
DTEND;TZID=Europe/Prague:20270104T130000
DTSTAMP:20260422T053742
CREATED:20240926T134840Z
LAST-MODIFIED:20240926T134840Z
UID:10001595-1799049600-1799067600@iwa-prague.com
SUMMARY:Golf
DESCRIPTION:
URL:https://iwa-prague.com/event/golf/2027-01-04/
CATEGORIES:Health & Wellness
ATTACH;FMTTYPE=image/jpeg:https://iwa-prague.com/wp-content/uploads/2021/03/Golf-May-2016-OPT.jpg
ORGANIZER;CN="Isolde Meinken":MAILTO:golf@iwa-prague.com
END:VEVENT
BEGIN:VEVENT
DTSTART;TZID=Europe/Prague:20270111T080000
DTEND;TZID=Europe/Prague:20270111T130000
DTSTAMP:20260422T053742
CREATED:20240926T134840Z
LAST-MODIFIED:20240926T134840Z
UID:10001596-1799654400-1799672400@iwa-prague.com
SUMMARY:Golf
DESCRIPTION:
URL:https://iwa-prague.com/event/golf/2027-01-11/
CATEGORIES:Health & Wellness
ATTACH;FMTTYPE=image/jpeg:https://iwa-prague.com/wp-content/uploads/2021/03/Golf-May-2016-OPT.jpg
ORGANIZER;CN="Isolde Meinken":MAILTO:golf@iwa-prague.com
END:VEVENT
BEGIN:VEVENT
DTSTART;TZID=Europe/Prague:20270118T080000
DTEND;TZID=Europe/Prague:20270118T130000
DTSTAMP:20260422T053742
CREATED:20240926T134840Z
LAST-MODIFIED:20240926T134840Z
UID:10001597-1800259200-1800277200@iwa-prague.com
SUMMARY:Golf
DESCRIPTION:
URL:https://iwa-prague.com/event/golf/2027-01-18/
CATEGORIES:Health & Wellness
ATTACH;FMTTYPE=image/jpeg:https://iwa-prague.com/wp-content/uploads/2021/03/Golf-May-2016-OPT.jpg
ORGANIZER;CN="Isolde Meinken":MAILTO:golf@iwa-prague.com
END:VEVENT
BEGIN:VEVENT
DTSTART;TZID=Europe/Prague:20270125T080000
DTEND;TZID=Europe/Prague:20270125T130000
DTSTAMP:20260422T053742
CREATED:20240926T134840Z
LAST-MODIFIED:20240926T134840Z
UID:10001598-1800864000-1800882000@iwa-prague.com
SUMMARY:Golf
DESCRIPTION:
URL:https://iwa-prague.com/event/golf/2027-01-25/
CATEGORIES:Health & Wellness
ATTACH;FMTTYPE=image/jpeg:https://iwa-prague.com/wp-content/uploads/2021/03/Golf-May-2016-OPT.jpg
ORGANIZER;CN="Isolde Meinken":MAILTO:golf@iwa-prague.com
END:VEVENT
BEGIN:VEVENT
DTSTART;TZID=Europe/Prague:20270201T080000
DTEND;TZID=Europe/Prague:20270201T130000
DTSTAMP:20260422T053742
CREATED:20240926T134840Z
LAST-MODIFIED:20240926T134840Z
UID:10001599-1801468800-1801486800@iwa-prague.com
SUMMARY:Golf
DESCRIPTION:
URL:https://iwa-prague.com/event/golf/2027-02-01/
CATEGORIES:Health & Wellness
ATTACH;FMTTYPE=image/jpeg:https://iwa-prague.com/wp-content/uploads/2021/03/Golf-May-2016-OPT.jpg
ORGANIZER;CN="Isolde Meinken":MAILTO:golf@iwa-prague.com
END:VEVENT
BEGIN:VEVENT
DTSTART;TZID=Europe/Prague:20270208T080000
DTEND;TZID=Europe/Prague:20270208T130000
DTSTAMP:20260422T053742
CREATED:20240926T134840Z
LAST-MODIFIED:20240926T134840Z
UID:10001600-1802073600-1802091600@iwa-prague.com
SUMMARY:Golf
DESCRIPTION:
URL:https://iwa-prague.com/event/golf/2027-02-08/
CATEGORIES:Health & Wellness
ATTACH;FMTTYPE=image/jpeg:https://iwa-prague.com/wp-content/uploads/2021/03/Golf-May-2016-OPT.jpg
ORGANIZER;CN="Isolde Meinken":MAILTO:golf@iwa-prague.com
END:VEVENT
END:VCALENDAR