BEGIN:VCALENDAR
VERSION:2.0
PRODID:-//International Women&#039;s Association of Prague - ECPv6.15.20//NONSGML v1.0//EN
CALSCALE:GREGORIAN
METHOD:PUBLISH
X-WR-CALNAME:International Women&#039;s Association of Prague
X-ORIGINAL-URL:https://iwa-prague.com
X-WR-CALDESC:Events for International Women&#039;s Association of Prague
REFRESH-INTERVAL;VALUE=DURATION:PT1H
X-Robots-Tag:noindex
X-PUBLISHED-TTL:PT1H
BEGIN:VTIMEZONE
TZID:Europe/Prague
BEGIN:DAYLIGHT
TZOFFSETFROM:+0100
TZOFFSETTO:+0200
TZNAME:CEST
DTSTART:20250330T010000
END:DAYLIGHT
BEGIN:STANDARD
TZOFFSETFROM:+0200
TZOFFSETTO:+0100
TZNAME:CET
DTSTART:20251026T010000
END:STANDARD
BEGIN:DAYLIGHT
TZOFFSETFROM:+0100
TZOFFSETTO:+0200
TZNAME:CEST
DTSTART:20260329T010000
END:DAYLIGHT
BEGIN:STANDARD
TZOFFSETFROM:+0200
TZOFFSETTO:+0100
TZNAME:CET
DTSTART:20261025T010000
END:STANDARD
BEGIN:DAYLIGHT
TZOFFSETFROM:+0100
TZOFFSETTO:+0200
TZNAME:CEST
DTSTART:20270328T010000
END:DAYLIGHT
BEGIN:STANDARD
TZOFFSETFROM:+0200
TZOFFSETTO:+0100
TZNAME:CET
DTSTART:20271031T010000
END:STANDARD
BEGIN:DAYLIGHT
TZOFFSETFROM:+0100
TZOFFSETTO:+0200
TZNAME:CEST
DTSTART:20280326T010000
END:DAYLIGHT
BEGIN:STANDARD
TZOFFSETFROM:+0200
TZOFFSETTO:+0100
TZNAME:CET
DTSTART:20281029T010000
END:STANDARD
END:VTIMEZONE
BEGIN:VEVENT
DTSTART;TZID=Europe/Prague:20260720T103000
DTEND;TZID=Europe/Prague:20260720T120000
DTSTAMP:20260423T230802
CREATED:20240926T134257Z
LAST-MODIFIED:20251209T154753Z
UID:10005739-1784543400-1784548800@iwa-prague.com
SUMMARY:French Conversation
DESCRIPTION:
URL:https://iwa-prague.com/event/french-conversation/2026-07-20/
CATEGORIES:Languages
ATTACH;FMTTYPE=image/jpeg:https://iwa-prague.com/wp-content/uploads/2021/05/French-Group-reading-2016-OPT3.jpg
ORGANIZER;CN="Dominic Kopecky":MAILTO:french@iwa-prague.com
END:VEVENT
BEGIN:VEVENT
DTSTART;TZID=Europe/Prague:20260727T103000
DTEND;TZID=Europe/Prague:20260727T120000
DTSTAMP:20260423T230802
CREATED:20240926T134257Z
LAST-MODIFIED:20251209T154753Z
UID:10005740-1785148200-1785153600@iwa-prague.com
SUMMARY:French Conversation
DESCRIPTION:
URL:https://iwa-prague.com/event/french-conversation/2026-07-27/
CATEGORIES:Languages
ATTACH;FMTTYPE=image/jpeg:https://iwa-prague.com/wp-content/uploads/2021/05/French-Group-reading-2016-OPT3.jpg
ORGANIZER;CN="Dominic Kopecky":MAILTO:french@iwa-prague.com
END:VEVENT
BEGIN:VEVENT
DTSTART;TZID=Europe/Prague:20260803T103000
DTEND;TZID=Europe/Prague:20260803T120000
DTSTAMP:20260423T230802
CREATED:20240926T134257Z
LAST-MODIFIED:20251209T154753Z
UID:10005741-1785753000-1785758400@iwa-prague.com
SUMMARY:French Conversation
DESCRIPTION:
URL:https://iwa-prague.com/event/french-conversation/2026-08-03/
CATEGORIES:Languages
ATTACH;FMTTYPE=image/jpeg:https://iwa-prague.com/wp-content/uploads/2021/05/French-Group-reading-2016-OPT3.jpg
ORGANIZER;CN="Dominic Kopecky":MAILTO:french@iwa-prague.com
END:VEVENT
BEGIN:VEVENT
DTSTART;TZID=Europe/Prague:20260810T103000
DTEND;TZID=Europe/Prague:20260810T120000
DTSTAMP:20260423T230802
CREATED:20240926T134257Z
LAST-MODIFIED:20251209T154753Z
UID:10005742-1786357800-1786363200@iwa-prague.com
SUMMARY:French Conversation
DESCRIPTION:
URL:https://iwa-prague.com/event/french-conversation/2026-08-10/
CATEGORIES:Languages
ATTACH;FMTTYPE=image/jpeg:https://iwa-prague.com/wp-content/uploads/2021/05/French-Group-reading-2016-OPT3.jpg
ORGANIZER;CN="Dominic Kopecky":MAILTO:french@iwa-prague.com
END:VEVENT
BEGIN:VEVENT
DTSTART;TZID=Europe/Prague:20260817T103000
DTEND;TZID=Europe/Prague:20260817T120000
DTSTAMP:20260423T230802
CREATED:20240926T134257Z
LAST-MODIFIED:20251209T154753Z
UID:10005743-1786962600-1786968000@iwa-prague.com
SUMMARY:French Conversation
DESCRIPTION:
URL:https://iwa-prague.com/event/french-conversation/2026-08-17/
CATEGORIES:Languages
ATTACH;FMTTYPE=image/jpeg:https://iwa-prague.com/wp-content/uploads/2021/05/French-Group-reading-2016-OPT3.jpg
ORGANIZER;CN="Dominic Kopecky":MAILTO:french@iwa-prague.com
END:VEVENT
BEGIN:VEVENT
DTSTART;TZID=Europe/Prague:20260824T103000
DTEND;TZID=Europe/Prague:20260824T120000
DTSTAMP:20260423T230802
CREATED:20240926T134257Z
LAST-MODIFIED:20251209T154753Z
UID:10005744-1787567400-1787572800@iwa-prague.com
SUMMARY:French Conversation
DESCRIPTION:
URL:https://iwa-prague.com/event/french-conversation/2026-08-24/
CATEGORIES:Languages
ATTACH;FMTTYPE=image/jpeg:https://iwa-prague.com/wp-content/uploads/2021/05/French-Group-reading-2016-OPT3.jpg
ORGANIZER;CN="Dominic Kopecky":MAILTO:french@iwa-prague.com
END:VEVENT
BEGIN:VEVENT
DTSTART;TZID=Europe/Prague:20260831T103000
DTEND;TZID=Europe/Prague:20260831T120000
DTSTAMP:20260423T230802
CREATED:20240926T134257Z
LAST-MODIFIED:20251209T154753Z
UID:10005745-1788172200-1788177600@iwa-prague.com
SUMMARY:French Conversation
DESCRIPTION:
URL:https://iwa-prague.com/event/french-conversation/2026-08-31/
CATEGORIES:Languages
ATTACH;FMTTYPE=image/jpeg:https://iwa-prague.com/wp-content/uploads/2021/05/French-Group-reading-2016-OPT3.jpg
ORGANIZER;CN="Dominic Kopecky":MAILTO:french@iwa-prague.com
END:VEVENT
BEGIN:VEVENT
DTSTART;TZID=Europe/Prague:20260907T103000
DTEND;TZID=Europe/Prague:20260907T120000
DTSTAMP:20260423T230802
CREATED:20240926T134257Z
LAST-MODIFIED:20251209T154753Z
UID:10005746-1788777000-1788782400@iwa-prague.com
SUMMARY:French Conversation
DESCRIPTION:
URL:https://iwa-prague.com/event/french-conversation/2026-09-07/
CATEGORIES:Languages
ATTACH;FMTTYPE=image/jpeg:https://iwa-prague.com/wp-content/uploads/2021/05/French-Group-reading-2016-OPT3.jpg
ORGANIZER;CN="Dominic Kopecky":MAILTO:french@iwa-prague.com
END:VEVENT
BEGIN:VEVENT
DTSTART;TZID=Europe/Prague:20260914T103000
DTEND;TZID=Europe/Prague:20260914T120000
DTSTAMP:20260423T230802
CREATED:20240926T134257Z
LAST-MODIFIED:20251209T154753Z
UID:10005747-1789381800-1789387200@iwa-prague.com
SUMMARY:French Conversation
DESCRIPTION:
URL:https://iwa-prague.com/event/french-conversation/2026-09-14/
CATEGORIES:Languages
ATTACH;FMTTYPE=image/jpeg:https://iwa-prague.com/wp-content/uploads/2021/05/French-Group-reading-2016-OPT3.jpg
ORGANIZER;CN="Dominic Kopecky":MAILTO:french@iwa-prague.com
END:VEVENT
BEGIN:VEVENT
DTSTART;TZID=Europe/Prague:20260921T103000
DTEND;TZID=Europe/Prague:20260921T120000
DTSTAMP:20260423T230802
CREATED:20240926T134257Z
LAST-MODIFIED:20251209T154753Z
UID:10005748-1789986600-1789992000@iwa-prague.com
SUMMARY:French Conversation
DESCRIPTION:
URL:https://iwa-prague.com/event/french-conversation/2026-09-21/
CATEGORIES:Languages
ATTACH;FMTTYPE=image/jpeg:https://iwa-prague.com/wp-content/uploads/2021/05/French-Group-reading-2016-OPT3.jpg
ORGANIZER;CN="Dominic Kopecky":MAILTO:french@iwa-prague.com
END:VEVENT
BEGIN:VEVENT
DTSTART;TZID=Europe/Prague:20260928T103000
DTEND;TZID=Europe/Prague:20260928T120000
DTSTAMP:20260423T230802
CREATED:20240926T134257Z
LAST-MODIFIED:20251209T154753Z
UID:10005749-1790591400-1790596800@iwa-prague.com
SUMMARY:French Conversation
DESCRIPTION:
URL:https://iwa-prague.com/event/french-conversation/2026-09-28/
CATEGORIES:Languages
ATTACH;FMTTYPE=image/jpeg:https://iwa-prague.com/wp-content/uploads/2021/05/French-Group-reading-2016-OPT3.jpg
ORGANIZER;CN="Dominic Kopecky":MAILTO:french@iwa-prague.com
END:VEVENT
BEGIN:VEVENT
DTSTART;TZID=Europe/Prague:20261005T103000
DTEND;TZID=Europe/Prague:20261005T120000
DTSTAMP:20260423T230802
CREATED:20240926T134257Z
LAST-MODIFIED:20251209T154753Z
UID:10005750-1791196200-1791201600@iwa-prague.com
SUMMARY:French Conversation
DESCRIPTION:
URL:https://iwa-prague.com/event/french-conversation/2026-10-05/
CATEGORIES:Languages
ATTACH;FMTTYPE=image/jpeg:https://iwa-prague.com/wp-content/uploads/2021/05/French-Group-reading-2016-OPT3.jpg
ORGANIZER;CN="Dominic Kopecky":MAILTO:french@iwa-prague.com
END:VEVENT
BEGIN:VEVENT
DTSTART;TZID=Europe/Prague:20261012T103000
DTEND;TZID=Europe/Prague:20261012T120000
DTSTAMP:20260423T230802
CREATED:20240926T134257Z
LAST-MODIFIED:20251209T154753Z
UID:10005751-1791801000-1791806400@iwa-prague.com
SUMMARY:French Conversation
DESCRIPTION:
URL:https://iwa-prague.com/event/french-conversation/2026-10-12/
CATEGORIES:Languages
ATTACH;FMTTYPE=image/jpeg:https://iwa-prague.com/wp-content/uploads/2021/05/French-Group-reading-2016-OPT3.jpg
ORGANIZER;CN="Dominic Kopecky":MAILTO:french@iwa-prague.com
END:VEVENT
BEGIN:VEVENT
DTSTART;TZID=Europe/Prague:20261019T103000
DTEND;TZID=Europe/Prague:20261019T120000
DTSTAMP:20260423T230802
CREATED:20240926T134257Z
LAST-MODIFIED:20251209T154753Z
UID:10005752-1792405800-1792411200@iwa-prague.com
SUMMARY:French Conversation
DESCRIPTION:
URL:https://iwa-prague.com/event/french-conversation/2026-10-19/
CATEGORIES:Languages
ATTACH;FMTTYPE=image/jpeg:https://iwa-prague.com/wp-content/uploads/2021/05/French-Group-reading-2016-OPT3.jpg
ORGANIZER;CN="Dominic Kopecky":MAILTO:french@iwa-prague.com
END:VEVENT
BEGIN:VEVENT
DTSTART;TZID=Europe/Prague:20261026T103000
DTEND;TZID=Europe/Prague:20261026T120000
DTSTAMP:20260423T230802
CREATED:20240926T134257Z
LAST-MODIFIED:20251209T154753Z
UID:10005753-1793010600-1793016000@iwa-prague.com
SUMMARY:French Conversation
DESCRIPTION:
URL:https://iwa-prague.com/event/french-conversation/2026-10-26/
CATEGORIES:Languages
ATTACH;FMTTYPE=image/jpeg:https://iwa-prague.com/wp-content/uploads/2021/05/French-Group-reading-2016-OPT3.jpg
ORGANIZER;CN="Dominic Kopecky":MAILTO:french@iwa-prague.com
END:VEVENT
BEGIN:VEVENT
DTSTART;TZID=Europe/Prague:20261102T103000
DTEND;TZID=Europe/Prague:20261102T120000
DTSTAMP:20260423T230802
CREATED:20240926T134257Z
LAST-MODIFIED:20251209T154753Z
UID:10005754-1793615400-1793620800@iwa-prague.com
SUMMARY:French Conversation
DESCRIPTION:
URL:https://iwa-prague.com/event/french-conversation/2026-11-02/
CATEGORIES:Languages
ATTACH;FMTTYPE=image/jpeg:https://iwa-prague.com/wp-content/uploads/2021/05/French-Group-reading-2016-OPT3.jpg
ORGANIZER;CN="Dominic Kopecky":MAILTO:french@iwa-prague.com
END:VEVENT
BEGIN:VEVENT
DTSTART;TZID=Europe/Prague:20261109T103000
DTEND;TZID=Europe/Prague:20261109T120000
DTSTAMP:20260423T230802
CREATED:20240926T134257Z
LAST-MODIFIED:20251209T154753Z
UID:10005755-1794220200-1794225600@iwa-prague.com
SUMMARY:French Conversation
DESCRIPTION:
URL:https://iwa-prague.com/event/french-conversation/2026-11-09/
CATEGORIES:Languages
ATTACH;FMTTYPE=image/jpeg:https://iwa-prague.com/wp-content/uploads/2021/05/French-Group-reading-2016-OPT3.jpg
ORGANIZER;CN="Dominic Kopecky":MAILTO:french@iwa-prague.com
END:VEVENT
BEGIN:VEVENT
DTSTART;TZID=Europe/Prague:20261116T103000
DTEND;TZID=Europe/Prague:20261116T120000
DTSTAMP:20260423T230802
CREATED:20240926T134257Z
LAST-MODIFIED:20251209T154753Z
UID:10005756-1794825000-1794830400@iwa-prague.com
SUMMARY:French Conversation
DESCRIPTION:
URL:https://iwa-prague.com/event/french-conversation/2026-11-16/
CATEGORIES:Languages
ATTACH;FMTTYPE=image/jpeg:https://iwa-prague.com/wp-content/uploads/2021/05/French-Group-reading-2016-OPT3.jpg
ORGANIZER;CN="Dominic Kopecky":MAILTO:french@iwa-prague.com
END:VEVENT
BEGIN:VEVENT
DTSTART;TZID=Europe/Prague:20261123T103000
DTEND;TZID=Europe/Prague:20261123T120000
DTSTAMP:20260423T230802
CREATED:20240926T134257Z
LAST-MODIFIED:20251209T154753Z
UID:10005757-1795429800-1795435200@iwa-prague.com
SUMMARY:French Conversation
DESCRIPTION:
URL:https://iwa-prague.com/event/french-conversation/2026-11-23/
CATEGORIES:Languages
ATTACH;FMTTYPE=image/jpeg:https://iwa-prague.com/wp-content/uploads/2021/05/French-Group-reading-2016-OPT3.jpg
ORGANIZER;CN="Dominic Kopecky":MAILTO:french@iwa-prague.com
END:VEVENT
BEGIN:VEVENT
DTSTART;TZID=Europe/Prague:20261130T103000
DTEND;TZID=Europe/Prague:20261130T120000
DTSTAMP:20260423T230802
CREATED:20240926T134257Z
LAST-MODIFIED:20251209T154753Z
UID:10005758-1796034600-1796040000@iwa-prague.com
SUMMARY:French Conversation
DESCRIPTION:
URL:https://iwa-prague.com/event/french-conversation/2026-11-30/
CATEGORIES:Languages
ATTACH;FMTTYPE=image/jpeg:https://iwa-prague.com/wp-content/uploads/2021/05/French-Group-reading-2016-OPT3.jpg
ORGANIZER;CN="Dominic Kopecky":MAILTO:french@iwa-prague.com
END:VEVENT
BEGIN:VEVENT
DTSTART;TZID=Europe/Prague:20261207T103000
DTEND;TZID=Europe/Prague:20261207T120000
DTSTAMP:20260423T230802
CREATED:20240926T134257Z
LAST-MODIFIED:20251209T154753Z
UID:10005759-1796639400-1796644800@iwa-prague.com
SUMMARY:French Conversation
DESCRIPTION:
URL:https://iwa-prague.com/event/french-conversation/2026-12-07/
CATEGORIES:Languages
ATTACH;FMTTYPE=image/jpeg:https://iwa-prague.com/wp-content/uploads/2021/05/French-Group-reading-2016-OPT3.jpg
ORGANIZER;CN="Dominic Kopecky":MAILTO:french@iwa-prague.com
END:VEVENT
BEGIN:VEVENT
DTSTART;TZID=Europe/Prague:20261214T103000
DTEND;TZID=Europe/Prague:20261214T120000
DTSTAMP:20260423T230802
CREATED:20240926T134257Z
LAST-MODIFIED:20251209T154753Z
UID:10005760-1797244200-1797249600@iwa-prague.com
SUMMARY:French Conversation
DESCRIPTION:
URL:https://iwa-prague.com/event/french-conversation/2026-12-14/
CATEGORIES:Languages
ATTACH;FMTTYPE=image/jpeg:https://iwa-prague.com/wp-content/uploads/2021/05/French-Group-reading-2016-OPT3.jpg
ORGANIZER;CN="Dominic Kopecky":MAILTO:french@iwa-prague.com
END:VEVENT
BEGIN:VEVENT
DTSTART;TZID=Europe/Prague:20261221T103000
DTEND;TZID=Europe/Prague:20261221T120000
DTSTAMP:20260423T230802
CREATED:20240926T134257Z
LAST-MODIFIED:20251209T154753Z
UID:10005761-1797849000-1797854400@iwa-prague.com
SUMMARY:French Conversation
DESCRIPTION:
URL:https://iwa-prague.com/event/french-conversation/2026-12-21/
CATEGORIES:Languages
ATTACH;FMTTYPE=image/jpeg:https://iwa-prague.com/wp-content/uploads/2021/05/French-Group-reading-2016-OPT3.jpg
ORGANIZER;CN="Dominic Kopecky":MAILTO:french@iwa-prague.com
END:VEVENT
BEGIN:VEVENT
DTSTART;TZID=Europe/Prague:20261228T103000
DTEND;TZID=Europe/Prague:20261228T120000
DTSTAMP:20260423T230802
CREATED:20240926T134257Z
LAST-MODIFIED:20251209T154753Z
UID:10005762-1798453800-1798459200@iwa-prague.com
SUMMARY:French Conversation
DESCRIPTION:
URL:https://iwa-prague.com/event/french-conversation/2026-12-28/
CATEGORIES:Languages
ATTACH;FMTTYPE=image/jpeg:https://iwa-prague.com/wp-content/uploads/2021/05/French-Group-reading-2016-OPT3.jpg
ORGANIZER;CN="Dominic Kopecky":MAILTO:french@iwa-prague.com
END:VEVENT
BEGIN:VEVENT
DTSTART;TZID=Europe/Prague:20270104T103000
DTEND;TZID=Europe/Prague:20270104T120000
DTSTAMP:20260423T230802
CREATED:20240926T134257Z
LAST-MODIFIED:20251209T154753Z
UID:10005763-1799058600-1799064000@iwa-prague.com
SUMMARY:French Conversation
DESCRIPTION:
URL:https://iwa-prague.com/event/french-conversation/2027-01-04/
CATEGORIES:Languages
ATTACH;FMTTYPE=image/jpeg:https://iwa-prague.com/wp-content/uploads/2021/05/French-Group-reading-2016-OPT3.jpg
ORGANIZER;CN="Dominic Kopecky":MAILTO:french@iwa-prague.com
END:VEVENT
BEGIN:VEVENT
DTSTART;TZID=Europe/Prague:20270111T103000
DTEND;TZID=Europe/Prague:20270111T120000
DTSTAMP:20260423T230802
CREATED:20240926T134257Z
LAST-MODIFIED:20251209T154753Z
UID:10005764-1799663400-1799668800@iwa-prague.com
SUMMARY:French Conversation
DESCRIPTION:
URL:https://iwa-prague.com/event/french-conversation/2027-01-11/
CATEGORIES:Languages
ATTACH;FMTTYPE=image/jpeg:https://iwa-prague.com/wp-content/uploads/2021/05/French-Group-reading-2016-OPT3.jpg
ORGANIZER;CN="Dominic Kopecky":MAILTO:french@iwa-prague.com
END:VEVENT
BEGIN:VEVENT
DTSTART;TZID=Europe/Prague:20270118T103000
DTEND;TZID=Europe/Prague:20270118T120000
DTSTAMP:20260423T230802
CREATED:20240926T134257Z
LAST-MODIFIED:20251209T154753Z
UID:10005765-1800268200-1800273600@iwa-prague.com
SUMMARY:French Conversation
DESCRIPTION:
URL:https://iwa-prague.com/event/french-conversation/2027-01-18/
CATEGORIES:Languages
ATTACH;FMTTYPE=image/jpeg:https://iwa-prague.com/wp-content/uploads/2021/05/French-Group-reading-2016-OPT3.jpg
ORGANIZER;CN="Dominic Kopecky":MAILTO:french@iwa-prague.com
END:VEVENT
BEGIN:VEVENT
DTSTART;TZID=Europe/Prague:20270125T103000
DTEND;TZID=Europe/Prague:20270125T120000
DTSTAMP:20260423T230802
CREATED:20240926T134257Z
LAST-MODIFIED:20251209T154753Z
UID:10005766-1800873000-1800878400@iwa-prague.com
SUMMARY:French Conversation
DESCRIPTION:
URL:https://iwa-prague.com/event/french-conversation/2027-01-25/
CATEGORIES:Languages
ATTACH;FMTTYPE=image/jpeg:https://iwa-prague.com/wp-content/uploads/2021/05/French-Group-reading-2016-OPT3.jpg
ORGANIZER;CN="Dominic Kopecky":MAILTO:french@iwa-prague.com
END:VEVENT
BEGIN:VEVENT
DTSTART;TZID=Europe/Prague:20270201T103000
DTEND;TZID=Europe/Prague:20270201T120000
DTSTAMP:20260423T230802
CREATED:20240926T134257Z
LAST-MODIFIED:20251209T154753Z
UID:10005767-1801477800-1801483200@iwa-prague.com
SUMMARY:French Conversation
DESCRIPTION:
URL:https://iwa-prague.com/event/french-conversation/2027-02-01/
CATEGORIES:Languages
ATTACH;FMTTYPE=image/jpeg:https://iwa-prague.com/wp-content/uploads/2021/05/French-Group-reading-2016-OPT3.jpg
ORGANIZER;CN="Dominic Kopecky":MAILTO:french@iwa-prague.com
END:VEVENT
BEGIN:VEVENT
DTSTART;TZID=Europe/Prague:20270208T103000
DTEND;TZID=Europe/Prague:20270208T120000
DTSTAMP:20260423T230802
CREATED:20240926T134257Z
LAST-MODIFIED:20251209T154753Z
UID:10005768-1802082600-1802088000@iwa-prague.com
SUMMARY:French Conversation
DESCRIPTION:
URL:https://iwa-prague.com/event/french-conversation/2027-02-08/
CATEGORIES:Languages
ATTACH;FMTTYPE=image/jpeg:https://iwa-prague.com/wp-content/uploads/2021/05/French-Group-reading-2016-OPT3.jpg
ORGANIZER;CN="Dominic Kopecky":MAILTO:french@iwa-prague.com
END:VEVENT
END:VCALENDAR