BEGIN:VCALENDAR
VERSION:2.0
PRODID:-//International Women&#039;s Association of Prague - ECPv6.15.20//NONSGML v1.0//EN
CALSCALE:GREGORIAN
METHOD:PUBLISH
X-ORIGINAL-URL:https://iwa-prague.com
X-WR-CALDESC:Events for International Women&#039;s Association of Prague
REFRESH-INTERVAL;VALUE=DURATION:PT1H
X-Robots-Tag:noindex
X-PUBLISHED-TTL:PT1H
BEGIN:VTIMEZONE
TZID:Europe/Prague
BEGIN:DAYLIGHT
TZOFFSETFROM:+0100
TZOFFSETTO:+0200
TZNAME:CEST
DTSTART:20270328T010000
END:DAYLIGHT
BEGIN:STANDARD
TZOFFSETFROM:+0200
TZOFFSETTO:+0100
TZNAME:CET
DTSTART:20271031T010000
END:STANDARD
BEGIN:DAYLIGHT
TZOFFSETFROM:+0100
TZOFFSETTO:+0200
TZNAME:CEST
DTSTART:20280326T010000
END:DAYLIGHT
BEGIN:STANDARD
TZOFFSETFROM:+0200
TZOFFSETTO:+0100
TZNAME:CET
DTSTART:20281029T010000
END:STANDARD
BEGIN:DAYLIGHT
TZOFFSETFROM:+0100
TZOFFSETTO:+0200
TZNAME:CEST
DTSTART:20290325T010000
END:DAYLIGHT
BEGIN:STANDARD
TZOFFSETFROM:+0200
TZOFFSETTO:+0100
TZNAME:CET
DTSTART:20291028T010000
END:STANDARD
BEGIN:DAYLIGHT
TZOFFSETFROM:+0100
TZOFFSETTO:+0200
TZNAME:CEST
DTSTART:20300331T010000
END:DAYLIGHT
BEGIN:STANDARD
TZOFFSETFROM:+0200
TZOFFSETTO:+0100
TZNAME:CET
DTSTART:20301027T010000
END:STANDARD
BEGIN:DAYLIGHT
TZOFFSETFROM:+0100
TZOFFSETTO:+0200
TZNAME:CEST
DTSTART:20310330T010000
END:DAYLIGHT
BEGIN:STANDARD
TZOFFSETFROM:+0200
TZOFFSETTO:+0100
TZNAME:CET
DTSTART:20311026T010000
END:STANDARD
END:VTIMEZONE
BEGIN:VEVENT
DTSTART;TZID=Europe/Prague:20280511T103000
DTEND;TZID=Europe/Prague:20280511T123000
DTSTAMP:20260422T010955
CREATED:20250103T080648Z
LAST-MODIFIED:20260311T102915Z
UID:10008921-1841653800-1841661000@iwa-prague.com
SUMMARY:Coffee At My Place
DESCRIPTION:
URL:https://iwa-prague.com/event/coffee-at-my-place-2/2028-05-11/
CATEGORIES:Social Groups
ATTACH;FMTTYPE=image/jpeg:https://iwa-prague.com/wp-content/uploads/2024/09/CAMP-Oct-2022-scaled.jpg
ORGANIZER;CN="Caroline Davies":MAILTO:coffee@iwa-prague.com
END:VEVENT
BEGIN:VEVENT
DTSTART;TZID=Europe/Prague:20280608T103000
DTEND;TZID=Europe/Prague:20280608T123000
DTSTAMP:20260422T010955
CREATED:20250103T080648Z
LAST-MODIFIED:20260311T102915Z
UID:10008922-1844073000-1844080200@iwa-prague.com
SUMMARY:Coffee At My Place
DESCRIPTION:
URL:https://iwa-prague.com/event/coffee-at-my-place-2/2028-06-08/
CATEGORIES:Social Groups
ATTACH;FMTTYPE=image/jpeg:https://iwa-prague.com/wp-content/uploads/2024/09/CAMP-Oct-2022-scaled.jpg
ORGANIZER;CN="Caroline Davies":MAILTO:coffee@iwa-prague.com
END:VEVENT
BEGIN:VEVENT
DTSTART;TZID=Europe/Prague:20280713T103000
DTEND;TZID=Europe/Prague:20280713T123000
DTSTAMP:20260422T010955
CREATED:20250103T080648Z
LAST-MODIFIED:20260311T102915Z
UID:10008923-1847097000-1847104200@iwa-prague.com
SUMMARY:Coffee At My Place
DESCRIPTION:
URL:https://iwa-prague.com/event/coffee-at-my-place-2/2028-07-13/
CATEGORIES:Social Groups
ATTACH;FMTTYPE=image/jpeg:https://iwa-prague.com/wp-content/uploads/2024/09/CAMP-Oct-2022-scaled.jpg
ORGANIZER;CN="Caroline Davies":MAILTO:coffee@iwa-prague.com
END:VEVENT
BEGIN:VEVENT
DTSTART;TZID=Europe/Prague:20280810T103000
DTEND;TZID=Europe/Prague:20280810T123000
DTSTAMP:20260422T010955
CREATED:20250103T080648Z
LAST-MODIFIED:20260311T102915Z
UID:10008924-1849516200-1849523400@iwa-prague.com
SUMMARY:Coffee At My Place
DESCRIPTION:
URL:https://iwa-prague.com/event/coffee-at-my-place-2/2028-08-10/
CATEGORIES:Social Groups
ATTACH;FMTTYPE=image/jpeg:https://iwa-prague.com/wp-content/uploads/2024/09/CAMP-Oct-2022-scaled.jpg
ORGANIZER;CN="Caroline Davies":MAILTO:coffee@iwa-prague.com
END:VEVENT
BEGIN:VEVENT
DTSTART;TZID=Europe/Prague:20280914T103000
DTEND;TZID=Europe/Prague:20280914T123000
DTSTAMP:20260422T010955
CREATED:20250103T080648Z
LAST-MODIFIED:20260311T102915Z
UID:10008925-1852540200-1852547400@iwa-prague.com
SUMMARY:Coffee At My Place
DESCRIPTION:
URL:https://iwa-prague.com/event/coffee-at-my-place-2/2028-09-14/
CATEGORIES:Social Groups
ATTACH;FMTTYPE=image/jpeg:https://iwa-prague.com/wp-content/uploads/2024/09/CAMP-Oct-2022-scaled.jpg
ORGANIZER;CN="Caroline Davies":MAILTO:coffee@iwa-prague.com
END:VEVENT
BEGIN:VEVENT
DTSTART;TZID=Europe/Prague:20281012T103000
DTEND;TZID=Europe/Prague:20281012T123000
DTSTAMP:20260422T010955
CREATED:20250103T080648Z
LAST-MODIFIED:20260311T102915Z
UID:10008926-1854959400-1854966600@iwa-prague.com
SUMMARY:Coffee At My Place
DESCRIPTION:
URL:https://iwa-prague.com/event/coffee-at-my-place-2/2028-10-12/
CATEGORIES:Social Groups
ATTACH;FMTTYPE=image/jpeg:https://iwa-prague.com/wp-content/uploads/2024/09/CAMP-Oct-2022-scaled.jpg
ORGANIZER;CN="Caroline Davies":MAILTO:coffee@iwa-prague.com
END:VEVENT
BEGIN:VEVENT
DTSTART;TZID=Europe/Prague:20281109T103000
DTEND;TZID=Europe/Prague:20281109T123000
DTSTAMP:20260422T010955
CREATED:20250103T080648Z
LAST-MODIFIED:20260311T102915Z
UID:10008927-1857378600-1857385800@iwa-prague.com
SUMMARY:Coffee At My Place
DESCRIPTION:
URL:https://iwa-prague.com/event/coffee-at-my-place-2/2028-11-09/
CATEGORIES:Social Groups
ATTACH;FMTTYPE=image/jpeg:https://iwa-prague.com/wp-content/uploads/2024/09/CAMP-Oct-2022-scaled.jpg
ORGANIZER;CN="Caroline Davies":MAILTO:coffee@iwa-prague.com
END:VEVENT
BEGIN:VEVENT
DTSTART;TZID=Europe/Prague:20281214T103000
DTEND;TZID=Europe/Prague:20281214T123000
DTSTAMP:20260422T010955
CREATED:20250103T080648Z
LAST-MODIFIED:20260311T102915Z
UID:10008928-1860402600-1860409800@iwa-prague.com
SUMMARY:Coffee At My Place
DESCRIPTION:
URL:https://iwa-prague.com/event/coffee-at-my-place-2/2028-12-14/
CATEGORIES:Social Groups
ATTACH;FMTTYPE=image/jpeg:https://iwa-prague.com/wp-content/uploads/2024/09/CAMP-Oct-2022-scaled.jpg
ORGANIZER;CN="Caroline Davies":MAILTO:coffee@iwa-prague.com
END:VEVENT
BEGIN:VEVENT
DTSTART;TZID=Europe/Prague:20290111T103000
DTEND;TZID=Europe/Prague:20290111T123000
DTSTAMP:20260422T010955
CREATED:20250103T080648Z
LAST-MODIFIED:20260311T102915Z
UID:10008929-1862821800-1862829000@iwa-prague.com
SUMMARY:Coffee At My Place
DESCRIPTION:
URL:https://iwa-prague.com/event/coffee-at-my-place-2/2029-01-11/
CATEGORIES:Social Groups
ATTACH;FMTTYPE=image/jpeg:https://iwa-prague.com/wp-content/uploads/2024/09/CAMP-Oct-2022-scaled.jpg
ORGANIZER;CN="Caroline Davies":MAILTO:coffee@iwa-prague.com
END:VEVENT
BEGIN:VEVENT
DTSTART;TZID=Europe/Prague:20290208T103000
DTEND;TZID=Europe/Prague:20290208T123000
DTSTAMP:20260422T010955
CREATED:20250103T080648Z
LAST-MODIFIED:20260311T102915Z
UID:10008930-1865241000-1865248200@iwa-prague.com
SUMMARY:Coffee At My Place
DESCRIPTION:
URL:https://iwa-prague.com/event/coffee-at-my-place-2/2029-02-08/
CATEGORIES:Social Groups
ATTACH;FMTTYPE=image/jpeg:https://iwa-prague.com/wp-content/uploads/2024/09/CAMP-Oct-2022-scaled.jpg
ORGANIZER;CN="Caroline Davies":MAILTO:coffee@iwa-prague.com
END:VEVENT
BEGIN:VEVENT
DTSTART;TZID=Europe/Prague:20290308T103000
DTEND;TZID=Europe/Prague:20290308T123000
DTSTAMP:20260422T010955
CREATED:20250103T080648Z
LAST-MODIFIED:20260311T102915Z
UID:10008931-1867660200-1867667400@iwa-prague.com
SUMMARY:Coffee At My Place
DESCRIPTION:
URL:https://iwa-prague.com/event/coffee-at-my-place-2/2029-03-08/
CATEGORIES:Social Groups
ATTACH;FMTTYPE=image/jpeg:https://iwa-prague.com/wp-content/uploads/2024/09/CAMP-Oct-2022-scaled.jpg
ORGANIZER;CN="Caroline Davies":MAILTO:coffee@iwa-prague.com
END:VEVENT
BEGIN:VEVENT
DTSTART;TZID=Europe/Prague:20290412T103000
DTEND;TZID=Europe/Prague:20290412T123000
DTSTAMP:20260422T010955
CREATED:20250103T080648Z
LAST-MODIFIED:20260311T102915Z
UID:10008932-1870684200-1870691400@iwa-prague.com
SUMMARY:Coffee At My Place
DESCRIPTION:
URL:https://iwa-prague.com/event/coffee-at-my-place-2/2029-04-12/
CATEGORIES:Social Groups
ATTACH;FMTTYPE=image/jpeg:https://iwa-prague.com/wp-content/uploads/2024/09/CAMP-Oct-2022-scaled.jpg
ORGANIZER;CN="Caroline Davies":MAILTO:coffee@iwa-prague.com
END:VEVENT
BEGIN:VEVENT
DTSTART;TZID=Europe/Prague:20290510T103000
DTEND;TZID=Europe/Prague:20290510T123000
DTSTAMP:20260422T010955
CREATED:20250103T080648Z
LAST-MODIFIED:20260311T102915Z
UID:10008933-1873103400-1873110600@iwa-prague.com
SUMMARY:Coffee At My Place
DESCRIPTION:
URL:https://iwa-prague.com/event/coffee-at-my-place-2/2029-05-10/
CATEGORIES:Social Groups
ATTACH;FMTTYPE=image/jpeg:https://iwa-prague.com/wp-content/uploads/2024/09/CAMP-Oct-2022-scaled.jpg
ORGANIZER;CN="Caroline Davies":MAILTO:coffee@iwa-prague.com
END:VEVENT
BEGIN:VEVENT
DTSTART;TZID=Europe/Prague:20290614T103000
DTEND;TZID=Europe/Prague:20290614T123000
DTSTAMP:20260422T010955
CREATED:20250103T080648Z
LAST-MODIFIED:20260311T102915Z
UID:10008934-1876127400-1876134600@iwa-prague.com
SUMMARY:Coffee At My Place
DESCRIPTION:
URL:https://iwa-prague.com/event/coffee-at-my-place-2/2029-06-14/
CATEGORIES:Social Groups
ATTACH;FMTTYPE=image/jpeg:https://iwa-prague.com/wp-content/uploads/2024/09/CAMP-Oct-2022-scaled.jpg
ORGANIZER;CN="Caroline Davies":MAILTO:coffee@iwa-prague.com
END:VEVENT
BEGIN:VEVENT
DTSTART;TZID=Europe/Prague:20290712T103000
DTEND;TZID=Europe/Prague:20290712T123000
DTSTAMP:20260422T010955
CREATED:20250103T080648Z
LAST-MODIFIED:20260311T102915Z
UID:10008935-1878546600-1878553800@iwa-prague.com
SUMMARY:Coffee At My Place
DESCRIPTION:
URL:https://iwa-prague.com/event/coffee-at-my-place-2/2029-07-12/
CATEGORIES:Social Groups
ATTACH;FMTTYPE=image/jpeg:https://iwa-prague.com/wp-content/uploads/2024/09/CAMP-Oct-2022-scaled.jpg
ORGANIZER;CN="Caroline Davies":MAILTO:coffee@iwa-prague.com
END:VEVENT
BEGIN:VEVENT
DTSTART;TZID=Europe/Prague:20290809T103000
DTEND;TZID=Europe/Prague:20290809T123000
DTSTAMP:20260422T010955
CREATED:20250103T080648Z
LAST-MODIFIED:20260311T102915Z
UID:10008936-1880965800-1880973000@iwa-prague.com
SUMMARY:Coffee At My Place
DESCRIPTION:
URL:https://iwa-prague.com/event/coffee-at-my-place-2/2029-08-09/
CATEGORIES:Social Groups
ATTACH;FMTTYPE=image/jpeg:https://iwa-prague.com/wp-content/uploads/2024/09/CAMP-Oct-2022-scaled.jpg
ORGANIZER;CN="Caroline Davies":MAILTO:coffee@iwa-prague.com
END:VEVENT
BEGIN:VEVENT
DTSTART;TZID=Europe/Prague:20290913T103000
DTEND;TZID=Europe/Prague:20290913T123000
DTSTAMP:20260422T010955
CREATED:20250103T080648Z
LAST-MODIFIED:20260311T102915Z
UID:10008937-1883989800-1883997000@iwa-prague.com
SUMMARY:Coffee At My Place
DESCRIPTION:
URL:https://iwa-prague.com/event/coffee-at-my-place-2/2029-09-13/
CATEGORIES:Social Groups
ATTACH;FMTTYPE=image/jpeg:https://iwa-prague.com/wp-content/uploads/2024/09/CAMP-Oct-2022-scaled.jpg
ORGANIZER;CN="Caroline Davies":MAILTO:coffee@iwa-prague.com
END:VEVENT
BEGIN:VEVENT
DTSTART;TZID=Europe/Prague:20291011T103000
DTEND;TZID=Europe/Prague:20291011T123000
DTSTAMP:20260422T010955
CREATED:20250103T080648Z
LAST-MODIFIED:20260311T102915Z
UID:10008938-1886409000-1886416200@iwa-prague.com
SUMMARY:Coffee At My Place
DESCRIPTION:
URL:https://iwa-prague.com/event/coffee-at-my-place-2/2029-10-11/
CATEGORIES:Social Groups
ATTACH;FMTTYPE=image/jpeg:https://iwa-prague.com/wp-content/uploads/2024/09/CAMP-Oct-2022-scaled.jpg
ORGANIZER;CN="Caroline Davies":MAILTO:coffee@iwa-prague.com
END:VEVENT
BEGIN:VEVENT
DTSTART;TZID=Europe/Prague:20291108T103000
DTEND;TZID=Europe/Prague:20291108T123000
DTSTAMP:20260422T010955
CREATED:20250103T080648Z
LAST-MODIFIED:20260311T102915Z
UID:10008939-1888828200-1888835400@iwa-prague.com
SUMMARY:Coffee At My Place
DESCRIPTION:
URL:https://iwa-prague.com/event/coffee-at-my-place-2/2029-11-08/
CATEGORIES:Social Groups
ATTACH;FMTTYPE=image/jpeg:https://iwa-prague.com/wp-content/uploads/2024/09/CAMP-Oct-2022-scaled.jpg
ORGANIZER;CN="Caroline Davies":MAILTO:coffee@iwa-prague.com
END:VEVENT
BEGIN:VEVENT
DTSTART;TZID=Europe/Prague:20291213T103000
DTEND;TZID=Europe/Prague:20291213T123000
DTSTAMP:20260422T010955
CREATED:20250103T080648Z
LAST-MODIFIED:20260311T102915Z
UID:10008940-1891852200-1891859400@iwa-prague.com
SUMMARY:Coffee At My Place
DESCRIPTION:
URL:https://iwa-prague.com/event/coffee-at-my-place-2/2029-12-13/
CATEGORIES:Social Groups
ATTACH;FMTTYPE=image/jpeg:https://iwa-prague.com/wp-content/uploads/2024/09/CAMP-Oct-2022-scaled.jpg
ORGANIZER;CN="Caroline Davies":MAILTO:coffee@iwa-prague.com
END:VEVENT
BEGIN:VEVENT
DTSTART;TZID=Europe/Prague:20300110T103000
DTEND;TZID=Europe/Prague:20300110T123000
DTSTAMP:20260422T010955
CREATED:20250103T080648Z
LAST-MODIFIED:20260311T102915Z
UID:10008941-1894271400-1894278600@iwa-prague.com
SUMMARY:Coffee At My Place
DESCRIPTION:
URL:https://iwa-prague.com/event/coffee-at-my-place-2/2030-01-10/
CATEGORIES:Social Groups
ATTACH;FMTTYPE=image/jpeg:https://iwa-prague.com/wp-content/uploads/2024/09/CAMP-Oct-2022-scaled.jpg
ORGANIZER;CN="Caroline Davies":MAILTO:coffee@iwa-prague.com
END:VEVENT
BEGIN:VEVENT
DTSTART;TZID=Europe/Prague:20300214T103000
DTEND;TZID=Europe/Prague:20300214T123000
DTSTAMP:20260422T010955
CREATED:20250103T080648Z
LAST-MODIFIED:20260311T102915Z
UID:10008942-1897295400-1897302600@iwa-prague.com
SUMMARY:Coffee At My Place
DESCRIPTION:
URL:https://iwa-prague.com/event/coffee-at-my-place-2/2030-02-14/
CATEGORIES:Social Groups
ATTACH;FMTTYPE=image/jpeg:https://iwa-prague.com/wp-content/uploads/2024/09/CAMP-Oct-2022-scaled.jpg
ORGANIZER;CN="Caroline Davies":MAILTO:coffee@iwa-prague.com
END:VEVENT
BEGIN:VEVENT
DTSTART;TZID=Europe/Prague:20300314T103000
DTEND;TZID=Europe/Prague:20300314T123000
DTSTAMP:20260422T010955
CREATED:20250103T080648Z
LAST-MODIFIED:20260311T102915Z
UID:10008943-1899714600-1899721800@iwa-prague.com
SUMMARY:Coffee At My Place
DESCRIPTION:
URL:https://iwa-prague.com/event/coffee-at-my-place-2/2030-03-14/
CATEGORIES:Social Groups
ATTACH;FMTTYPE=image/jpeg:https://iwa-prague.com/wp-content/uploads/2024/09/CAMP-Oct-2022-scaled.jpg
ORGANIZER;CN="Caroline Davies":MAILTO:coffee@iwa-prague.com
END:VEVENT
BEGIN:VEVENT
DTSTART;TZID=Europe/Prague:20300411T103000
DTEND;TZID=Europe/Prague:20300411T123000
DTSTAMP:20260422T010955
CREATED:20250103T080648Z
LAST-MODIFIED:20260311T102915Z
UID:10008944-1902133800-1902141000@iwa-prague.com
SUMMARY:Coffee At My Place
DESCRIPTION:
URL:https://iwa-prague.com/event/coffee-at-my-place-2/2030-04-11/
CATEGORIES:Social Groups
ATTACH;FMTTYPE=image/jpeg:https://iwa-prague.com/wp-content/uploads/2024/09/CAMP-Oct-2022-scaled.jpg
ORGANIZER;CN="Caroline Davies":MAILTO:coffee@iwa-prague.com
END:VEVENT
BEGIN:VEVENT
DTSTART;TZID=Europe/Prague:20300509T103000
DTEND;TZID=Europe/Prague:20300509T123000
DTSTAMP:20260422T010955
CREATED:20250103T080648Z
LAST-MODIFIED:20260311T102915Z
UID:10008945-1904553000-1904560200@iwa-prague.com
SUMMARY:Coffee At My Place
DESCRIPTION:
URL:https://iwa-prague.com/event/coffee-at-my-place-2/2030-05-09/
CATEGORIES:Social Groups
ATTACH;FMTTYPE=image/jpeg:https://iwa-prague.com/wp-content/uploads/2024/09/CAMP-Oct-2022-scaled.jpg
ORGANIZER;CN="Caroline Davies":MAILTO:coffee@iwa-prague.com
END:VEVENT
BEGIN:VEVENT
DTSTART;TZID=Europe/Prague:20300613T103000
DTEND;TZID=Europe/Prague:20300613T123000
DTSTAMP:20260422T010955
CREATED:20250103T080648Z
LAST-MODIFIED:20260311T102915Z
UID:10008946-1907577000-1907584200@iwa-prague.com
SUMMARY:Coffee At My Place
DESCRIPTION:
URL:https://iwa-prague.com/event/coffee-at-my-place-2/2030-06-13/
CATEGORIES:Social Groups
ATTACH;FMTTYPE=image/jpeg:https://iwa-prague.com/wp-content/uploads/2024/09/CAMP-Oct-2022-scaled.jpg
ORGANIZER;CN="Caroline Davies":MAILTO:coffee@iwa-prague.com
END:VEVENT
BEGIN:VEVENT
DTSTART;TZID=Europe/Prague:20300711T103000
DTEND;TZID=Europe/Prague:20300711T123000
DTSTAMP:20260422T010955
CREATED:20250103T080648Z
LAST-MODIFIED:20260311T102915Z
UID:10008947-1909996200-1910003400@iwa-prague.com
SUMMARY:Coffee At My Place
DESCRIPTION:
URL:https://iwa-prague.com/event/coffee-at-my-place-2/2030-07-11/
CATEGORIES:Social Groups
ATTACH;FMTTYPE=image/jpeg:https://iwa-prague.com/wp-content/uploads/2024/09/CAMP-Oct-2022-scaled.jpg
ORGANIZER;CN="Caroline Davies":MAILTO:coffee@iwa-prague.com
END:VEVENT
BEGIN:VEVENT
DTSTART;TZID=Europe/Prague:20300808T103000
DTEND;TZID=Europe/Prague:20300808T123000
DTSTAMP:20260422T010955
CREATED:20250103T080648Z
LAST-MODIFIED:20260311T102915Z
UID:10008948-1912415400-1912422600@iwa-prague.com
SUMMARY:Coffee At My Place
DESCRIPTION:
URL:https://iwa-prague.com/event/coffee-at-my-place-2/2030-08-08/
CATEGORIES:Social Groups
ATTACH;FMTTYPE=image/jpeg:https://iwa-prague.com/wp-content/uploads/2024/09/CAMP-Oct-2022-scaled.jpg
ORGANIZER;CN="Caroline Davies":MAILTO:coffee@iwa-prague.com
END:VEVENT
BEGIN:VEVENT
DTSTART;TZID=Europe/Prague:20300912T103000
DTEND;TZID=Europe/Prague:20300912T123000
DTSTAMP:20260422T010955
CREATED:20250103T080648Z
LAST-MODIFIED:20260311T102915Z
UID:10008949-1915439400-1915446600@iwa-prague.com
SUMMARY:Coffee At My Place
DESCRIPTION:
URL:https://iwa-prague.com/event/coffee-at-my-place-2/2030-09-12/
CATEGORIES:Social Groups
ATTACH;FMTTYPE=image/jpeg:https://iwa-prague.com/wp-content/uploads/2024/09/CAMP-Oct-2022-scaled.jpg
ORGANIZER;CN="Caroline Davies":MAILTO:coffee@iwa-prague.com
END:VEVENT
BEGIN:VEVENT
DTSTART;TZID=Europe/Prague:20301010T103000
DTEND;TZID=Europe/Prague:20301010T123000
DTSTAMP:20260422T010955
CREATED:20250103T080648Z
LAST-MODIFIED:20260311T102915Z
UID:10008950-1917858600-1917865800@iwa-prague.com
SUMMARY:Coffee At My Place
DESCRIPTION:
URL:https://iwa-prague.com/event/coffee-at-my-place-2/2030-10-10/
CATEGORIES:Social Groups
ATTACH;FMTTYPE=image/jpeg:https://iwa-prague.com/wp-content/uploads/2024/09/CAMP-Oct-2022-scaled.jpg
ORGANIZER;CN="Caroline Davies":MAILTO:coffee@iwa-prague.com
END:VEVENT
END:VCALENDAR