BEGIN:VCALENDAR
VERSION:2.0
PRODID:-//International Women&#039;s Association of Prague - ECPv6.15.20//NONSGML v1.0//EN
CALSCALE:GREGORIAN
METHOD:PUBLISH
X-ORIGINAL-URL:https://iwa-prague.com
X-WR-CALDESC:Events for International Women&#039;s Association of Prague
REFRESH-INTERVAL;VALUE=DURATION:PT1H
X-Robots-Tag:noindex
X-PUBLISHED-TTL:PT1H
BEGIN:VTIMEZONE
TZID:Europe/Prague
BEGIN:DAYLIGHT
TZOFFSETFROM:+0100
TZOFFSETTO:+0200
TZNAME:CEST
DTSTART:20250330T010000
END:DAYLIGHT
BEGIN:STANDARD
TZOFFSETFROM:+0200
TZOFFSETTO:+0100
TZNAME:CET
DTSTART:20251026T010000
END:STANDARD
BEGIN:DAYLIGHT
TZOFFSETFROM:+0100
TZOFFSETTO:+0200
TZNAME:CEST
DTSTART:20260329T010000
END:DAYLIGHT
BEGIN:STANDARD
TZOFFSETFROM:+0200
TZOFFSETTO:+0100
TZNAME:CET
DTSTART:20261025T010000
END:STANDARD
BEGIN:DAYLIGHT
TZOFFSETFROM:+0100
TZOFFSETTO:+0200
TZNAME:CEST
DTSTART:20270328T010000
END:DAYLIGHT
BEGIN:STANDARD
TZOFFSETFROM:+0200
TZOFFSETTO:+0100
TZNAME:CET
DTSTART:20271031T010000
END:STANDARD
END:VTIMEZONE
BEGIN:VEVENT
DTSTART;TZID=Europe/Prague:20260424T100000
DTEND;TZID=Europe/Prague:20260424T120000
DTSTAMP:20260421T161859
CREATED:20251212T150704Z
LAST-MODIFIED:20251218T074754Z
UID:10008634-1777024800-1777032000@iwa-prague.com
SUMMARY:Walking
DESCRIPTION:
URL:https://iwa-prague.com/event/walking1/2026-04-24/
CATEGORIES:Health & Wellness
ATTACH;FMTTYPE=image/jpeg:https://iwa-prague.com/wp-content/uploads/2019/05/WALKING-GROUP-009-OPT-FI.jpg
ORGANIZER;CN="Carmen Trankovsky":MAILTO:gallery@iwa-prague.com
END:VEVENT
BEGIN:VEVENT
DTSTART;TZID=Europe/Prague:20260501T100000
DTEND;TZID=Europe/Prague:20260501T120000
DTSTAMP:20260421T161859
CREATED:20251212T150704Z
LAST-MODIFIED:20251218T074754Z
UID:10008635-1777629600-1777636800@iwa-prague.com
SUMMARY:Walking
DESCRIPTION:
URL:https://iwa-prague.com/event/walking1/2026-05-01/
CATEGORIES:Health & Wellness
ATTACH;FMTTYPE=image/jpeg:https://iwa-prague.com/wp-content/uploads/2019/05/WALKING-GROUP-009-OPT-FI.jpg
ORGANIZER;CN="Carmen Trankovsky":MAILTO:gallery@iwa-prague.com
END:VEVENT
BEGIN:VEVENT
DTSTART;TZID=Europe/Prague:20260506T100000
DTEND;TZID=Europe/Prague:20260506T120000
DTSTAMP:20260421T161859
CREATED:20251212T150704Z
LAST-MODIFIED:20251218T074754Z
UID:10008636-1778061600-1778068800@iwa-prague.com
SUMMARY:Walking
DESCRIPTION:
URL:https://iwa-prague.com/event/walking1/2026-05-06/
CATEGORIES:Health & Wellness
ATTACH;FMTTYPE=image/jpeg:https://iwa-prague.com/wp-content/uploads/2019/05/WALKING-GROUP-009-OPT-FI.jpg
ORGANIZER;CN="Carmen Trankovsky":MAILTO:gallery@iwa-prague.com
END:VEVENT
BEGIN:VEVENT
DTSTART;TZID=Europe/Prague:20260515T100000
DTEND;TZID=Europe/Prague:20260515T120000
DTSTAMP:20260421T161859
CREATED:20251212T150704Z
LAST-MODIFIED:20251218T074754Z
UID:10008637-1778839200-1778846400@iwa-prague.com
SUMMARY:Walking
DESCRIPTION:
URL:https://iwa-prague.com/event/walking1/2026-05-15/
CATEGORIES:Health & Wellness
ATTACH;FMTTYPE=image/jpeg:https://iwa-prague.com/wp-content/uploads/2019/05/WALKING-GROUP-009-OPT-FI.jpg
ORGANIZER;CN="Carmen Trankovsky":MAILTO:gallery@iwa-prague.com
END:VEVENT
BEGIN:VEVENT
DTSTART;TZID=Europe/Prague:20260520T100000
DTEND;TZID=Europe/Prague:20260520T120000
DTSTAMP:20260421T161859
CREATED:20251212T150704Z
LAST-MODIFIED:20251218T074754Z
UID:10008638-1779271200-1779278400@iwa-prague.com
SUMMARY:Walking
DESCRIPTION:
URL:https://iwa-prague.com/event/walking1/2026-05-20/
CATEGORIES:Health & Wellness
ATTACH;FMTTYPE=image/jpeg:https://iwa-prague.com/wp-content/uploads/2019/05/WALKING-GROUP-009-OPT-FI.jpg
ORGANIZER;CN="Carmen Trankovsky":MAILTO:gallery@iwa-prague.com
END:VEVENT
BEGIN:VEVENT
DTSTART;TZID=Europe/Prague:20260529T100000
DTEND;TZID=Europe/Prague:20260529T120000
DTSTAMP:20260421T161859
CREATED:20251212T150704Z
LAST-MODIFIED:20251218T074754Z
UID:10008667-1780048800-1780056000@iwa-prague.com
SUMMARY:Walking
DESCRIPTION:
URL:https://iwa-prague.com/event/walking1/2026-05-29/
CATEGORIES:Health & Wellness
ATTACH;FMTTYPE=image/jpeg:https://iwa-prague.com/wp-content/uploads/2019/05/WALKING-GROUP-009-OPT-FI.jpg
ORGANIZER;CN="Carmen Trankovsky":MAILTO:gallery@iwa-prague.com
END:VEVENT
BEGIN:VEVENT
DTSTART;TZID=Europe/Prague:20260603T100000
DTEND;TZID=Europe/Prague:20260603T120000
DTSTAMP:20260421T161859
CREATED:20251212T150704Z
LAST-MODIFIED:20251218T074754Z
UID:10008668-1780480800-1780488000@iwa-prague.com
SUMMARY:Walking
DESCRIPTION:
URL:https://iwa-prague.com/event/walking1/2026-06-03/
CATEGORIES:Health & Wellness
ATTACH;FMTTYPE=image/jpeg:https://iwa-prague.com/wp-content/uploads/2019/05/WALKING-GROUP-009-OPT-FI.jpg
ORGANIZER;CN="Carmen Trankovsky":MAILTO:gallery@iwa-prague.com
END:VEVENT
BEGIN:VEVENT
DTSTART;TZID=Europe/Prague:20260610T100000
DTEND;TZID=Europe/Prague:20260610T120000
DTSTAMP:20260421T161859
CREATED:20251212T150704Z
LAST-MODIFIED:20251218T074754Z
UID:10008669-1781085600-1781092800@iwa-prague.com
SUMMARY:Walking
DESCRIPTION:
URL:https://iwa-prague.com/event/walking1/2026-06-10/
CATEGORIES:Health & Wellness
ATTACH;FMTTYPE=image/jpeg:https://iwa-prague.com/wp-content/uploads/2019/05/WALKING-GROUP-009-OPT-FI.jpg
ORGANIZER;CN="Carmen Trankovsky":MAILTO:gallery@iwa-prague.com
END:VEVENT
BEGIN:VEVENT
DTSTART;TZID=Europe/Prague:20260619T100000
DTEND;TZID=Europe/Prague:20260619T120000
DTSTAMP:20260421T161859
CREATED:20251212T150704Z
LAST-MODIFIED:20251218T074754Z
UID:10008670-1781863200-1781870400@iwa-prague.com
SUMMARY:Walking
DESCRIPTION:
URL:https://iwa-prague.com/event/walking1/2026-06-19/
CATEGORIES:Health & Wellness
ATTACH;FMTTYPE=image/jpeg:https://iwa-prague.com/wp-content/uploads/2019/05/WALKING-GROUP-009-OPT-FI.jpg
ORGANIZER;CN="Carmen Trankovsky":MAILTO:gallery@iwa-prague.com
END:VEVENT
BEGIN:VEVENT
DTSTART;TZID=Europe/Prague:20260626T100000
DTEND;TZID=Europe/Prague:20260626T120000
DTSTAMP:20260421T161859
CREATED:20251212T150704Z
LAST-MODIFIED:20251218T074754Z
UID:10008671-1782468000-1782475200@iwa-prague.com
SUMMARY:Walking
DESCRIPTION:
URL:https://iwa-prague.com/event/walking1/2026-06-26/
CATEGORIES:Health & Wellness
ATTACH;FMTTYPE=image/jpeg:https://iwa-prague.com/wp-content/uploads/2019/05/WALKING-GROUP-009-OPT-FI.jpg
ORGANIZER;CN="Carmen Trankovsky":MAILTO:gallery@iwa-prague.com
END:VEVENT
BEGIN:VEVENT
DTSTART;TZID=Europe/Prague:20260701T100000
DTEND;TZID=Europe/Prague:20260701T120000
DTSTAMP:20260421T161859
CREATED:20251212T150704Z
LAST-MODIFIED:20251218T074754Z
UID:10008672-1782900000-1782907200@iwa-prague.com
SUMMARY:Walking
DESCRIPTION:
URL:https://iwa-prague.com/event/walking1/2026-07-01/
CATEGORIES:Health & Wellness
ATTACH;FMTTYPE=image/jpeg:https://iwa-prague.com/wp-content/uploads/2019/05/WALKING-GROUP-009-OPT-FI.jpg
ORGANIZER;CN="Carmen Trankovsky":MAILTO:gallery@iwa-prague.com
END:VEVENT
BEGIN:VEVENT
DTSTART;TZID=Europe/Prague:20260708T100000
DTEND;TZID=Europe/Prague:20260708T120000
DTSTAMP:20260421T161859
CREATED:20251212T150704Z
LAST-MODIFIED:20251218T074754Z
UID:10008673-1783504800-1783512000@iwa-prague.com
SUMMARY:Walking
DESCRIPTION:
URL:https://iwa-prague.com/event/walking1/2026-07-08/
CATEGORIES:Health & Wellness
ATTACH;FMTTYPE=image/jpeg:https://iwa-prague.com/wp-content/uploads/2019/05/WALKING-GROUP-009-OPT-FI.jpg
ORGANIZER;CN="Carmen Trankovsky":MAILTO:gallery@iwa-prague.com
END:VEVENT
BEGIN:VEVENT
DTSTART;TZID=Europe/Prague:20260717T100000
DTEND;TZID=Europe/Prague:20260717T120000
DTSTAMP:20260421T161859
CREATED:20251212T150704Z
LAST-MODIFIED:20251218T074754Z
UID:10008674-1784282400-1784289600@iwa-prague.com
SUMMARY:Walking
DESCRIPTION:
URL:https://iwa-prague.com/event/walking1/2026-07-17/
CATEGORIES:Health & Wellness
ATTACH;FMTTYPE=image/jpeg:https://iwa-prague.com/wp-content/uploads/2019/05/WALKING-GROUP-009-OPT-FI.jpg
ORGANIZER;CN="Carmen Trankovsky":MAILTO:gallery@iwa-prague.com
END:VEVENT
BEGIN:VEVENT
DTSTART;TZID=Europe/Prague:20260724T100000
DTEND;TZID=Europe/Prague:20260724T120000
DTSTAMP:20260421T161859
CREATED:20251212T150704Z
LAST-MODIFIED:20251218T074754Z
UID:10008675-1784887200-1784894400@iwa-prague.com
SUMMARY:Walking
DESCRIPTION:
URL:https://iwa-prague.com/event/walking1/2026-07-24/
CATEGORIES:Health & Wellness
ATTACH;FMTTYPE=image/jpeg:https://iwa-prague.com/wp-content/uploads/2019/05/WALKING-GROUP-009-OPT-FI.jpg
ORGANIZER;CN="Carmen Trankovsky":MAILTO:gallery@iwa-prague.com
END:VEVENT
BEGIN:VEVENT
DTSTART;TZID=Europe/Prague:20260729T100000
DTEND;TZID=Europe/Prague:20260729T120000
DTSTAMP:20260421T161859
CREATED:20251212T150704Z
LAST-MODIFIED:20251218T074754Z
UID:10008676-1785319200-1785326400@iwa-prague.com
SUMMARY:Walking
DESCRIPTION:
URL:https://iwa-prague.com/event/walking1/2026-07-29/
CATEGORIES:Health & Wellness
ATTACH;FMTTYPE=image/jpeg:https://iwa-prague.com/wp-content/uploads/2019/05/WALKING-GROUP-009-OPT-FI.jpg
ORGANIZER;CN="Carmen Trankovsky":MAILTO:gallery@iwa-prague.com
END:VEVENT
BEGIN:VEVENT
DTSTART;TZID=Europe/Prague:20260805T100000
DTEND;TZID=Europe/Prague:20260805T120000
DTSTAMP:20260421T161859
CREATED:20251212T150704Z
LAST-MODIFIED:20251218T074754Z
UID:10008677-1785924000-1785931200@iwa-prague.com
SUMMARY:Walking
DESCRIPTION:
URL:https://iwa-prague.com/event/walking1/2026-08-05/
CATEGORIES:Health & Wellness
ATTACH;FMTTYPE=image/jpeg:https://iwa-prague.com/wp-content/uploads/2019/05/WALKING-GROUP-009-OPT-FI.jpg
ORGANIZER;CN="Carmen Trankovsky":MAILTO:gallery@iwa-prague.com
END:VEVENT
BEGIN:VEVENT
DTSTART;TZID=Europe/Prague:20260812T100000
DTEND;TZID=Europe/Prague:20260812T120000
DTSTAMP:20260421T161859
CREATED:20251212T150704Z
LAST-MODIFIED:20251218T074754Z
UID:10008678-1786528800-1786536000@iwa-prague.com
SUMMARY:Walking
DESCRIPTION:
URL:https://iwa-prague.com/event/walking1/2026-08-12/
CATEGORIES:Health & Wellness
ATTACH;FMTTYPE=image/jpeg:https://iwa-prague.com/wp-content/uploads/2019/05/WALKING-GROUP-009-OPT-FI.jpg
ORGANIZER;CN="Carmen Trankovsky":MAILTO:gallery@iwa-prague.com
END:VEVENT
BEGIN:VEVENT
DTSTART;TZID=Europe/Prague:20260821T100000
DTEND;TZID=Europe/Prague:20260821T120000
DTSTAMP:20260421T161859
CREATED:20251212T150704Z
LAST-MODIFIED:20251218T074754Z
UID:10008679-1787306400-1787313600@iwa-prague.com
SUMMARY:Walking
DESCRIPTION:
URL:https://iwa-prague.com/event/walking1/2026-08-21/
CATEGORIES:Health & Wellness
ATTACH;FMTTYPE=image/jpeg:https://iwa-prague.com/wp-content/uploads/2019/05/WALKING-GROUP-009-OPT-FI.jpg
ORGANIZER;CN="Carmen Trankovsky":MAILTO:gallery@iwa-prague.com
END:VEVENT
BEGIN:VEVENT
DTSTART;TZID=Europe/Prague:20260828T100000
DTEND;TZID=Europe/Prague:20260828T120000
DTSTAMP:20260421T161859
CREATED:20251212T150704Z
LAST-MODIFIED:20251218T074754Z
UID:10008680-1787911200-1787918400@iwa-prague.com
SUMMARY:Walking
DESCRIPTION:
URL:https://iwa-prague.com/event/walking1/2026-08-28/
CATEGORIES:Health & Wellness
ATTACH;FMTTYPE=image/jpeg:https://iwa-prague.com/wp-content/uploads/2019/05/WALKING-GROUP-009-OPT-FI.jpg
ORGANIZER;CN="Carmen Trankovsky":MAILTO:gallery@iwa-prague.com
END:VEVENT
BEGIN:VEVENT
DTSTART;TZID=Europe/Prague:20260902T100000
DTEND;TZID=Europe/Prague:20260902T120000
DTSTAMP:20260421T161859
CREATED:20251212T150704Z
LAST-MODIFIED:20251218T074754Z
UID:10008681-1788343200-1788350400@iwa-prague.com
SUMMARY:Walking
DESCRIPTION:
URL:https://iwa-prague.com/event/walking1/2026-09-02/
CATEGORIES:Health & Wellness
ATTACH;FMTTYPE=image/jpeg:https://iwa-prague.com/wp-content/uploads/2019/05/WALKING-GROUP-009-OPT-FI.jpg
ORGANIZER;CN="Carmen Trankovsky":MAILTO:gallery@iwa-prague.com
END:VEVENT
BEGIN:VEVENT
DTSTART;TZID=Europe/Prague:20260909T100000
DTEND;TZID=Europe/Prague:20260909T120000
DTSTAMP:20260421T161859
CREATED:20251212T150704Z
LAST-MODIFIED:20251218T074754Z
UID:10008682-1788948000-1788955200@iwa-prague.com
SUMMARY:Walking
DESCRIPTION:
URL:https://iwa-prague.com/event/walking1/2026-09-09/
CATEGORIES:Health & Wellness
ATTACH;FMTTYPE=image/jpeg:https://iwa-prague.com/wp-content/uploads/2019/05/WALKING-GROUP-009-OPT-FI.jpg
ORGANIZER;CN="Carmen Trankovsky":MAILTO:gallery@iwa-prague.com
END:VEVENT
BEGIN:VEVENT
DTSTART;TZID=Europe/Prague:20260918T100000
DTEND;TZID=Europe/Prague:20260918T120000
DTSTAMP:20260421T161859
CREATED:20251212T150704Z
LAST-MODIFIED:20251218T074754Z
UID:10008683-1789725600-1789732800@iwa-prague.com
SUMMARY:Walking
DESCRIPTION:
URL:https://iwa-prague.com/event/walking1/2026-09-18/
CATEGORIES:Health & Wellness
ATTACH;FMTTYPE=image/jpeg:https://iwa-prague.com/wp-content/uploads/2019/05/WALKING-GROUP-009-OPT-FI.jpg
ORGANIZER;CN="Carmen Trankovsky":MAILTO:gallery@iwa-prague.com
END:VEVENT
BEGIN:VEVENT
DTSTART;TZID=Europe/Prague:20260925T100000
DTEND;TZID=Europe/Prague:20260925T120000
DTSTAMP:20260421T161859
CREATED:20251212T150704Z
LAST-MODIFIED:20251218T074754Z
UID:10008684-1790330400-1790337600@iwa-prague.com
SUMMARY:Walking
DESCRIPTION:
URL:https://iwa-prague.com/event/walking1/2026-09-25/
CATEGORIES:Health & Wellness
ATTACH;FMTTYPE=image/jpeg:https://iwa-prague.com/wp-content/uploads/2019/05/WALKING-GROUP-009-OPT-FI.jpg
ORGANIZER;CN="Carmen Trankovsky":MAILTO:gallery@iwa-prague.com
END:VEVENT
BEGIN:VEVENT
DTSTART;TZID=Europe/Prague:20261002T100000
DTEND;TZID=Europe/Prague:20261002T120000
DTSTAMP:20260421T161859
CREATED:20251212T150704Z
LAST-MODIFIED:20251218T074754Z
UID:10008685-1790935200-1790942400@iwa-prague.com
SUMMARY:Walking
DESCRIPTION:
URL:https://iwa-prague.com/event/walking1/2026-10-02/
CATEGORIES:Health & Wellness
ATTACH;FMTTYPE=image/jpeg:https://iwa-prague.com/wp-content/uploads/2019/05/WALKING-GROUP-009-OPT-FI.jpg
ORGANIZER;CN="Carmen Trankovsky":MAILTO:gallery@iwa-prague.com
END:VEVENT
BEGIN:VEVENT
DTSTART;TZID=Europe/Prague:20261007T100000
DTEND;TZID=Europe/Prague:20261007T120000
DTSTAMP:20260421T161859
CREATED:20251212T150704Z
LAST-MODIFIED:20251218T074754Z
UID:10008686-1791367200-1791374400@iwa-prague.com
SUMMARY:Walking
DESCRIPTION:
URL:https://iwa-prague.com/event/walking1/2026-10-07/
CATEGORIES:Health & Wellness
ATTACH;FMTTYPE=image/jpeg:https://iwa-prague.com/wp-content/uploads/2019/05/WALKING-GROUP-009-OPT-FI.jpg
ORGANIZER;CN="Carmen Trankovsky":MAILTO:gallery@iwa-prague.com
END:VEVENT
BEGIN:VEVENT
DTSTART;TZID=Europe/Prague:20261016T100000
DTEND;TZID=Europe/Prague:20261016T120000
DTSTAMP:20260421T161859
CREATED:20251212T150704Z
LAST-MODIFIED:20251218T074754Z
UID:10008687-1792144800-1792152000@iwa-prague.com
SUMMARY:Walking
DESCRIPTION:
URL:https://iwa-prague.com/event/walking1/2026-10-16/
CATEGORIES:Health & Wellness
ATTACH;FMTTYPE=image/jpeg:https://iwa-prague.com/wp-content/uploads/2019/05/WALKING-GROUP-009-OPT-FI.jpg
ORGANIZER;CN="Carmen Trankovsky":MAILTO:gallery@iwa-prague.com
END:VEVENT
BEGIN:VEVENT
DTSTART;TZID=Europe/Prague:20261021T100000
DTEND;TZID=Europe/Prague:20261021T120000
DTSTAMP:20260421T161859
CREATED:20251212T150704Z
LAST-MODIFIED:20251218T074754Z
UID:10008688-1792576800-1792584000@iwa-prague.com
SUMMARY:Walking
DESCRIPTION:
URL:https://iwa-prague.com/event/walking1/2026-10-21/
CATEGORIES:Health & Wellness
ATTACH;FMTTYPE=image/jpeg:https://iwa-prague.com/wp-content/uploads/2019/05/WALKING-GROUP-009-OPT-FI.jpg
ORGANIZER;CN="Carmen Trankovsky":MAILTO:gallery@iwa-prague.com
END:VEVENT
BEGIN:VEVENT
DTSTART;TZID=Europe/Prague:20261030T100000
DTEND;TZID=Europe/Prague:20261030T120000
DTSTAMP:20260421T161859
CREATED:20251212T150704Z
LAST-MODIFIED:20251218T074754Z
UID:10008689-1793354400-1793361600@iwa-prague.com
SUMMARY:Walking
DESCRIPTION:
URL:https://iwa-prague.com/event/walking1/2026-10-30/
CATEGORIES:Health & Wellness
ATTACH;FMTTYPE=image/jpeg:https://iwa-prague.com/wp-content/uploads/2019/05/WALKING-GROUP-009-OPT-FI.jpg
ORGANIZER;CN="Carmen Trankovsky":MAILTO:gallery@iwa-prague.com
END:VEVENT
BEGIN:VEVENT
DTSTART;TZID=Europe/Prague:20261104T100000
DTEND;TZID=Europe/Prague:20261104T120000
DTSTAMP:20260421T161859
CREATED:20251212T150704Z
LAST-MODIFIED:20251218T074754Z
UID:10008690-1793786400-1793793600@iwa-prague.com
SUMMARY:Walking
DESCRIPTION:
URL:https://iwa-prague.com/event/walking1/2026-11-04/
CATEGORIES:Health & Wellness
ATTACH;FMTTYPE=image/jpeg:https://iwa-prague.com/wp-content/uploads/2019/05/WALKING-GROUP-009-OPT-FI.jpg
ORGANIZER;CN="Carmen Trankovsky":MAILTO:gallery@iwa-prague.com
END:VEVENT
BEGIN:VEVENT
DTSTART;TZID=Europe/Prague:20261111T100000
DTEND;TZID=Europe/Prague:20261111T120000
DTSTAMP:20260421T161859
CREATED:20251212T150704Z
LAST-MODIFIED:20251218T074754Z
UID:10008691-1794391200-1794398400@iwa-prague.com
SUMMARY:Walking
DESCRIPTION:
URL:https://iwa-prague.com/event/walking1/2026-11-11/
CATEGORIES:Health & Wellness
ATTACH;FMTTYPE=image/jpeg:https://iwa-prague.com/wp-content/uploads/2019/05/WALKING-GROUP-009-OPT-FI.jpg
ORGANIZER;CN="Carmen Trankovsky":MAILTO:gallery@iwa-prague.com
END:VEVENT
END:VCALENDAR